Back to Multiple platform build/check report for BioC 3.15
ABCDEFGH[I]JKLMNOPQRSTUVWXYZ

This page was generated on 2022-01-25 11:07:31 -0500 (Tue, 25 Jan 2022).

HostnameOSArch (*)R versionInstalled pkgs
nebbiolo1Linux (Ubuntu 20.04.4 LTS)x86_64R Under development (unstable) (2022-01-05 r81451) -- "Unsuffered Consequences" 4164
riesling1Windows Server 2019 Standardx64R Under development (unstable) (2021-11-21 r81221) -- "Unsuffered Consequences" 4059
palomino3Windows Server 2022 Datacenterx64R Under development (unstable) (2021-12-21 r81400 ucrt) -- "Unsuffered Consequences" 4001
merida1macOS 10.14.6 Mojavex86_64R Under development (unstable) (2022-01-05 r81451) -- "Unsuffered Consequences" 4118
Click on any hostname to see more info about the system (e.g. compilers)      (*) as reported by 'uname -p', except on Windows and Mac OS X

BUILD BIN results for interactiveDisplay on riesling1


To the developers/maintainers of the interactiveDisplay package:
- Please allow up to 24 hours (and sometimes 48 hours) for your latest push to git@git.bioconductor.org:packages/interactiveDisplay.git to
reflect on this report. See How and When does the builder pull? When will my changes propagate? here for more information.
- Make sure to use the following settings in order to reproduce any error or warning you see on this page.

raw results

Package 940/2075HostnameOS / ArchINSTALLBUILDCHECKBUILD BIN
interactiveDisplay 1.33.1  (landing page)
Bioconductor Package Maintainer
Snapshot Date: 2022-01-24 13:55:18 -0500 (Mon, 24 Jan 2022)
git_url: https://git.bioconductor.org/packages/interactiveDisplay
git_branch: master
git_last_commit: 87b1377
git_last_commit_date: 2021-11-17 09:09:27 -0500 (Wed, 17 Nov 2021)
nebbiolo1Linux (Ubuntu 20.04.4 LTS) / x86_64  OK    OK    OK  UNNEEDED, same version is already published
riesling1Windows Server 2019 Standard / x64  OK    OK    OK    OK  
palomino3Windows Server 2022 Datacenter / x64  OK    OK    OK    OK  NO, package depends on 'BiocGenerics' which is not available
merida1macOS 10.14.6 Mojave / x86_64  OK    OK    OK    OK  UNNEEDED, same version is already published

Summary

Package: interactiveDisplay
Version: 1.33.1
Command: rm -rf interactiveDisplay.buildbin-libdir && mkdir interactiveDisplay.buildbin-libdir && D:\biocbuild\bbs-3.15-bioc\R\bin\R.exe CMD INSTALL --build --library=interactiveDisplay.buildbin-libdir interactiveDisplay_1.33.1.tar.gz
StartedAt: 2022-01-24 20:58:42 -0500 (Mon, 24 Jan 2022)
EndedAt: 2022-01-24 20:59:52 -0500 (Mon, 24 Jan 2022)
EllapsedTime: 69.7 seconds
RetCode: 0
Status:   OK  
PackageFile: interactiveDisplay_1.33.1.zip
PackageFileSize: 2.485 MiB

Command output

##############################################################################
##############################################################################
###
### Running command:
###
###   rm -rf interactiveDisplay.buildbin-libdir && mkdir interactiveDisplay.buildbin-libdir && D:\biocbuild\bbs-3.15-bioc\R\bin\R.exe CMD INSTALL --build --library=interactiveDisplay.buildbin-libdir interactiveDisplay_1.33.1.tar.gz
###
##############################################################################
##############################################################################


* installing *source* package 'interactiveDisplay' ...
** using staged installation
** R
** data
** inst
** byte-compile and prepare package for lazy loading
in method for 'display' with signature 'object="GRanges"': no definition for class "GRanges"
in method for 'display' with signature 'object="GRangesList"': no definition for class "GRangesList"
in method for 'display' with signature 'object="RangedSummarizedExperiment"': no definition for class "RangedSummarizedExperiment"
in method for 'display' with signature 'object="MRexperiment"': no definition for class "MRexperiment"
** help
*** installing help indices
  converting help for package 'interactiveDisplay'
    finding HTML links ... done
    altgr                                   html  
    bicgo                                   html  
    expr                                    html  
    gridsvgjs                               html  
    gridtweak                               html  
    interactiveDisplay-methods              html  
    mmgr                                    html  
    mmgrl                                   html  
    se                                      html  
    simplenet                               html  
** building package indices
** installing vignettes
** testing if installed package can be loaded from temporary location
** testing if installed package can be loaded from final location
** testing if installed package keeps a record of temporary installation path
* MD5 sums
packaged installation of 'interactiveDisplay' as interactiveDisplay_1.33.1.zip
* DONE (interactiveDisplay)