Back to Multiple platform build/check report for BioC 3.15
ABCDEFGH[I]JKLMNOPQRSTUVWXYZ

This page was generated on 2022-01-24 11:11:19 -0500 (Mon, 24 Jan 2022).

HostnameOSArch (*)R versionInstalled pkgs
nebbiolo1Linux (Ubuntu 20.04.4 LTS)x86_64R Under development (unstable) (2022-01-05 r81451) -- "Unsuffered Consequences" 4163
riesling1Windows Server 2019 Standardx64R Under development (unstable) (2021-11-21 r81221) -- "Unsuffered Consequences" 4058
palomino3Windows Server 2022 Datacenterx64R Under development (unstable) (2021-12-21 r81400 ucrt) -- "Unsuffered Consequences" 4000
merida1macOS 10.14.6 Mojavex86_64R Under development (unstable) (2022-01-05 r81451) -- "Unsuffered Consequences" 4117
Click on any hostname to see more info about the system (e.g. compilers)      (*) as reported by 'uname -p', except on Windows and Mac OS X

CHECK results for interactiveDisplay on merida1


To the developers/maintainers of the interactiveDisplay package:
- Please allow up to 24 hours (and sometimes 48 hours) for your latest push to git@git.bioconductor.org:packages/interactiveDisplay.git to
reflect on this report. See How and When does the builder pull? When will my changes propagate? here for more information.
- Make sure to use the following settings in order to reproduce any error or warning you see on this page.

raw results

Package 940/2075HostnameOS / ArchINSTALLBUILDCHECKBUILD BIN
interactiveDisplay 1.33.1  (landing page)
Bioconductor Package Maintainer
Snapshot Date: 2022-01-23 13:55:15 -0500 (Sun, 23 Jan 2022)
git_url: https://git.bioconductor.org/packages/interactiveDisplay
git_branch: master
git_last_commit: 87b1377
git_last_commit_date: 2021-11-17 09:09:27 -0500 (Wed, 17 Nov 2021)
nebbiolo1Linux (Ubuntu 20.04.4 LTS) / x86_64  OK    OK    OK  UNNEEDED, same version is already published
riesling1Windows Server 2019 Standard / x64  OK    OK    OK    OK  
palomino3Windows Server 2022 Datacenter / x64  OK    OK    OK    OK  NO, package depends on 'BiocGenerics' which is not available
merida1macOS 10.14.6 Mojave / x86_64  OK    OK    OK    OK  UNNEEDED, same version is already published

Summary

Package: interactiveDisplay
Version: 1.33.1
Command: /Library/Frameworks/R.framework/Resources/bin/R CMD check --install=check:interactiveDisplay.install-out.txt --library=/Library/Frameworks/R.framework/Resources/library --no-vignettes --timings interactiveDisplay_1.33.1.tar.gz
StartedAt: 2022-01-24 02:02:18 -0500 (Mon, 24 Jan 2022)
EndedAt: 2022-01-24 02:06:40 -0500 (Mon, 24 Jan 2022)
EllapsedTime: 261.7 seconds
RetCode: 0
Status:   OK  
CheckDir: interactiveDisplay.Rcheck
Warnings: 0

Command output

##############################################################################
##############################################################################
###
### Running command:
###
###   /Library/Frameworks/R.framework/Resources/bin/R CMD check --install=check:interactiveDisplay.install-out.txt --library=/Library/Frameworks/R.framework/Resources/library --no-vignettes --timings interactiveDisplay_1.33.1.tar.gz
###
##############################################################################
##############################################################################


* using log directory ‘/Users/biocbuild/bbs-3.15-bioc/meat/interactiveDisplay.Rcheck’
* using R Under development (unstable) (2022-01-05 r81451)
* using platform: x86_64-apple-darwin17.0 (64-bit)
* using session charset: UTF-8
* using option ‘--no-vignettes’
* checking for file ‘interactiveDisplay/DESCRIPTION’ ... OK
* checking extension type ... Package
* this is package ‘interactiveDisplay’ version ‘1.33.1’
* checking package namespace information ... OK
* checking package dependencies ... NOTE
Package which this enhances but not available for checking: ‘rstudio’
* checking if this is a source package ... OK
* checking if there is a namespace ... OK
* checking for hidden files and directories ... NOTE
Found the following hidden files and directories:
  .git_fetch_output.txt
  .git_merge_output.txt
These were most likely included in error. See section ‘Package
structure’ in the ‘Writing R Extensions’ manual.
* checking for portable file names ... OK
* checking for sufficient/correct file permissions ... OK
* checking whether package ‘interactiveDisplay’ can be installed ... OK
* checking installed package size ... OK
* checking package directory ... OK
* checking ‘build’ directory ... OK
* checking DESCRIPTION meta-information ... OK
* checking top-level files ... OK
* checking for left-over files ... OK
* checking index information ... OK
* checking package subdirectories ... OK
* checking R files for non-ASCII characters ... OK
* checking R files for syntax errors ... OK
* checking whether the package can be loaded ... OK
* checking whether the package can be loaded with stated dependencies ... OK
* checking whether the package can be unloaded cleanly ... OK
* checking whether the namespace can be loaded with stated dependencies ... OK
* checking whether the namespace can be unloaded cleanly ... OK
* checking dependencies in R code ... OK
* checking S3 generic/method consistency ... OK
* checking replacement functions ... OK
* checking foreign function calls ... OK
* checking R code for possible problems ... NOTE
.altgr : <anonymous>: no visible global function definition for
  ‘elementMetadata’
.altgr : <anonymous>: no visible global function definition for
  ‘seqlevels<-’
.bicgo : <anonymous>: no visible binding for global variable ‘GO.db’
.bicgo : <anonymous>: no visible global function definition for ‘exprs’
.bicgo : <anonymous>: no visible global function definition for
  ‘cutree’
.bicgo : <anonymous>: no visible global function definition for
  ‘hclust’
.bicgo : <anonymous>: no visible global function definition for ‘dist’
.bicgo : <anonymous>: no visible global function definition for ‘cim’
.choose_gen: no visible global function definition for ‘ucscGenomes’
.simplenet : <anonymous>: no visible global function definition for
  ‘cutree’
.simplenet : <anonymous>: no visible global function definition for
  ‘rainbow’
.simplenet : <anonymous> : hc: no visible global function definition
  for ‘hclust’
.simplenet : <anonymous> : hc: no visible global function definition
  for ‘dist’
.simplenet : <anonymous> : dm: no visible global function definition
  for ‘dist’
.usePackage: no visible global function definition for
  ‘installed.packages’
ggheat: no visible global function definition for ‘colorRampPalette’
ggheat: no visible binding for global variable ‘Var2’
ggheat: no visible binding for global variable ‘Var1’
ggheat: no visible binding for global variable ‘value’
ggheat: no visible global function definition for ‘coord_flip’
grid2jssvg: no visible global function definition for ‘png’
grid2jssvg: no visible global function definition for ‘dev.off’
subgr: no visible global function definition for ‘seqnames’
subgr: no visible global function definition for ‘seqlevels<-’
subgr: no visible global function definition for ‘ranges’
subgr2: no visible global function definition for ‘seqnames’
subgr2: no visible global function definition for ‘seqlevels<-’
subgr2: no visible global function definition for ‘ranges’
display,ExpressionSet : <anonymous>: no visible global function
  definition for ‘exprs’
display,ExpressionSet : <anonymous>: no visible global function
  definition for ‘experimentData’
display,ExpressionSet : <anonymous>: no visible binding for global
  variable ‘GO.db’
display,ExpressionSet : <anonymous>: no visible global function
  definition for ‘cutree’
display,ExpressionSet : <anonymous>: no visible global function
  definition for ‘rainbow’
display,ExpressionSet : <anonymous> : hc: no visible global function
  definition for ‘hclust’
display,ExpressionSet : <anonymous> : hc: no visible global function
  definition for ‘dist’
display,ExpressionSet : <anonymous> : dm: no visible global function
  definition for ‘dist’
display,ExpressionSet : <anonymous>: no visible global function
  definition for ‘as.dendrogram’
display,ExpressionSet : <anonymous> : <local> : <anonymous>: no visible
  global function definition for ‘is.leaf’
display,ExpressionSet : <anonymous>: no visible global function
  definition for ‘dendrapply’
display,GRanges: no visible global function definition for ‘mcols’
display,GRanges : <anonymous>: no visible global function definition
  for ‘AnnotationTrack’
display,GRanges : <anonymous>: no visible global function definition
  for ‘GenomeAxisTrack’
display,GRanges : <anonymous>: no visible global function definition
  for ‘IdeogramTrack’
display,GRanges : <anonymous>: no visible global function definition
  for ‘plotTracks’
display,GRanges : <anonymous>: no visible global function definition
  for ‘layout_circle’
display,GRanges : <anonymous>: no visible binding for global variable
  ‘seqnames’
display,GRanges : <anonymous>: no visible global function definition
  for ‘seqnames’
display,GRanges : <anonymous>: no visible global function definition
  for ‘ranges’
display,GRanges : <anonymous>: no visible global function definition
  for ‘ucscGenomes’
display,GRanges : <anonymous>: no visible global function definition
  for ‘GRanges’
display,GRanges : <anonymous>: no visible global function definition
  for ‘IRanges’
display,GRanges : <anonymous>: no visible global function definition
  for ‘seqlengths<-’
display,GRanges : <anonymous>: no visible global function definition
  for ‘seqlengths’
display,GRangesList : <anonymous>: no visible global function
  definition for ‘mcols’
display,GRangesList : <anonymous>: no visible global function
  definition for ‘AnnotationTrack’
display,GRangesList : <anonymous>: no visible global function
  definition for ‘GenomeAxisTrack’
display,GRangesList : <anonymous>: no visible global function
  definition for ‘IdeogramTrack’
display,GRangesList : <anonymous>: no visible global function
  definition for ‘plotTracks’
display,GRangesList : <anonymous>: no visible global function
  definition for ‘layout_circle’
display,GRangesList : <anonymous>: no visible binding for global
  variable ‘seqnames’
display,GRangesList : <anonymous>: no visible global function
  definition for ‘seqnames’
display,GRangesList : <anonymous>: no visible global function
  definition for ‘ranges’
display,GRangesList : <anonymous>: no visible global function
  definition for ‘ucscGenomes’
display,GRangesList : <anonymous>: no visible global function
  definition for ‘GRanges’
display,GRangesList : <anonymous>: no visible global function
  definition for ‘IRanges’
display,GRangesList : <anonymous>: no visible global function
  definition for ‘seqlengths<-’
display,GRangesList : <anonymous>: no visible global function
  definition for ‘seqlengths’
display,GRangesList : <anonymous>: no visible global function
  definition for ‘GRangesList’
display,MRexperiment : <anonymous>: no visible global function
  definition for ‘MRcounts’
display,MRexperiment : <anonymous>: no visible global function
  definition for ‘pData’
display,MRexperiment : <anonymous>: no visible global function
  definition for ‘colorRampPalette’
display,MRexperiment : <anonymous>: no visible global function
  definition for ‘legend’
display,MRexperiment : <anonymous>: no visible global function
  definition for ‘plotFeature’
display,MRexperiment : <anonymous>: no visible global function
  definition for ‘plotOrd’
display,MRexperiment : <anonymous>: no visible global function
  definition for ‘libSize’
display,MRexperiment : <anonymous>: no visible global function
  definition for ‘fData’
display,RangedSummarizedExperiment : <anonymous>: no visible global
  function definition for ‘seqnames’
display,RangedSummarizedExperiment : <anonymous>: no visible global
  function definition for ‘rowRanges’
display,RangedSummarizedExperiment : <anonymous>: no visible global
  function definition for ‘assays’
display,RangedSummarizedExperiment : <anonymous>: no visible global
  function definition for ‘colorRampPalette’
display,RangedSummarizedExperiment : <anonymous>: no visible binding
  for global variable ‘Var1’
display,RangedSummarizedExperiment : <anonymous>: no visible binding
  for global variable ‘Var2’
display,RangedSummarizedExperiment : <anonymous>: no visible binding
  for global variable ‘value’
Undefined global functions or variables:
  AnnotationTrack GO.db GRanges GRangesList GenomeAxisTrack IRanges
  IdeogramTrack MRcounts Var1 Var2 as.dendrogram assays cim
  colorRampPalette coord_flip cutree dendrapply dev.off dist
  elementMetadata experimentData exprs fData hclust installed.packages
  is.leaf layout_circle legend libSize mcols pData plotFeature plotOrd
  plotTracks png rainbow ranges rowRanges seqlengths seqlengths<-
  seqlevels<- seqnames ucscGenomes value
Consider adding
  importFrom("grDevices", "colorRampPalette", "dev.off", "png",
             "rainbow")
  importFrom("graphics", "legend")
  importFrom("stats", "as.dendrogram", "cutree", "dendrapply", "dist",
             "hclust", "is.leaf")
  importFrom("utils", "installed.packages")
to your NAMESPACE file.
* checking Rd files ... OK
* checking Rd metadata ... OK
* checking Rd cross-references ... OK
* checking for missing documentation entries ... OK
* checking for code/documentation mismatches ... OK
* checking Rd \usage sections ... OK
* checking Rd contents ... OK
* checking for unstated dependencies in examples ... OK
* checking contents of ‘data’ directory ... OK
* checking data for non-ASCII characters ... OK
* checking data for ASCII and uncompressed saves ... OK
* checking sizes of PDF files under ‘inst/doc’ ... OK
* checking files in ‘vignettes’ ... OK
* checking examples ... OK
* checking for unstated dependencies in vignettes ... OK
* checking package vignettes in ‘inst/doc’ ... OK
* checking running R code from vignettes ... SKIPPED
* checking re-building of vignette outputs ... SKIPPED
* checking PDF version of manual ... OK
* DONE

Status: 3 NOTEs
See
  ‘/Users/biocbuild/bbs-3.15-bioc/meat/interactiveDisplay.Rcheck/00check.log’
for details.



Installation output

interactiveDisplay.Rcheck/00install.out

##############################################################################
##############################################################################
###
### Running command:
###
###   /Library/Frameworks/R.framework/Resources/bin/R CMD INSTALL interactiveDisplay
###
##############################################################################
##############################################################################


* installing to library ‘/Library/Frameworks/R.framework/Versions/4.2/Resources/library’
* installing *source* package ‘interactiveDisplay’ ...
** using staged installation
** R
** data
** inst
** byte-compile and prepare package for lazy loading
in method for ‘display’ with signature ‘object="GRanges"’: no definition for class “GRanges”
in method for ‘display’ with signature ‘object="GRangesList"’: no definition for class “GRangesList”
in method for ‘display’ with signature ‘object="RangedSummarizedExperiment"’: no definition for class “RangedSummarizedExperiment”
in method for ‘display’ with signature ‘object="MRexperiment"’: no definition for class “MRexperiment”
** help
*** installing help indices
** building package indices
** installing vignettes
** testing if installed package can be loaded from temporary location
** testing if installed package can be loaded from final location
** testing if installed package keeps a record of temporary installation path
* DONE (interactiveDisplay)

Tests output


Example timings

interactiveDisplay.Rcheck/interactiveDisplay-Ex.timings

nameusersystemelapsed
altgr0.0000.0010.001
bicgo000
expr0.0260.0030.028
gridsvgjs0.0000.0000.001
gridtweak000
interactiveDisplay-methods0.0020.0000.002
mmgr0.0050.0010.006
mmgrl0.0030.0020.004
se0.1030.0040.107
simplenet000