![]() | Name | Last modified | Size | Description |
---|---|---|---|---|
![]() | Parent Directory | - | ||
![]() | buildbin-out.txt | 04-Feb-2023 01:05 | 1.1K | |
![]() | buildbin-summary.dcf | 04-Feb-2023 01:05 | 515 | |
![]() | buildsrc-out.txt | 05-Feb-2023 01:05 | 839 | |
![]() | buildsrc-summary.dcf | 05-Feb-2023 01:05 | 452 | |
![]() | checksrc-out.txt | 05-Feb-2023 01:05 | 5.1K | |
![]() | checksrc-summary.dcf | 05-Feb-2023 01:05 | 447 | |
![]() | install-out.txt | 05-Feb-2023 01:05 | 962 | |
![]() | install-summary.dcf | 05-Feb-2023 01:05 | 268 | |