Back to Multiple platform build/check report for BioC 3.14
ABCDEFGH[I]JKLMNOPQRSTUVWXYZ

This page was generated on 2021-10-20 12:05:12 -0400 (Wed, 20 Oct 2021).

BUILD results for infercnv on riesling1

To the developers/maintainers of the infercnv package:
- Please allow up to 24 hours (and sometimes 48 hours) for your latest push to git@git.bioconductor.org:packages/infercnv.git to
reflect on this report. See How and When does the builder pull? When will my changes propagate? here for more information.
- Make sure to use the following settings in order to reproduce any error or warning you see on this page.

raw results

Package 926/2072HostnameOS / ArchINSTALLBUILDCHECKBUILD BIN
infercnv 1.9.1  (landing page)
Christophe Georgescu
Snapshot Date: 2021-10-19 14:50:04 -0400 (Tue, 19 Oct 2021)
git_url: https://git.bioconductor.org/packages/infercnv
git_branch: master
git_last_commit: 3fe4543
git_last_commit_date: 2021-08-16 16:18:55 -0400 (Mon, 16 Aug 2021)
nebbiolo2Linux (Ubuntu 20.04.2 LTS) / x86_64  OK    OK    OK  UNNEEDED, same version is already published
riesling1Windows Server 2019 Standard / x64  OK    OK    OK    OK  UNNEEDED, same version is already published
merida1macOS 10.14.6 Mojave / x86_64  OK    OK    OK    NA  

Summary

Package: infercnv
Version: 1.9.1
Command: chmod a+r infercnv -R && D:\biocbuild\bbs-3.14-bioc\R\bin\R.exe CMD build --keep-empty-dirs --no-resave-data infercnv
StartedAt: 2021-10-19 21:38:17 -0400 (Tue, 19 Oct 2021)
EndedAt: 2021-10-19 21:42:41 -0400 (Tue, 19 Oct 2021)
EllapsedTime: 264.4 seconds
RetCode: 0
Status:   OK  
PackageFile: infercnv_1.9.1.tar.gz
PackageFileSize: 3.874 MiB

Command output

##############################################################################
##############################################################################
###
### Running command:
###
###   chmod a+r infercnv -R && D:\biocbuild\bbs-3.14-bioc\R\bin\R.exe CMD build --keep-empty-dirs --no-resave-data infercnv
###
##############################################################################
##############################################################################


* checking for file 'infercnv/DESCRIPTION' ... OK
* preparing 'infercnv':
* checking DESCRIPTION meta-information ... OK
* installing the package to build vignettes
* creating vignettes ... OK
* checking for LF line-endings in source and make files and shell scripts
* checking for empty or unneeded directories
WARNING: directory 'infercnv/WDL' is empty
* building 'infercnv_1.9.1.tar.gz'