This page was generated on 2023-11-30 11:40:37 -0500 (Thu, 30 Nov 2023).
|
|
| |||||||||||||||||||||||||||||||||||
Package | Maintainer | INSTALL/BUILD/CHECK | ||||||||||||||||||||||||||||||||||
1/2225 | a4 1.51.0 (landing page) | Laure Cougnaud | WARNINGS | |||||||||||||||||||||||||||||||||
2/2225 | a4Base 1.51.0 (landing page) | Laure Cougnaud | OK | |||||||||||||||||||||||||||||||||
3/2225 | a4Classif 1.51.0 (landing page) | Laure Cougnaud | OK | |||||||||||||||||||||||||||||||||
4/2225 | a4Core 1.51.0 (landing page) | Laure Cougnaud | OK | |||||||||||||||||||||||||||||||||
5/2225 | a4Preproc 1.51.0 (landing page) | Laure Cougnaud | OK | |||||||||||||||||||||||||||||||||
6/2225 | a4Reporting 1.51.0 (landing page) | Laure Cougnaud | OK | |||||||||||||||||||||||||||||||||
7/2225 | ABarray 1.71.0 (landing page) | Yongming Andrew Sun | OK | |||||||||||||||||||||||||||||||||
8/2225 | abseqR 1.21.0 (landing page) | JiaHong Fong | OK | |||||||||||||||||||||||||||||||||
9/2225 | ABSSeq 1.57.0 (landing page) | Wentao Yang | OK | |||||||||||||||||||||||||||||||||
10/2225 | acde 1.33.0 (landing page) | Juan Pablo Acosta | OK | |||||||||||||||||||||||||||||||||
11/2225 | ACE 1.21.0 (landing page) | Jos B Poell | OK | |||||||||||||||||||||||||||||||||
12/2225 | aCGH 1.81.0 (landing page) | Peter Dimitrov | OK | |||||||||||||||||||||||||||||||||
13/2225 | ACME 2.59.0 (landing page) | Sean Davis | WARNINGS | |||||||||||||||||||||||||||||||||
14/2225 | ADaCGH2 2.43.0 (landing page) | Ramon Diaz-Uriarte | ERROR | |||||||||||||||||||||||||||||||||
15/2225 | ADAM 1.19.0 (landing page) | Jose Luiz Rybarczyk Filho | OK | |||||||||||||||||||||||||||||||||
16/2225 | ADAMgui 1.19.0 (landing page) | Jose Luiz Rybarczyk Filho | OK | |||||||||||||||||||||||||||||||||
17/2225 | adductomicsR 1.19.0 (landing page) | Josie Hayes | TIMEOUT | |||||||||||||||||||||||||||||||||
18/2225 | ADImpute 1.13.0 (landing page) | Ana Carolina Leote | WARNINGS | |||||||||||||||||||||||||||||||||
19/2225 | adSplit 1.73.0 (landing page) | Claudio Lottaz | OK | |||||||||||||||||||||||||||||||||
20/2225 | adverSCarial 1.1.0 (landing page) | Ghislain FIEVET | OK | |||||||||||||||||||||||||||||||||
21/2225 | AffiXcan 1.21.0 (landing page) | Alessandro Lussana | OK | |||||||||||||||||||||||||||||||||
22/2225 | affxparser 1.75.0 (landing page) | Kasper Daniel Hansen | ERROR | |||||||||||||||||||||||||||||||||
23/2225 | affy 1.81.0 (landing page) | Robert D. Shear | WARNINGS | |||||||||||||||||||||||||||||||||
24/2225 | affycomp 1.79.0 (landing page) | Robert D. Shear | OK | |||||||||||||||||||||||||||||||||
25/2225 | affyContam 1.61.0 (landing page) | V. Carey | OK | |||||||||||||||||||||||||||||||||
26/2225 | affycoretools 1.75.0 (landing page) | James W. MacDonald | OK | |||||||||||||||||||||||||||||||||
27/2225 | affyILM 1.55.0 (landing page) | Myriam Kroll and Fabrice Berger | OK | |||||||||||||||||||||||||||||||||
28/2225 | affyio 1.73.0 (landing page) | Ben Bolstad | WARNINGS | |||||||||||||||||||||||||||||||||
29/2225 | affylmGUI 1.77.0 (landing page) | Gordon Smyth | OK | |||||||||||||||||||||||||||||||||
30/2225 | affyPLM 1.79.0 (landing page) | Ben Bolstad | WARNINGS | |||||||||||||||||||||||||||||||||
31/2225 | AffyRNADegradation 1.49.0 (landing page) | Mario Fasold | OK | |||||||||||||||||||||||||||||||||
32/2225 | AGDEX 1.51.0 (landing page) | Cuilan lani Gao | OK | |||||||||||||||||||||||||||||||||
33/2225 | aggregateBioVar 1.13.0 (landing page) | Jason Ratcliff | OK | |||||||||||||||||||||||||||||||||
34/2225 | agilp 3.35.0 (landing page) | Benny Chain | OK | |||||||||||||||||||||||||||||||||
35/2225 | AgiMicroRna 2.53.0 (landing page) | Pedro Lopez-Romero | WARNINGS | |||||||||||||||||||||||||||||||||
36/2225 | AHMassBank 1.3.0 (landing page) | Johannes Rainer | ERROR | |||||||||||||||||||||||||||||||||
37/2225 | AIMS 1.35.0 (landing page) | Eric R Paquet | OK | |||||||||||||||||||||||||||||||||
38/2225 | airpart 1.11.0 (landing page) | Wancen Mu | OK | |||||||||||||||||||||||||||||||||
39/2225 | alabaster 1.3.0 (landing page) | Aaron Lun | OK | |||||||||||||||||||||||||||||||||
40/2225 | alabaster.base 1.3.1 (landing page) | Aaron Lun | WARNINGS | |||||||||||||||||||||||||||||||||
41/2225 | alabaster.bumpy 1.3.0 (landing page) | Aaron Lun | OK | |||||||||||||||||||||||||||||||||
42/2225 | alabaster.files 1.1.0 (landing page) | Aaron Lun | OK | |||||||||||||||||||||||||||||||||
43/2225 | alabaster.mae 1.3.0 (landing page) | Aaron Lun | OK | |||||||||||||||||||||||||||||||||
44/2225 | alabaster.matrix 1.3.0 (landing page) | Aaron Lun | ERROR | |||||||||||||||||||||||||||||||||
45/2225 | alabaster.ranges 1.3.1 (landing page) | Aaron Lun | ERROR | |||||||||||||||||||||||||||||||||
46/2225 | alabaster.sce 1.3.0 (landing page) | Aaron Lun | OK | |||||||||||||||||||||||||||||||||
47/2225 | alabaster.schemas 1.3.1 (landing page) | Aaron Lun | OK | |||||||||||||||||||||||||||||||||
48/2225 | alabaster.se 1.3.0 (landing page) | Aaron Lun | OK | |||||||||||||||||||||||||||||||||
49/2225 | alabaster.spatial 1.3.0 (landing page) | Aaron Lun | OK | |||||||||||||||||||||||||||||||||
50/2225 | alabaster.string 1.3.0 (landing page) | Aaron Lun | OK | |||||||||||||||||||||||||||||||||
51/2225 | alabaster.vcf 1.3.0 (landing page) | Aaron Lun | OK | |||||||||||||||||||||||||||||||||
52/2225 | ALDEx2 1.35.0 (landing page) | Greg Gloor | OK | |||||||||||||||||||||||||||||||||
53/2225 | alevinQC 1.19.0 (landing page) | Charlotte Soneson | OK | |||||||||||||||||||||||||||||||||
54/2225 | AllelicImbalance 1.41.0 (landing page) | Jesper R Gadin | OK | |||||||||||||||||||||||||||||||||
55/2225 | AlphaBeta 1.17.0 (landing page) | Yadollah Shahryary Dizaji | OK | |||||||||||||||||||||||||||||||||
56/2225 | AlpsNMR 4.5.0 (landing page) | Sergio Oller Moreno | OK | |||||||||||||||||||||||||||||||||
57/2225 | altcdfenvs 2.65.0 (landing page) | Laurent Gautier | OK | |||||||||||||||||||||||||||||||||
58/2225 | AMARETTO 1.19.0 (landing page) | Olivier Gevaert | WARNINGS | |||||||||||||||||||||||||||||||||
59/2225 | AMOUNTAIN 1.29.0 (landing page) | Dong Li | OK | |||||||||||||||||||||||||||||||||
60/2225 | amplican 1.25.0 (landing page) | Eivind Valen | OK | |||||||||||||||||||||||||||||||||
61/2225 | Anaquin 2.27.0 (landing page) | Ted Wong | OK | |||||||||||||||||||||||||||||||||
62/2225 | ANCOMBC 2.5.0 (landing page) | Huang Lin | OK | |||||||||||||||||||||||||||||||||
63/2225 | AneuFinder 1.31.0 (landing page) | Aaron Taudt | OK | |||||||||||||||||||||||||||||||||
64/2225 | ANF 1.25.0 (landing page) | Tianle Ma | ERROR | |||||||||||||||||||||||||||||||||
65/2225 | animalcules 1.19.0 (landing page) | Yue Zhao | ERROR | |||||||||||||||||||||||||||||||||
66/2225 | annaffy 1.75.0 (landing page) | Colin A. Smith | WARNINGS | |||||||||||||||||||||||||||||||||
67/2225 | annmap 1.45.0 (landing page) | Chris Wirth | WARNINGS | |||||||||||||||||||||||||||||||||
68/2225 | annotate 1.81.0 (landing page) | Bioconductor Package Maintainer | ERROR | |||||||||||||||||||||||||||||||||
69/2225 | AnnotationDbi 1.65.2 (landing page) | Bioconductor Package Maintainer | WARNINGS | |||||||||||||||||||||||||||||||||
70/2225 | AnnotationFilter 1.27.0 (landing page) | Bioconductor Package Maintainer | OK | |||||||||||||||||||||||||||||||||
71/2225 | AnnotationForge 1.45.0 (landing page) | Bioconductor Package Maintainer | OK | |||||||||||||||||||||||||||||||||
72/2225 | AnnotationHub 3.11.0 (landing page) | Bioconductor Package Maintainer | ERROR | |||||||||||||||||||||||||||||||||
73/2225 | AnnotationHubData 1.33.0 (landing page) | Bioconductor Package Maintainer | WARNINGS | |||||||||||||||||||||||||||||||||
74/2225 | annotationTools 1.77.0 (landing page) | Alexandre Kuhn | OK | |||||||||||||||||||||||||||||||||
75/2225 | annotatr 1.29.0 (landing page) | Raymond G. Cavalcante | ERROR | |||||||||||||||||||||||||||||||||
76/2225 | anota 1.51.0 (landing page) | Ola Larsson | OK | |||||||||||||||||||||||||||||||||
77/2225 | anota2seq 1.25.0 (landing page) | Christian Oertlin | WARNINGS | |||||||||||||||||||||||||||||||||
78/2225 | antiProfiles 1.43.0 (landing page) | Hector Corrada Bravo | OK | |||||||||||||||||||||||||||||||||
79/2225 | AnVIL 1.15.0 (landing page) | Marcel Ramos | OK | |||||||||||||||||||||||||||||||||
80/2225 | AnVILBilling 1.13.0 (landing page) | Vince Carey | OK | |||||||||||||||||||||||||||||||||
81/2225 | AnVILPublish 1.13.3 (landing page) | Marcel Ramos | OK | |||||||||||||||||||||||||||||||||
82/2225 | AnVILWorkflow 1.3.0 (landing page) | Sehyun Oh | OK | |||||||||||||||||||||||||||||||||
83/2225 | APAlyzer 1.17.0 (landing page) | Ruijia Wang | TIMEOUT | |||||||||||||||||||||||||||||||||
84/2225 | apComplex 2.69.0 (landing page) | Denise Scholtens | OK | |||||||||||||||||||||||||||||||||
85/2225 | apeglm 1.25.0 (landing page) | Anqi Zhu | OK | |||||||||||||||||||||||||||||||||
86/2225 | APL 1.7.0 (landing page) | Elzbieta Gralinska | ERROR | |||||||||||||||||||||||||||||||||
87/2225 | appreci8R 1.21.5 (landing page) | Sarah Sandmann | ERROR | |||||||||||||||||||||||||||||||||
88/2225 | aroma.light 3.33.0 (landing page) | Henrik Bengtsson | OK | |||||||||||||||||||||||||||||||||
89/2225 | ArrayExpress 1.63.0 (landing page) | Jose Marugan | OK | |||||||||||||||||||||||||||||||||
90/2225 | arrayMvout 1.61.0 (landing page) | V. Carey | OK | |||||||||||||||||||||||||||||||||
91/2225 | arrayQuality 1.81.0 (landing page) | Agnes Paquet | WARNINGS | |||||||||||||||||||||||||||||||||
92/2225 | arrayQualityMetrics 3.59.0 (landing page) | Mike Smith | OK | |||||||||||||||||||||||||||||||||
93/2225 | ARRmNormalization 1.43.0 (landing page) | Jean-Philippe Fortin | OK | |||||||||||||||||||||||||||||||||
94/2225 | artMS 1.21.0 (landing page) | David Jimenez-Morales | OK | |||||||||||||||||||||||||||||||||
95/2225 | ASAFE 1.29.0 (landing page) | Qian Zhang | OK | |||||||||||||||||||||||||||||||||
96/2225 | ASEB 1.47.3 (landing page) | Likun Wang | WARNINGS | |||||||||||||||||||||||||||||||||
97/2225 | ASGSCA 1.37.0 (landing page) | Hela Romdhani | OK | |||||||||||||||||||||||||||||||||
98/2225 | ASICS 2.19.0 (landing page) | Gaëlle Lefort | OK | |||||||||||||||||||||||||||||||||
99/2225 | ASpli 2.13.0 (landing page) | Ariel Chernomoretz | WARNINGS | |||||||||||||||||||||||||||||||||
100/2225 | AssessORF 1.21.0 (landing page) | Deepank Korandla | OK | |||||||||||||||||||||||||||||||||
101/2225 | ASSET 2.21.0 (landing page) | Samsiddhi Bhattacharjee | OK | |||||||||||||||||||||||||||||||||
102/2225 | ASSIGN 1.39.0 (landing page) | Ying Shen | OK | |||||||||||||||||||||||||||||||||
103/2225 | ASURAT 1.7.0 (landing page) | Keita Iida | TIMEOUT | |||||||||||||||||||||||||||||||||
104/2225 | ATACCoGAPS 1.5.0 (landing page) | Rossin Erbe | OK | |||||||||||||||||||||||||||||||||
105/2225 | ATACseqQC 1.27.0 (landing page) | Jianhong Ou | OK | |||||||||||||||||||||||||||||||||
106/2225 | ATACseqTFEA 1.5.0 (landing page) | Jianhong Ou | OK | |||||||||||||||||||||||||||||||||
107/2225 | atena 1.9.0 (landing page) | Beatriz Calvo-Serra | ERROR | |||||||||||||||||||||||||||||||||
108/2225 | atSNP 1.19.0 (landing page) | Sunyoung Shin | OK | |||||||||||||||||||||||||||||||||
109/2225 | attract 1.55.0 (landing page) | Samuel Zimmerman | OK | |||||||||||||||||||||||||||||||||
110/2225 | AUCell 1.25.0 (landing page) | Sara Aibar | ERROR | |||||||||||||||||||||||||||||||||
111/2225 | autonomics 1.11.5 (landing page) | Aditya Bhagwat | ERROR | |||||||||||||||||||||||||||||||||
112/2225 | AWFisher 1.17.0 (landing page) | Zhiguang Huo | OK | |||||||||||||||||||||||||||||||||
113/2225 | awst 1.11.0 (landing page) | Davide Risso | ERROR | |||||||||||||||||||||||||||||||||
|
| |||||||||||||||||||||||||||||||||||
Package | Maintainer | INSTALL/BUILD/CHECK | ||||||||||||||||||||||||||||||||||
114/2225 | BaalChIP 1.29.0 (landing page) | Ines de Santiago | WARNINGS | |||||||||||||||||||||||||||||||||
115/2225 | bacon 1.31.0 (landing page) | Maarten van Iterson | OK | |||||||||||||||||||||||||||||||||
116/2225 | BADER 1.41.0 (landing page) | Andreas Neudecker | OK | |||||||||||||||||||||||||||||||||
117/2225 | BadRegionFinder 1.31.0 (landing page) | Sarah Sandmann | OK | |||||||||||||||||||||||||||||||||
118/2225 | BAGS 2.43.0 (landing page) | Alejandro Quiroz-Zarate | OK | |||||||||||||||||||||||||||||||||
119/2225 | ballgown 2.35.0 (landing page) | Jack Fu | OK | |||||||||||||||||||||||||||||||||
120/2225 | bambu 3.5.0 (landing page) | Ying Chen | TIMEOUT | |||||||||||||||||||||||||||||||||
121/2225 | bamsignals 1.35.0 (landing page) | Johannes Helmuth | OK | |||||||||||||||||||||||||||||||||
122/2225 | BANDITS 1.19.1 (landing page) | Simone Tiberi | OK | |||||||||||||||||||||||||||||||||
123/2225 | bandle 1.7.0 (landing page) | Oliver M. Crook | OK | |||||||||||||||||||||||||||||||||
124/2225 | banocc 1.27.0 (landing page) | George Weingart | OK | |||||||||||||||||||||||||||||||||
125/2225 | barcodetrackR 1.11.0 (landing page) | Diego Alexander Espinoza | OK | |||||||||||||||||||||||||||||||||
126/2225 | basecallQC 1.27.0 (landing page) | Thomas Carroll | OK | |||||||||||||||||||||||||||||||||
127/2225 | BaseSpaceR 1.47.0 (landing page) | Jared O'Connell | WARNINGS | |||||||||||||||||||||||||||||||||
128/2225 | Basic4Cseq 1.39.0 (landing page) | Carolin Walter | OK | |||||||||||||||||||||||||||||||||
129/2225 | BASiCS 2.15.0 (landing page) | Catalina Vallejos | ERROR | |||||||||||||||||||||||||||||||||
130/2225 | BASiCStan 1.5.0 (landing page) | Alan O'Callaghan | ERROR | |||||||||||||||||||||||||||||||||
131/2225 | BasicSTARRseq 1.31.0 (landing page) | Annika Buerger | OK | |||||||||||||||||||||||||||||||||
132/2225 | basilisk 1.15.1 (landing page) | Aaron Lun | TIMEOUT | |||||||||||||||||||||||||||||||||
133/2225 | basilisk.utils 1.15.1 (landing page) | Aaron Lun | OK | |||||||||||||||||||||||||||||||||
134/2225 | batchelor 1.19.0 (landing page) | Aaron Lun | OK | |||||||||||||||||||||||||||||||||
135/2225 | BatchQC 1.31.0 (landing page) | Solaiappan Manimaran | OK | |||||||||||||||||||||||||||||||||
136/2225 | BayesKnockdown 1.29.0 (landing page) | William Chad Young | OK | |||||||||||||||||||||||||||||||||
137/2225 | BayesSpace 1.13.0 (landing page) | Matt Stone | ERROR | |||||||||||||||||||||||||||||||||
138/2225 | bayNorm 1.21.0 (landing page) | Wenhao Tang | OK | |||||||||||||||||||||||||||||||||
139/2225 | BBCAnalyzer 1.33.0 (landing page) | Sarah Sandmann | WARNINGS | |||||||||||||||||||||||||||||||||
140/2225 | BCRANK 1.65.0 (landing page) | Adam Ameur | OK | |||||||||||||||||||||||||||||||||
141/2225 | bcSeq 1.25.0 (landing page) | Jiaxing Lin | WARNINGS | |||||||||||||||||||||||||||||||||
142/2225 | BDMMAcorrect 1.21.0 (landing page) | ZHENWEI DAI | ERROR | |||||||||||||||||||||||||||||||||
143/2225 | beachmat 2.19.0 (landing page) | Aaron Lun | OK | |||||||||||||||||||||||||||||||||
144/2225 | beachmat.hdf5 1.1.0 (landing page) | Aaron Lun | WARNINGS | |||||||||||||||||||||||||||||||||
145/2225 | beadarray 2.53.0 (landing page) | Mark Dunning | OK | |||||||||||||||||||||||||||||||||
146/2225 | beadarraySNP 1.69.0 (landing page) | Jan Oosting | ERROR | |||||||||||||||||||||||||||||||||
147/2225 | BeadDataPackR 1.55.0 (landing page) | Mike Smith | OK | |||||||||||||||||||||||||||||||||
148/2225 | BEARscc 1.23.0 (landing page) | Benjamin Schuster-Boeckler | OK | |||||||||||||||||||||||||||||||||
149/2225 | BEAT 1.41.0 (landing page) | Kemal Akman | OK | |||||||||||||||||||||||||||||||||
150/2225 | BEclear 2.19.0 (landing page) | Livia Rasp | OK | |||||||||||||||||||||||||||||||||
151/2225 | beer 1.7.0 (landing page) | Athena Chen | OK | |||||||||||||||||||||||||||||||||
152/2225 | benchdamic 1.9.1 (landing page) | Matteo Calgaro | ERROR | |||||||||||||||||||||||||||||||||
153/2225 | BERT 0.99.15 (landing page) | Yannis Schumann | OK | |||||||||||||||||||||||||||||||||
154/2225 | BG2 1.3.0 (landing page) | Jacob Williams | OK | |||||||||||||||||||||||||||||||||
155/2225 | BgeeCall 1.19.0 (landing page) | Julien Wollbrett | ERROR | |||||||||||||||||||||||||||||||||
156/2225 | BgeeDB 2.29.0 (landing page) | Julien Wollbrett | TIMEOUT | |||||||||||||||||||||||||||||||||
157/2225 | bgx 1.69.0 (landing page) | Ernest Turro | ERROR | |||||||||||||||||||||||||||||||||
158/2225 | BHC 1.55.0 (landing page) | Rich Savage | ERROR | |||||||||||||||||||||||||||||||||
159/2225 | BicARE 1.61.0 (landing page) | Pierre Gestraud | OK | |||||||||||||||||||||||||||||||||
160/2225 | BiFET 1.23.0 (landing page) | Ahrim Youn | OK | |||||||||||||||||||||||||||||||||
161/2225 | BiGGR 1.39.0 (landing page) | Anand K. Gavai | ERROR | |||||||||||||||||||||||||||||||||
162/2225 | bigmelon 1.29.0 (landing page) | Leonard C. Schalkwyk | WARNINGS | |||||||||||||||||||||||||||||||||
163/2225 | BindingSiteFinder 2.1.0 (landing page) | Mirko Brüggemann | OK | |||||||||||||||||||||||||||||||||
164/2225 | bioassayR 1.41.0 (landing page) | Daniela Cassol | OK | |||||||||||||||||||||||||||||||||
165/2225 | Biobase 2.63.0 (landing page) | Bioconductor Package Maintainer | WARNINGS | |||||||||||||||||||||||||||||||||
166/2225 | biobroom 1.35.0 (landing page) | John D. Storey | WARNINGS | |||||||||||||||||||||||||||||||||
167/2225 | biobtreeR 1.15.0 (landing page) | Tamer Gur | ERROR | |||||||||||||||||||||||||||||||||
168/2225 | bioCancer 1.31.0 (landing page) | Karim Mezhoud | ERROR | |||||||||||||||||||||||||||||||||
169/2225 | BioCartaImage 1.1.0 (landing page) | Zuguang Gu | OK | |||||||||||||||||||||||||||||||||
170/2225 | BiocBaseUtils 1.5.0 (landing page) | Marcel Ramos | OK | |||||||||||||||||||||||||||||||||
171/2225 | BiocBook 1.1.1 (landing page) | Jacques Serizay | ERROR | |||||||||||||||||||||||||||||||||
172/2225 | BiocCheck 1.39.0 (landing page) | Marcel Ramos | OK | |||||||||||||||||||||||||||||||||
173/2225 | BiocFHIR 1.5.0 (landing page) | Vincent Carey | OK | |||||||||||||||||||||||||||||||||
174/2225 | BiocFileCache 2.11.1 (landing page) | Lori Shepherd | OK | |||||||||||||||||||||||||||||||||
175/2225 | BiocGenerics 0.49.1 (landing page) | Hervé Pagès | WARNINGS | |||||||||||||||||||||||||||||||||
176/2225 | biocGraph 1.65.0 (landing page) | Florian Hahne | OK | |||||||||||||||||||||||||||||||||
177/2225 | BiocHail 1.3.0 (landing page) | Vincent Carey | ERROR | |||||||||||||||||||||||||||||||||
178/2225 | BiocHubsShiny 1.3.0 (landing page) | Marcel Ramos | ERROR | |||||||||||||||||||||||||||||||||
179/2225 | BiocIO 1.13.0 (landing page) | Marcel Ramos | OK | |||||||||||||||||||||||||||||||||
180/2225 | BiocNeighbors 1.21.0 (landing page) | Aaron Lun | WARNINGS | |||||||||||||||||||||||||||||||||
181/2225 | BiocOncoTK 1.23.0 (landing page) | VJ Carey | ERROR | |||||||||||||||||||||||||||||||||
182/2225 | BioCor 1.27.0 (landing page) | Lluís Revilla Sancho | OK | |||||||||||||||||||||||||||||||||
183/2225 | BiocParallel 1.37.0 (landing page) | Martin Morgan | OK | |||||||||||||||||||||||||||||||||
184/2225 | BiocPkgTools 1.21.0 (landing page) | Sean Davis | OK | |||||||||||||||||||||||||||||||||
185/2225 | BiocSet 1.17.0 (landing page) | Kayla Morrell | ERROR | |||||||||||||||||||||||||||||||||
186/2225 | BiocSingular 1.19.0 (landing page) | Aaron Lun | ERROR | |||||||||||||||||||||||||||||||||
187/2225 | BiocSklearn 1.25.0 (landing page) | Vince Carey | ERROR | |||||||||||||||||||||||||||||||||
188/2225 | BiocStyle 2.31.0 (landing page) | Bioconductor Package | OK | |||||||||||||||||||||||||||||||||
189/2225 | biocthis 1.13.0 (landing page) | Leonardo Collado-Torres | OK | |||||||||||||||||||||||||||||||||
190/2225 | BiocVersion 3.19.1 (landing page) | Bioconductor Package Maintainer | OK | |||||||||||||||||||||||||||||||||
191/2225 | biocViews 1.71.1 (landing page) | Bioconductor Package Maintainer | WARNINGS | |||||||||||||||||||||||||||||||||
192/2225 | BiocWorkflowTools 1.29.0 (landing page) | Mike Smith | OK | |||||||||||||||||||||||||||||||||
193/2225 | biodb 1.11.0 (landing page) | Pierrick Roger | ERROR | |||||||||||||||||||||||||||||||||
194/2225 | biodbChebi 1.9.0 (landing page) | Pierrick Roger | ERROR | |||||||||||||||||||||||||||||||||
195/2225 | biodbExpasy 1.7.0 (landing page) | Pierrick Roger | OK | |||||||||||||||||||||||||||||||||
196/2225 | biodbHmdb 1.9.0 (landing page) | Pierrick Roger | WARNINGS | |||||||||||||||||||||||||||||||||
197/2225 | biodbKegg 1.9.0 (landing page) | Pierrick Roger | ERROR | |||||||||||||||||||||||||||||||||
198/2225 | biodbLipidmaps 1.9.0 (landing page) | Pierrick Roger | OK | |||||||||||||||||||||||||||||||||
199/2225 | biodbNcbi 1.7.0 (landing page) | Pierrick Roger | ERROR | |||||||||||||||||||||||||||||||||
200/2225 | biodbNci 1.7.0 (landing page) | Pierrick Roger | TIMEOUT | |||||||||||||||||||||||||||||||||
201/2225 | biodbUniprot 1.9.0 (landing page) | Pierrick Roger | OK | |||||||||||||||||||||||||||||||||
202/2225 | bioDist 1.75.0 (landing page) | Bioconductor Package Maintainer | OK | |||||||||||||||||||||||||||||||||
203/2225 | biomaRt 2.59.0 (landing page) | Mike Smith | ERROR | |||||||||||||||||||||||||||||||||
204/2225 | biomformat 1.31.0 (landing page) | Paul J. McMurdie | OK | |||||||||||||||||||||||||||||||||
205/2225 | BioMVCClass 1.71.0 (landing page) | Elizabeth Whalen | OK | |||||||||||||||||||||||||||||||||
206/2225 | BioNAR 1.5.0 (landing page) | Anatoly Sorokin | OK | |||||||||||||||||||||||||||||||||
207/2225 | BioNERO 1.11.0 (landing page) | Fabricio Almeida-Silva | OK | |||||||||||||||||||||||||||||||||
208/2225 | BioNet 1.63.0 (landing page) | Marcus Dittrich | ERROR | |||||||||||||||||||||||||||||||||
209/2225 | BioNetStat 1.23.0 (landing page) | Vinicius Jardim | OK | |||||||||||||||||||||||||||||||||
210/2225 | BioQC 1.31.0 (landing page) | Jitao David Zhang | OK | |||||||||||||||||||||||||||||||||
211/2225 | biosigner 1.31.0 (landing page) | Etienne A. Thevenot | ERROR | |||||||||||||||||||||||||||||||||
212/2225 | Biostrings 2.71.1 (landing page) | Hervé Pagès | WARNINGS | |||||||||||||||||||||||||||||||||
213/2225 | BioTIP 1.17.0 (landing page) | Yuxi (Jennifer) Sun | WARNINGS | |||||||||||||||||||||||||||||||||
214/2225 | biotmle 1.27.0 (landing page) | Nima Hejazi | OK | |||||||||||||||||||||||||||||||||
215/2225 | biovizBase 1.51.0 (landing page) | Michael Lawrence | WARNINGS | |||||||||||||||||||||||||||||||||
216/2225 | BiRewire 3.35.0 (landing page) | Andrea Gobbi | WARNINGS | |||||||||||||||||||||||||||||||||
217/2225 | biscuiteer 1.17.0 (landing page) | Jacob Morrison | WARNINGS | |||||||||||||||||||||||||||||||||
218/2225 | BiSeq 1.43.0 (landing page) | Katja Hebestreit | OK | |||||||||||||||||||||||||||||||||
219/2225 | blacksheepr 1.17.0 (landing page) | RugglesLab | OK | |||||||||||||||||||||||||||||||||
220/2225 | blima 1.37.0 (landing page) | Vojtěch Kulvait | OK | |||||||||||||||||||||||||||||||||
221/2225 | BLMA 1.27.0 (landing page) | Hung Nguyen | OK | |||||||||||||||||||||||||||||||||
222/2225 | BloodGen3Module 1.11.0 (landing page) | Darawan Rinchai | WARNINGS | |||||||||||||||||||||||||||||||||
223/2225 | bluster 1.13.0 (landing page) | Aaron Lun | ERROR | |||||||||||||||||||||||||||||||||
224/2225 | bnbc 1.25.0 (landing page) | Kipper Fletez-Brant | ERROR | |||||||||||||||||||||||||||||||||
225/2225 | bnem 1.11.0 (landing page) | Martin Pirkl | OK | |||||||||||||||||||||||||||||||||
226/2225 | BOBaFIT 1.7.0 (landing page) | Gaia Mazzocchetti | WARNINGS | |||||||||||||||||||||||||||||||||
227/2225 | borealis 1.7.0 (landing page) | Garrett Jenkinson | ERROR | |||||||||||||||||||||||||||||||||
228/2225 | BPRMeth 1.29.0 (landing page) | Chantriolnt-Andreas Kapourani | OK | |||||||||||||||||||||||||||||||||
229/2225 | BRAIN 1.49.0 (landing page) | Piotr Dittwald | WARNINGS | |||||||||||||||||||||||||||||||||
230/2225 | brainflowprobes 1.17.0 (landing page) | Amanda Price | ERROR | |||||||||||||||||||||||||||||||||
231/2225 | branchpointer 1.29.0 (landing page) | Beth Signal | ERROR | |||||||||||||||||||||||||||||||||
232/2225 | breakpointR 1.21.0 (landing page) | David Porubsky | OK | |||||||||||||||||||||||||||||||||
233/2225 | brendaDb 1.17.0 (landing page) | Yi Zhou | OK | |||||||||||||||||||||||||||||||||
234/2225 | BRGenomics 1.15.0 (landing page) | Mike DeBerardine | ERROR | |||||||||||||||||||||||||||||||||
235/2225 | BridgeDbR 2.13.0 (landing page) | Egon Willighagen | OK | |||||||||||||||||||||||||||||||||
236/2225 | BrowserViz 2.25.0 (landing page) | Arkadiusz Gladki | OK | |||||||||||||||||||||||||||||||||
237/2225 | BSgenome 1.71.1 (landing page) | Hervé Pagès | WARNINGS | |||||||||||||||||||||||||||||||||
238/2225 | BSgenomeForge 1.3.0 (landing page) | Hervé Pagès | ERROR | |||||||||||||||||||||||||||||||||
239/2225 | bsseq 1.39.0 (landing page) | Kasper Daniel Hansen | OK | |||||||||||||||||||||||||||||||||
240/2225 | BubbleTree 2.33.0 (landing page) | Todd Creasy | OK | |||||||||||||||||||||||||||||||||
241/2225 | BufferedMatrix 1.67.0 (landing page) | Ben Bolstad | WARNINGS | |||||||||||||||||||||||||||||||||
242/2225 | BufferedMatrixMethods 1.67.0 (landing page) | Ben Bolstad | OK | |||||||||||||||||||||||||||||||||
243/2225 | bugsigdbr 1.9.0 (landing page) | Ludwig Geistlinger | OK | |||||||||||||||||||||||||||||||||
244/2225 | BUMHMM 1.27.0 (landing page) | Alina Selega | OK | |||||||||||||||||||||||||||||||||
245/2225 | bumphunter 1.45.0 (landing page) | Tamilselvi Guharaj | OK | |||||||||||||||||||||||||||||||||
246/2225 | BumpyMatrix 1.11.0 (landing page) | Aaron Lun | OK | |||||||||||||||||||||||||||||||||
247/2225 | BUS 1.59.0 (landing page) | Yuanhua Liu | OK | |||||||||||||||||||||||||||||||||
248/2225 | BUScorrect 1.21.0 (landing page) | Xiangyu Luo | OK | |||||||||||||||||||||||||||||||||
249/2225 | BUSpaRse 1.17.0 (landing page) | Lambda Moses | ERROR | |||||||||||||||||||||||||||||||||
250/2225 | BUSseq 1.9.0 (landing page) | Fangda Song | OK | |||||||||||||||||||||||||||||||||
|
| |||||||||||||||||||||||||||||||||||
Package | Maintainer | INSTALL/BUILD/CHECK | ||||||||||||||||||||||||||||||||||
251/2225 | CaDrA 1.1.1 (landing page) | Reina Chau | OK | |||||||||||||||||||||||||||||||||
252/2225 | CAEN 1.11.0 (landing page) | Zhou Yan | OK | |||||||||||||||||||||||||||||||||
253/2225 | CAFE 1.39.0 (landing page) | Sander Bollen | WARNINGS | |||||||||||||||||||||||||||||||||
254/2225 | CAGEfightR 1.23.0 (landing page) | Malte Thodberg | OK | |||||||||||||||||||||||||||||||||
255/2225 | cageminer 1.9.0 (landing page) | Fabrício Almeida-Silva | OK | |||||||||||||||||||||||||||||||||
256/2225 | CAGEr 2.9.0 (landing page) | Charles Plessy | OK | |||||||||||||||||||||||||||||||||
257/2225 | calm 1.17.0 (landing page) | Kun Liang | OK | |||||||||||||||||||||||||||||||||
258/2225 | CAMERA 1.59.0 (landing page) | Steffen Neumann | OK | |||||||||||||||||||||||||||||||||
259/2225 | canceR 1.37.0 (landing page) | Karim Mezhoud | OK | |||||||||||||||||||||||||||||||||
260/2225 | cancerclass 1.47.0 (landing page) | Daniel Kosztyla | WARNINGS | |||||||||||||||||||||||||||||||||
261/2225 | CancerInSilico 2.23.0 (landing page) | Thomas D. Sherman | ERROR | |||||||||||||||||||||||||||||||||
262/2225 | CancerSubtypes 1.29.0 (landing page) | Taosheng Xu | ERROR | |||||||||||||||||||||||||||||||||
263/2225 | cardelino 1.5.0 (landing page) | Davis McCarthy | OK | |||||||||||||||||||||||||||||||||
264/2225 | Cardinal 3.5.0 (landing page) | Kylie A. Bemis | OK | |||||||||||||||||||||||||||||||||
265/2225 | CardinalIO 1.1.0 (landing page) | Kylie Ariel Bemis | OK | |||||||||||||||||||||||||||||||||
266/2225 | CARNIVAL 2.13.0 (landing page) | Attila Gabor | OK | |||||||||||||||||||||||||||||||||
267/2225 | casper 2.37.0 (landing page) | David Rossell | ERROR | |||||||||||||||||||||||||||||||||
268/2225 | CATALYST 1.27.0 (landing page) | Helena L. Crowell | ERROR | |||||||||||||||||||||||||||||||||
269/2225 | Category 2.69.0 (landing page) | Bioconductor Package Maintainer | OK | |||||||||||||||||||||||||||||||||
270/2225 | categoryCompare 1.47.0 (landing page) | Robert M. Flight | OK | |||||||||||||||||||||||||||||||||
271/2225 | CausalR 1.35.0 (landing page) | Glyn Bradley | OK | |||||||||||||||||||||||||||||||||
272/2225 | cbaf 1.25.0 (landing page) | Arman Shahrisa | OK | |||||||||||||||||||||||||||||||||
273/2225 | CBEA 1.3.0 (landing page) | Quang Nguyen | OK | |||||||||||||||||||||||||||||||||
274/2225 | cBioPortalData 2.15.0 (landing page) | Marcel Ramos | OK | |||||||||||||||||||||||||||||||||
275/2225 | CBNplot 1.3.0 (landing page) | Noriaki Sato | ERROR | |||||||||||||||||||||||||||||||||
276/2225 | cbpManager 1.11.0 (landing page) | Arsenij Ustjanzew | WARNINGS | |||||||||||||||||||||||||||||||||
277/2225 | ccfindR 1.23.0 (landing page) | Jun Woo | ERROR | |||||||||||||||||||||||||||||||||
278/2225 | ccImpute 1.5.0 (landing page) | Marcin Malec | OK | |||||||||||||||||||||||||||||||||
279/2225 | ccmap 1.29.0 (landing page) | Alex Pickering | WARNINGS | |||||||||||||||||||||||||||||||||
280/2225 | CCPlotR 1.1.0 (landing page) | Sarah Ennis | OK | |||||||||||||||||||||||||||||||||
281/2225 | CCPROMISE 1.29.0 (landing page) | Xueyuan Cao | WARNINGS | |||||||||||||||||||||||||||||||||
282/2225 | ccrepe 1.39.0 (landing page) | Emma Schwager | ERROR | |||||||||||||||||||||||||||||||||
283/2225 | CDI 1.1.0 (landing page) | Jiyuan Fang | ERROR | |||||||||||||||||||||||||||||||||
284/2225 | celaref 1.21.0 (landing page) | Sarah Williams | OK | |||||||||||||||||||||||||||||||||
285/2225 | celda 1.19.1 (landing page) | Joshua Campbell | ERROR | |||||||||||||||||||||||||||||||||
286/2225 | CellaRepertorium 1.13.0 (landing page) | Andrew McDavid | WARNINGS | |||||||||||||||||||||||||||||||||
287/2225 | CellBarcode 1.9.0 (landing page) | Wenjie Sun | OK | |||||||||||||||||||||||||||||||||
288/2225 | cellbaseR 1.27.0 (landing page) | Mohammed OE Abdallah | OK | |||||||||||||||||||||||||||||||||
289/2225 | CellBench 1.19.0 (landing page) | Shian Su | OK | |||||||||||||||||||||||||||||||||
290/2225 | cellHTS2 2.67.0 (landing page) | Joseph Barry | WARNINGS | |||||||||||||||||||||||||||||||||
291/2225 | CelliD 1.11.0 (landing page) | Akira Cortal | ERROR | |||||||||||||||||||||||||||||||||
292/2225 | cellity 1.31.0 (landing page) | Tomislav Ilicic | OK | |||||||||||||||||||||||||||||||||
293/2225 | CellMapper 1.29.0 (landing page) | Brad Nelms | ERROR | |||||||||||||||||||||||||||||||||
294/2225 | cellmigRation 1.11.0 (landing page) | Waldir Leoncio | OK | |||||||||||||||||||||||||||||||||
295/2225 | CellMixS 1.19.0 (landing page) | Almut Lütge | OK | |||||||||||||||||||||||||||||||||
296/2225 | CellNOptR 1.49.0 (landing page) | Attila Gabor | OK | |||||||||||||||||||||||||||||||||
297/2225 | cellscape 1.27.0 (landing page) | Maia Smith | ERROR | |||||||||||||||||||||||||||||||||
298/2225 | CellScore 1.23.0 (landing page) | Nancy Mah | OK | |||||||||||||||||||||||||||||||||
299/2225 | CellTrails 1.21.0 (landing page) | Daniel Ellwanger | OK | |||||||||||||||||||||||||||||||||
300/2225 | cellxgenedp 1.7.1 (landing page) | Martin Morgan | OK | |||||||||||||||||||||||||||||||||
301/2225 | CEMiTool 1.27.0 (landing page) | Helder Nakaya | ERROR | |||||||||||||||||||||||||||||||||
302/2225 | censcyt 1.11.0 (landing page) | Reto Gerber | OK | |||||||||||||||||||||||||||||||||
303/2225 | Cepo 1.9.0 (landing page) | Hani Jieun Kim | WARNINGS | |||||||||||||||||||||||||||||||||
304/2225 | ceRNAnetsim 1.15.0 (landing page) | Selcen Ari Yuka | OK | |||||||||||||||||||||||||||||||||
305/2225 | CeTF 1.15.0 (landing page) | Carlos Alberto Oliveira de Biagi Junior | ERROR | |||||||||||||||||||||||||||||||||
306/2225 | CexoR 1.41.0 (landing page) | Pedro Madrigal | OK | |||||||||||||||||||||||||||||||||
307/2225 | CFAssay 1.37.0 (landing page) | Herbert Braselmann | OK | |||||||||||||||||||||||||||||||||
308/2225 | cfdnakit 1.1.0 (landing page) | Pitithat Puranachot | OK | |||||||||||||||||||||||||||||||||
309/2225 | cfDNAPro 1.9.0 (landing page) | Haichao Wang | WARNINGS | |||||||||||||||||||||||||||||||||
310/2225 | cfTools 1.3.0 (landing page) | Ran Hu | OK | |||||||||||||||||||||||||||||||||
311/2225 | CGEN 3.39.0 (landing page) | Justin Lee | OK | |||||||||||||||||||||||||||||||||
312/2225 | CGHbase 1.63.0 (landing page) | Mark van de Wiel | OK | |||||||||||||||||||||||||||||||||
313/2225 | CGHcall 2.65.0 (landing page) | Mark van de Wiel | WARNINGS | |||||||||||||||||||||||||||||||||
314/2225 | cghMCR 1.61.0 (landing page) | J. Zhang | WARNINGS | |||||||||||||||||||||||||||||||||
315/2225 | CGHnormaliter 1.57.0 (landing page) | Bart P.P. van Houte | OK | |||||||||||||||||||||||||||||||||
316/2225 | CGHregions 1.61.0 (landing page) | Sjoerd Vosse | OK | |||||||||||||||||||||||||||||||||
317/2225 | ChAMP 2.33.0 (landing page) | Yuan Tian | WARNINGS | |||||||||||||||||||||||||||||||||
318/2225 | ChemmineOB 1.41.0 (landing page) | Thomas Girke | WARNINGS | |||||||||||||||||||||||||||||||||
319/2225 | ChemmineR 3.55.1 (landing page) | Thomas Girke | ERROR | |||||||||||||||||||||||||||||||||
320/2225 | CHETAH 1.19.0 (landing page) | Jurrian de Kanter | OK | |||||||||||||||||||||||||||||||||
321/2225 | Chicago 1.31.0 (landing page) | Mikhail Spivakov | ERROR | |||||||||||||||||||||||||||||||||
322/2225 | chihaya 1.3.0 (landing page) | Aaron Lun | WARNINGS | |||||||||||||||||||||||||||||||||
323/2225 | chimeraviz 1.29.0 (landing page) | Stian Lågstad | OK | |||||||||||||||||||||||||||||||||
324/2225 | ChIPanalyser 1.25.0 (landing page) | Patrick C.N. Martin | OK | |||||||||||||||||||||||||||||||||
325/2225 | ChIPComp 1.33.0 (landing page) | Li Chen | OK | |||||||||||||||||||||||||||||||||
326/2225 | chipenrich 2.27.0 (landing page) | Kai Wang | OK | |||||||||||||||||||||||||||||||||
327/2225 | ChIPexoQual 1.27.0 (landing page) | Rene Welch | OK | |||||||||||||||||||||||||||||||||
328/2225 | ChIPpeakAnno 3.37.2 (landing page) | Jianhong Ou | OK | |||||||||||||||||||||||||||||||||
329/2225 | ChIPQC 1.39.0 (landing page) | Tom Carroll | WARNINGS | |||||||||||||||||||||||||||||||||
330/2225 | ChIPseeker 1.39.0 (landing page) | Guangchuang Yu | ERROR | |||||||||||||||||||||||||||||||||
331/2225 | chipseq 1.53.0 (landing page) | Bioconductor Package Maintainer | WARNINGS | |||||||||||||||||||||||||||||||||
332/2225 | ChIPseqR 1.57.0 (landing page) | Peter Humburg | OK | |||||||||||||||||||||||||||||||||
333/2225 | ChIPsim 1.57.0 (landing page) | Peter Humburg | OK | |||||||||||||||||||||||||||||||||
334/2225 | ChIPXpress 1.47.0 (landing page) | George Wu | OK | |||||||||||||||||||||||||||||||||
335/2225 | chopsticks 1.69.0 (landing page) | Hin-Tak Leung | WARNINGS | |||||||||||||||||||||||||||||||||
336/2225 | chromDraw 2.33.0 (landing page) | Jan Janecka | WARNINGS | |||||||||||||||||||||||||||||||||
337/2225 | ChromHeatMap 1.57.0 (landing page) | Tim F. Rayner | OK | |||||||||||||||||||||||||||||||||
338/2225 | chromPlot 1.31.0 (landing page) | Karen Y. Orostica | WARNINGS | |||||||||||||||||||||||||||||||||
339/2225 | ChromSCape 1.13.0 (landing page) | Pacome Prompsy | ERROR | |||||||||||||||||||||||||||||||||
340/2225 | chromstaR 1.29.0 (landing page) | Aaron Taudt | ERROR | |||||||||||||||||||||||||||||||||
341/2225 | chromVAR 1.25.0 (landing page) | Alicia Schep | OK | |||||||||||||||||||||||||||||||||
342/2225 | CHRONOS 1.31.0 (landing page) | Panos Balomenos | ERROR | |||||||||||||||||||||||||||||||||
343/2225 | cicero 1.21.0 (landing page) | Hannah Pliner | OK | |||||||||||||||||||||||||||||||||
344/2225 | CIMICE 1.11.0 (landing page) | Nicolò Rossi | OK | |||||||||||||||||||||||||||||||||
345/2225 | CINdex 1.31.0 (landing page) | Yuriy Gusev | ERROR | |||||||||||||||||||||||||||||||||
346/2225 | circRNAprofiler 1.17.0 (landing page) | Simona Aufiero | ERROR | |||||||||||||||||||||||||||||||||
347/2225 | CircSeqAlignTk 1.5.0 (landing page) | Jianqiang Sun | ERROR | |||||||||||||||||||||||||||||||||
348/2225 | cisPath 1.43.0 (landing page) | Likun Wang | WARNINGS | |||||||||||||||||||||||||||||||||
349/2225 | CiteFuse 1.15.0 (landing page) | Yingxin Lin | ERROR | |||||||||||||||||||||||||||||||||
350/2225 | ClassifyR 3.7.1 (landing page) | Dario Strbenac | WARNINGS | |||||||||||||||||||||||||||||||||
351/2225 | cleanUpdTSeq 1.41.0 (landing page) | Jianhong Ou | OK | |||||||||||||||||||||||||||||||||
352/2225 | cleaver 1.41.0 (landing page) | Sebastian Gibb | OK | |||||||||||||||||||||||||||||||||
353/2225 | clevRvis 1.3.0 (landing page) | Sarah Sandmann | OK | |||||||||||||||||||||||||||||||||
354/2225 | clippda 1.53.0 (landing page) | Stephen Nyangoma | OK | |||||||||||||||||||||||||||||||||
355/2225 | clipper 1.43.0 (landing page) | Paolo Martini | OK | |||||||||||||||||||||||||||||||||
356/2225 | cliProfiler 1.9.0 (landing page) | You Zhou | OK | |||||||||||||||||||||||||||||||||
357/2225 | cliqueMS 1.17.0 (landing page) | Oriol Senan Campos | WARNINGS | |||||||||||||||||||||||||||||||||
358/2225 | Clomial 1.39.0 (landing page) | Habil Zare | OK | |||||||||||||||||||||||||||||||||
359/2225 | clst 1.51.0 (landing page) | Noah Hoffman | WARNINGS | |||||||||||||||||||||||||||||||||
360/2225 | clstutils 1.51.0 (landing page) | Noah Hoffman | WARNINGS | |||||||||||||||||||||||||||||||||
361/2225 | CluMSID 1.19.0 (landing page) | Tobias Depke | WARNINGS | |||||||||||||||||||||||||||||||||
362/2225 | clustComp 1.31.0 (landing page) | Aurora Torrente | OK | |||||||||||||||||||||||||||||||||
363/2225 | clusterExperiment 2.23.0 (landing page) | Elizabeth Purdom | WARNINGS | |||||||||||||||||||||||||||||||||
364/2225 | ClusterFoldSimilarity 0.99.10 (landing page) | Oscar Gonzalez-Velasco | ERROR | |||||||||||||||||||||||||||||||||
365/2225 | ClusterJudge 1.25.0 (landing page) | Adrian Pasculescu | OK | |||||||||||||||||||||||||||||||||
366/2225 | clusterProfiler 4.11.0 (landing page) | Guangchuang Yu | ERROR | |||||||||||||||||||||||||||||||||
367/2225 | clusterSeq 1.27.0 (landing page) | Thomas J. Hardcastle | ERROR | |||||||||||||||||||||||||||||||||
368/2225 | ClusterSignificance 1.31.0 (landing page) | Jason T Serviss | OK | |||||||||||||||||||||||||||||||||
369/2225 | clusterStab 1.75.0 (landing page) | James W. MacDonald | OK | |||||||||||||||||||||||||||||||||
370/2225 | clustifyr 1.15.1 (landing page) | Kent Riemondy | OK | |||||||||||||||||||||||||||||||||
371/2225 | ClustIRR 1.1.0 (landing page) | Simo Kitanovski | OK | |||||||||||||||||||||||||||||||||
372/2225 | CMA 1.61.0 (landing page) | Roman Hornung | OK | |||||||||||||||||||||||||||||||||
373/2225 | cmapR 1.15.0 (landing page) | Ted Natoli | OK | |||||||||||||||||||||||||||||||||
374/2225 | cn.farms 1.51.0 (landing page) | Andreas Mitterecker | OK | |||||||||||||||||||||||||||||||||
375/2225 | cn.mops 1.49.0 (landing page) | Gundula Povysil | ERROR | |||||||||||||||||||||||||||||||||
376/2225 | CNAnorm 1.49.0 (landing page) | Stefano Berri | OK | |||||||||||||||||||||||||||||||||
377/2225 | CNEr 1.39.0 (landing page) | Ge Tan | WARNINGS | |||||||||||||||||||||||||||||||||
378/2225 | CNORdt 1.45.0 (landing page) | A. MacNamara | OK | |||||||||||||||||||||||||||||||||
379/2225 | CNORfeeder 1.43.0 (landing page) | Attila Gabor | WARNINGS | |||||||||||||||||||||||||||||||||
380/2225 | CNORfuzzy 1.45.0 (landing page) | T. Cokelaer | OK | |||||||||||||||||||||||||||||||||
381/2225 | CNORode 1.45.0 (landing page) | Attila Gabor | ERROR | |||||||||||||||||||||||||||||||||
382/2225 | CNTools 1.59.0 (landing page) | J. Zhang | OK | |||||||||||||||||||||||||||||||||
383/2225 | CNVfilteR 1.17.0 (landing page) | Jose Marcos Moreno-Cabrera | ERROR | |||||||||||||||||||||||||||||||||
384/2225 | CNVgears 1.11.0 (landing page) | Simone Montalbano | ERROR | |||||||||||||||||||||||||||||||||
385/2225 | cnvGSA 1.47.0 (landing page) | Joseph Lugo | OK | |||||||||||||||||||||||||||||||||
386/2225 | CNViz 1.11.0 (landing page) | Rebecca Greenblatt | ERROR | |||||||||||||||||||||||||||||||||
387/2225 | CNVMetrics 1.7.0 (landing page) | Astrid Deschênes | OK | |||||||||||||||||||||||||||||||||
388/2225 | CNVPanelizer 1.35.0 (landing page) | Thomas Wolf | ERROR | |||||||||||||||||||||||||||||||||
389/2225 | CNVRanger 1.19.0 (landing page) | Ludwig Geistlinger | ERROR | |||||||||||||||||||||||||||||||||
390/2225 | CNVrd2 1.41.0 (landing page) | Hoang Tan Nguyen | OK | |||||||||||||||||||||||||||||||||
391/2225 | CoCiteStats 1.75.0 (landing page) | Bioconductor Package Maintainer | OK | |||||||||||||||||||||||||||||||||
392/2225 | COCOA 2.17.0 (landing page) | John Lawson | OK | |||||||||||||||||||||||||||||||||
393/2225 | codelink 1.71.0 (landing page) | Diego Diez | OK | |||||||||||||||||||||||||||||||||
394/2225 | CODEX 1.35.0 (landing page) | Yuchao Jiang | OK | |||||||||||||||||||||||||||||||||
395/2225 | CoGAPS 3.23.0 (landing page) | Elana J. Fertig | ERROR | |||||||||||||||||||||||||||||||||
396/2225 | cogena 1.37.0 (landing page) | Zhilong Jia | WARNINGS | |||||||||||||||||||||||||||||||||
397/2225 | cogeqc 1.7.0 (landing page) | Fabrício Almeida-Silva | OK | |||||||||||||||||||||||||||||||||
398/2225 | Cogito 1.9.0 (landing page) | Annika Bürger | ERROR | |||||||||||||||||||||||||||||||||
399/2225 | coGPS 1.47.0 (landing page) | Yingying Wei | OK | |||||||||||||||||||||||||||||||||
400/2225 | COHCAP 1.49.0 (landing page) | Charles Warden | OK | |||||||||||||||||||||||||||||||||
401/2225 | cola 2.9.0 (landing page) | Zuguang Gu | ERROR | |||||||||||||||||||||||||||||||||
402/2225 | comapr 1.7.1 (landing page) | Ruqian Lyu | OK | |||||||||||||||||||||||||||||||||
403/2225 | combi 1.15.0 (landing page) | Stijn Hawinkel | OK | |||||||||||||||||||||||||||||||||
404/2225 | coMET 1.35.0 (landing page) | Tiphaine Martin | WARNINGS | |||||||||||||||||||||||||||||||||
405/2225 | coMethDMR 1.7.0 (landing page) | Fernanda Veitzman | ERROR | |||||||||||||||||||||||||||||||||
406/2225 | compartmap 1.21.0 (landing page) | Benjamin Johnson | ERROR | |||||||||||||||||||||||||||||||||
407/2225 | COMPASS 1.41.0 (landing page) | Greg Finak | OK | |||||||||||||||||||||||||||||||||
408/2225 | compcodeR 1.39.0 (landing page) | Charlotte Soneson | ERROR | |||||||||||||||||||||||||||||||||
409/2225 | compEpiTools 1.37.0 (landing page) | Mattia Furlan | WARNINGS | |||||||||||||||||||||||||||||||||
410/2225 | ComplexHeatmap 2.19.0 (landing page) | Zuguang Gu | OK | |||||||||||||||||||||||||||||||||
411/2225 | CompoundDb 1.7.0 (landing page) | Johannes Rainer | OK | |||||||||||||||||||||||||||||||||
412/2225 | ComPrAn 1.11.0 (landing page) | Petra Palenikova | OK | |||||||||||||||||||||||||||||||||
413/2225 | compSPOT 1.1.0 (landing page) | Sydney Grant | OK | |||||||||||||||||||||||||||||||||
414/2225 | concordexR 1.3.0 (landing page) | Kayla Jackson | ERROR | |||||||||||||||||||||||||||||||||
415/2225 | condiments 1.11.0 (landing page) | Hector Roux de Bezieux | ERROR | |||||||||||||||||||||||||||||||||
416/2225 | CONFESS 1.31.0 (landing page) | Diana LOW | WARNINGS | |||||||||||||||||||||||||||||||||
417/2225 | consensus 1.21.0 (landing page) | Tim Peters | OK | |||||||||||||||||||||||||||||||||
418/2225 | ConsensusClusterPlus 1.67.0 (landing page) | Matt Wilkerson | OK | |||||||||||||||||||||||||||||||||
419/2225 | consensusDE 1.21.0 (landing page) | Ashley J. Waardenberg | OK | |||||||||||||||||||||||||||||||||
420/2225 | consensusOV 1.25.0 (landing page) | Benjamin Haibe-Kains | OK | |||||||||||||||||||||||||||||||||
421/2225 | consensusSeekeR 1.31.0 (landing page) | Astrid Deschenes | OK | |||||||||||||||||||||||||||||||||
422/2225 | consICA 2.1.0 (landing page) | Petr V. Nazarov | ERROR | |||||||||||||||||||||||||||||||||
423/2225 | CONSTANd 1.11.0 (landing page) | Dirk Valkenborg | OK | |||||||||||||||||||||||||||||||||
424/2225 | contiBAIT 1.31.0 (landing page) | Kieran O'Neill | ERROR | |||||||||||||||||||||||||||||||||
425/2225 | conumee 1.37.0 (landing page) | Volker Hovestadt | OK | |||||||||||||||||||||||||||||||||
426/2225 | convert 1.79.0 (landing page) | Yee Hwa (Jean) Yang | OK | |||||||||||||||||||||||||||||||||
427/2225 | copa 1.71.0 (landing page) | James W. MacDonald | OK | |||||||||||||||||||||||||||||||||
428/2225 | CopyNumberPlots 1.19.0 (landing page) | Bernat Gel | ERROR | |||||||||||||||||||||||||||||||||
429/2225 | coRdon 1.21.0 (landing page) | Anamaria Elek | OK | |||||||||||||||||||||||||||||||||
430/2225 | CoRegNet 1.41.0 (landing page) | Remy Nicolle | ERROR | |||||||||||||||||||||||||||||||||
431/2225 | CoreGx 2.7.0 (landing page) | Benjamin Haibe-Kains | ERROR | |||||||||||||||||||||||||||||||||
432/2225 | Cormotif 1.49.0 (landing page) | Yingying Wei | OK | |||||||||||||||||||||||||||||||||
433/2225 | corral 1.13.0 (landing page) | Lauren Hsu | ERROR | |||||||||||||||||||||||||||||||||
434/2225 | CORREP 1.69.0 (landing page) | Dongxiao Zhu | ERROR | |||||||||||||||||||||||||||||||||
435/2225 | coseq 1.27.0 (landing page) | Andrea Rau | OK | |||||||||||||||||||||||||||||||||
436/2225 | CoSIA 1.3.0 (landing page) | Amanda D. Clark | ERROR | |||||||||||||||||||||||||||||||||
437/2225 | cosmiq 1.37.0 (landing page) | David Fischer | OK | |||||||||||||||||||||||||||||||||
438/2225 | cosmosR 1.11.0 (landing page) | Attila Gabor | OK | |||||||||||||||||||||||||||||||||
439/2225 | COSNet 1.37.0 (landing page) | Marco Frasca | WARNINGS | |||||||||||||||||||||||||||||||||
440/2225 | COTAN 2.3.0 (landing page) | Galfrè Silvia Giulia | ERROR | |||||||||||||||||||||||||||||||||
441/2225 | countsimQC 1.21.0 (landing page) | Charlotte Soneson | OK | |||||||||||||||||||||||||||||||||
442/2225 | covEB 1.29.0 (landing page) | C. Pacini | OK | |||||||||||||||||||||||||||||||||
443/2225 | CoverageView 1.41.0 (landing page) | Ernesto Lowy | WARNINGS | |||||||||||||||||||||||||||||||||
444/2225 | covRNA 1.29.0 (landing page) | Lara Urban | OK | |||||||||||||||||||||||||||||||||
445/2225 | cpvSNP 1.35.0 (landing page) | Caitlin McHugh | OK | |||||||||||||||||||||||||||||||||
446/2225 | cqn 1.49.0 (landing page) | Kasper Daniel Hansen | OK | |||||||||||||||||||||||||||||||||
447/2225 | CRImage 1.51.0 (landing page) | Henrik Failmezger | OK | |||||||||||||||||||||||||||||||||
448/2225 | crisprBase 1.7.0 (landing page) | Jean-Philippe Fortin | OK | |||||||||||||||||||||||||||||||||
449/2225 | crisprBowtie 1.7.0 (landing page) | Jean-Philippe Fortin | OK | |||||||||||||||||||||||||||||||||
450/2225 | crisprBwa 1.7.0 (landing page) | Jean-Philippe Fortin | OK | |||||||||||||||||||||||||||||||||
451/2225 | crisprDesign 1.5.0 (landing page) | Jean-Philippe Fortin | OK | |||||||||||||||||||||||||||||||||
452/2225 | crisprScore 1.7.0 (landing page) | Jean-Philippe Fortin | OK | |||||||||||||||||||||||||||||||||
453/2225 | CRISPRseek 1.43.0 (landing page) | Lihua Julie Zhu | ERROR | |||||||||||||||||||||||||||||||||
454/2225 | crisprseekplus 1.29.0 (landing page) | Alper Kucukural | ERROR | |||||||||||||||||||||||||||||||||
455/2225 | CrispRVariants 1.31.0 (landing page) | Helen Lindsay | WARNINGS | |||||||||||||||||||||||||||||||||
456/2225 | crisprVerse 1.5.0 (landing page) | Jean-Philippe Fortin | OK | |||||||||||||||||||||||||||||||||
457/2225 | crisprViz 1.5.0 (landing page) | Jean-Philippe Fortin | OK | |||||||||||||||||||||||||||||||||
458/2225 | crlmm 1.61.0 (landing page) | Benilton S Carvalho | WARNINGS | |||||||||||||||||||||||||||||||||
459/2225 | crossmeta 1.29.0 (landing page) | Alex Pickering | OK | |||||||||||||||||||||||||||||||||
460/2225 | CSAR 1.55.0 (landing page) | Jose M Muino | OK | |||||||||||||||||||||||||||||||||
461/2225 | csaw 1.37.0 (landing page) | Aaron Lun | WARNINGS | |||||||||||||||||||||||||||||||||
462/2225 | csdR 1.9.0 (landing page) | Jakob Peder Pettersen | ERROR | |||||||||||||||||||||||||||||||||
463/2225 | CSSQ 1.15.0 (landing page) | Fan Lab at Georgia Institute of Technology | OK | |||||||||||||||||||||||||||||||||
464/2225 | ctc 1.77.0 (landing page) | Antoine Lucas | OK | |||||||||||||||||||||||||||||||||
465/2225 | CTdata 1.3.0 (landing page) | Laurent Gatto | ERROR | |||||||||||||||||||||||||||||||||
466/2225 | CTDquerier 2.11.0 (landing page) | Xavier Escribà-Montagut | TIMEOUT | |||||||||||||||||||||||||||||||||
467/2225 | CTexploreR 0.99.5 (landing page) | Axelle Loriot | ERROR | |||||||||||||||||||||||||||||||||
468/2225 | cTRAP 1.21.0 (landing page) | Nuno Saraiva-Agostinho | ERROR | |||||||||||||||||||||||||||||||||
469/2225 | ctsGE 1.29.0 (landing page) | Michal Sharabi-Schwager | OK | |||||||||||||||||||||||||||||||||
470/2225 | CTSV 1.5.0 (landing page) | Jinge Yu Developer | OK | |||||||||||||||||||||||||||||||||
471/2225 | cummeRbund 2.45.0 (landing page) | Loyal A. Goff | WARNINGS | |||||||||||||||||||||||||||||||||
472/2225 | CuratedAtlasQueryR 1.1.0 (landing page) | Stefano Mangiola | ERROR | |||||||||||||||||||||||||||||||||
473/2225 | customCMPdb 1.13.0 (landing page) | Yuzhu Duan | ERROR | |||||||||||||||||||||||||||||||||
474/2225 | customProDB 1.43.0 (landing page) | Xiaojing Wang | ERROR | |||||||||||||||||||||||||||||||||
475/2225 | cyanoFilter 1.11.0 (landing page) | Oluwafemi Olusoji | OK | |||||||||||||||||||||||||||||||||
476/2225 | cycle 1.57.0 (landing page) | Matthias Futschik | OK | |||||||||||||||||||||||||||||||||
477/2225 | cydar 1.27.0 (landing page) | Aaron Lun | OK | |||||||||||||||||||||||||||||||||
478/2225 | CytoDx 1.23.0 (landing page) | Zicheng Hu | OK | |||||||||||||||||||||||||||||||||
479/2225 | CyTOFpower 1.9.0 (landing page) | Anne-Maud Ferreira | ERROR | |||||||||||||||||||||||||||||||||
480/2225 | cytofQC 1.3.0 (landing page) | Jill Lundell | OK | |||||||||||||||||||||||||||||||||
481/2225 | CytoGLMM 1.11.0 (landing page) | Christof Seiler | OK | |||||||||||||||||||||||||||||||||
482/2225 | cytoKernel 1.9.0 (landing page) | Tusharkanti Ghosh | OK | |||||||||||||||||||||||||||||||||
483/2225 | cytolib 2.15.0 (landing page) | Mike Jiang | WARNINGS | |||||||||||||||||||||||||||||||||
484/2225 | cytomapper 1.15.0 (landing page) | Nils Eling | OK | |||||||||||||||||||||||||||||||||
485/2225 | cytoMEM 1.7.0 (landing page) | Jonathan Irish | OK | |||||||||||||||||||||||||||||||||
486/2225 | CytoML 2.15.0 (landing page) | Mike Jiang | ERROR | |||||||||||||||||||||||||||||||||
487/2225 | CytoPipeline 1.3.0 (landing page) | Philippe Hauchamps | OK | |||||||||||||||||||||||||||||||||
488/2225 | CytoPipelineGUI 1.1.0 (landing page) | Philippe Hauchamps | OK | |||||||||||||||||||||||||||||||||
489/2225 | cytoviewer 1.3.0 (landing page) | Lasse Meyer | OK | |||||||||||||||||||||||||||||||||
|
| |||||||||||||||||||||||||||||||||||
Package | Maintainer | INSTALL/BUILD/CHECK | ||||||||||||||||||||||||||||||||||
490/2225 | dada2 1.31.0 (landing page) | Benjamin Callahan | OK | |||||||||||||||||||||||||||||||||
491/2225 | dagLogo 1.41.0 (landing page) | Jianhong Ou | OK | |||||||||||||||||||||||||||||||||
492/2225 | daMA 1.75.0 (landing page) | Jobst Landgrebe | OK | |||||||||||||||||||||||||||||||||
493/2225 | DAMEfinder 1.15.0 (landing page) | Stephany Orjuela | OK | |||||||||||||||||||||||||||||||||
494/2225 | DaMiRseq 2.15.0 (landing page) | Mattia Chiesa | OK | |||||||||||||||||||||||||||||||||
495/2225 | DAPAR 1.35.0 (landing page) | Samuel Wieczorek | ERROR | |||||||||||||||||||||||||||||||||
496/2225 | DART 1.51.0 (landing page) | Charles Shijie Zheng | OK | |||||||||||||||||||||||||||||||||
497/2225 | dcanr 1.19.0 (landing page) | Dharmesh D. Bhuva | OK | |||||||||||||||||||||||||||||||||
498/2225 | DCATS 1.1.0 (landing page) | Xinyi Lin | ERROR | |||||||||||||||||||||||||||||||||
499/2225 | dce 1.11.0 (landing page) | Kim Philipp Jablonski | OK | |||||||||||||||||||||||||||||||||
500/2225 | dcGSA 1.31.0 (landing page) | Jiehuan sun | WARNINGS | |||||||||||||||||||||||||||||||||
501/2225 | ddCt 1.59.0 (landing page) | Jitao David Zhang | WARNINGS | |||||||||||||||||||||||||||||||||
502/2225 | ddPCRclust 1.23.0 (landing page) | Benedikt G. Brink | OK | |||||||||||||||||||||||||||||||||
503/2225 | dearseq 1.15.0 (landing page) | Boris P. Hejblum | OK | |||||||||||||||||||||||||||||||||
504/2225 | debCAM 1.21.0 (landing page) | Lulu Chen | OK | |||||||||||||||||||||||||||||||||
505/2225 | debrowser 1.31.0 (landing page) | Alper Kucukural | ERROR | |||||||||||||||||||||||||||||||||
506/2225 | DECIPHER 2.31.0 (landing page) | Erik Wright | OK | |||||||||||||||||||||||||||||||||
507/2225 | decompTumor2Sig 2.19.0 (landing page) | Rosario M. Piro | OK | |||||||||||||||||||||||||||||||||
508/2225 | DeconRNASeq 1.45.0 (landing page) | Ting Gong | OK | |||||||||||||||||||||||||||||||||
509/2225 | decontam 1.23.0 (landing page) | Benjamin Callahan | OK | |||||||||||||||||||||||||||||||||
510/2225 | decontX 1.1.0 (landing page) | Yuan Yin | ERROR | |||||||||||||||||||||||||||||||||
511/2225 | deconvR 1.9.0 (landing page) | Irem B. Gündüz | OK | |||||||||||||||||||||||||||||||||
512/2225 | decoupleR 2.9.1 (landing page) | Pau Badia-i-Mompel | ERROR | |||||||||||||||||||||||||||||||||
513/2225 | DeepPINCS 1.11.0 (landing page) | Dongmin Jung | ERROR | |||||||||||||||||||||||||||||||||
514/2225 | deepSNV 1.49.0 (landing page) | Moritz Gerstung | OK | |||||||||||||||||||||||||||||||||
515/2225 | DEFormats 1.31.0 (landing page) | Andrzej Oleś | OK | |||||||||||||||||||||||||||||||||
516/2225 | DegNorm 1.13.0 (landing page) | Ji-Ping Wang | OK | |||||||||||||||||||||||||||||||||
517/2225 | DEGraph 1.55.0 (landing page) | Laurent Jacob | OK | |||||||||||||||||||||||||||||||||
518/2225 | DEGreport 1.39.3 (landing page) | Lorena Pantano | ERROR | |||||||||||||||||||||||||||||||||
519/2225 | DEGseq 1.57.1 (landing page) | Likun Wang | WARNINGS | |||||||||||||||||||||||||||||||||
520/2225 | DelayedArray 0.29.0 (landing page) | Hervé Pagès | WARNINGS | |||||||||||||||||||||||||||||||||
521/2225 | DelayedDataFrame 1.19.0 (landing page) | Qian Liu | OK | |||||||||||||||||||||||||||||||||
522/2225 | DelayedMatrixStats 1.25.1 (landing page) | Peter Hickey | OK | |||||||||||||||||||||||||||||||||
523/2225 | DelayedRandomArray 1.11.0 (landing page) | Aaron Lun | OK | |||||||||||||||||||||||||||||||||
524/2225 | DelayedTensor 1.9.0 (landing page) | Koki Tsuyuzaki | WARNINGS | |||||||||||||||||||||||||||||||||
525/2225 | DELocal 1.3.0 (landing page) | Rishi Das Roy | ERROR | |||||||||||||||||||||||||||||||||
526/2225 | deltaCaptureC 1.17.0 (landing page) | Michael Shapiro | OK | |||||||||||||||||||||||||||||||||
527/2225 | deltaGseg 1.43.0 (landing page) | Diana Low | WARNINGS | |||||||||||||||||||||||||||||||||
528/2225 | DeMAND 1.33.0 (landing page) | Jung Hoon Woo | OK | |||||||||||||||||||||||||||||||||
529/2225 | DeMixT 1.19.0 (landing page) | Shuai Guo | WARNINGS | |||||||||||||||||||||||||||||||||
530/2225 | demuxmix 1.5.0 (landing page) | Hans-Ulrich Klein | OK | |||||||||||||||||||||||||||||||||
531/2225 | demuxSNP 1.1.2 (landing page) | Michael Lynch | ERROR | |||||||||||||||||||||||||||||||||
532/2225 | densvis 1.13.0 (landing page) | Alan O'Callaghan | ERROR | |||||||||||||||||||||||||||||||||
533/2225 | DEP 1.25.0 (landing page) | Arne Smits | WARNINGS | |||||||||||||||||||||||||||||||||
534/2225 | DepecheR 1.19.1 (landing page) | Jakob Theorell | ERROR | |||||||||||||||||||||||||||||||||
535/2225 | DepInfeR 1.7.0 (landing page) | Junyan Lu | OK | |||||||||||||||||||||||||||||||||
536/2225 | DEqMS 1.21.0 (landing page) | Yafeng Zhu | OK | |||||||||||||||||||||||||||||||||
537/2225 | derfinder 1.37.0 (landing page) | Leonardo Collado-Torres | OK | |||||||||||||||||||||||||||||||||
538/2225 | derfinderHelper 1.37.0 (landing page) | Leonardo Collado-Torres | OK | |||||||||||||||||||||||||||||||||
539/2225 | derfinderPlot 1.37.0 (landing page) | Leonardo Collado-Torres | OK | |||||||||||||||||||||||||||||||||
540/2225 | DEScan2 1.23.0 (landing page) | Dario Righelli | WARNINGS | |||||||||||||||||||||||||||||||||
541/2225 | DESeq2 1.43.1 (landing page) | Michael Love | OK | |||||||||||||||||||||||||||||||||
542/2225 | DEsingle 1.23.0 (landing page) | Zhun Miao | OK | |||||||||||||||||||||||||||||||||
543/2225 | DESpace 1.3.0 (landing page) | Peiying Cai | OK | |||||||||||||||||||||||||||||||||
544/2225 | destiny 3.17.0 (landing page) | Philipp Angerer | ERROR | |||||||||||||||||||||||||||||||||
545/2225 | DEsubs 1.29.0 (landing page) | Aristidis G. Vrahatis | WARNINGS | |||||||||||||||||||||||||||||||||
546/2225 | DEWSeq 1.17.0 (landing page) | bioinformatics team Hentze | ERROR | |||||||||||||||||||||||||||||||||
547/2225 | DExMA 1.11.7 (landing page) | Juan Antonio Villatoro-García | OK | |||||||||||||||||||||||||||||||||
548/2225 | DEXSeq 1.49.0 (landing page) | Alejandro Reyes | OK | |||||||||||||||||||||||||||||||||
549/2225 | DFP 1.61.0 (landing page) | Rodrigo Alvarez-Glez | OK | |||||||||||||||||||||||||||||||||
550/2225 | DIAlignR 2.11.0 (landing page) | Shubham Gupta | ERROR | |||||||||||||||||||||||||||||||||
551/2225 | DiffBind 3.13.0 (landing page) | Rory Stark | ERROR | |||||||||||||||||||||||||||||||||
552/2225 | diffcoexp 1.23.0 (landing page) | Wenbin Wei | OK | |||||||||||||||||||||||||||||||||
553/2225 | diffcyt 1.23.0 (landing page) | Lukas M. Weber | OK | |||||||||||||||||||||||||||||||||
554/2225 | DifferentialRegulation 2.1.2 (landing page) | Simone Tiberi | OK | |||||||||||||||||||||||||||||||||
555/2225 | diffGeneAnalysis 1.85.0 (landing page) | Choudary Jagarlamudi | OK | |||||||||||||||||||||||||||||||||
556/2225 | diffHic 1.35.0 (landing page) | Aaron Lun | WARNINGS | |||||||||||||||||||||||||||||||||
557/2225 | DiffLogo 2.27.0 (landing page) | Hendrik Treutler | WARNINGS | |||||||||||||||||||||||||||||||||
558/2225 | diffuStats 1.23.0 (landing page) | Sergio Picart-Armada | OK | |||||||||||||||||||||||||||||||||
559/2225 | diffUTR 1.11.0 (landing page) | Pierre-Luc Germain | OK | |||||||||||||||||||||||||||||||||
560/2225 | diggit 1.35.0 (landing page) | Mariano J Alvarez | WARNINGS | |||||||||||||||||||||||||||||||||
561/2225 | Dino 1.9.0 (landing page) | Jared Brown | ERROR | |||||||||||||||||||||||||||||||||
562/2225 | dir.expiry 1.11.0 (landing page) | Aaron Lun | OK | |||||||||||||||||||||||||||||||||
563/2225 | Director 1.29.0 (landing page) | Katherine Icay | OK | |||||||||||||||||||||||||||||||||
564/2225 | DirichletMultinomial 1.45.0 (landing page) | Martin Morgan | WARNINGS | |||||||||||||||||||||||||||||||||
565/2225 | discordant 1.27.0 (landing page) | McGrath Max | OK | |||||||||||||||||||||||||||||||||
566/2225 | DiscoRhythm 1.19.0 (landing page) | Matthew Carlucci | OK | |||||||||||||||||||||||||||||||||
567/2225 | distinct 1.15.4 (landing page) | Simone Tiberi | ERROR | |||||||||||||||||||||||||||||||||
568/2225 | dittoSeq 1.15.2 (landing page) | Daniel Bunis | ERROR | |||||||||||||||||||||||||||||||||
569/2225 | divergence 1.19.0 (landing page) | Wikum Dinalankara | OK | |||||||||||||||||||||||||||||||||
570/2225 | dks 1.49.0 (landing page) | Jeffrey T. Leek | OK | |||||||||||||||||||||||||||||||||
571/2225 | DMCFB 1.17.0 (landing page) | Farhad Shokoohi | ERROR | |||||||||||||||||||||||||||||||||
572/2225 | DMCHMM 1.25.0 (landing page) | Farhad Shokoohi | WARNINGS | |||||||||||||||||||||||||||||||||
573/2225 | DMRcaller 1.35.0 (landing page) | Nicolae Radu Zabet | OK | |||||||||||||||||||||||||||||||||
574/2225 | DMRcate 2.17.0 (landing page) | Tim Peters | ERROR | |||||||||||||||||||||||||||||||||
575/2225 | DMRScan 1.25.0 (landing page) | Christian M Page | OK | |||||||||||||||||||||||||||||||||
576/2225 | dmrseq 1.23.0 (landing page) | Keegan Korthauer | ERROR | |||||||||||||||||||||||||||||||||
577/2225 | DNABarcodeCompatibility 1.19.0 (landing page) | Céline Trébeau | ERROR | |||||||||||||||||||||||||||||||||
578/2225 | DNABarcodes 1.33.0 (landing page) | Tilo Buschmann | ERROR | |||||||||||||||||||||||||||||||||
579/2225 | DNAcopy 1.77.0 (landing page) | Venkatraman E. Seshan | OK | |||||||||||||||||||||||||||||||||
580/2225 | DNAfusion 1.5.0 (landing page) | Christoffer Trier Maansson | OK | |||||||||||||||||||||||||||||||||
581/2225 | DNAshapeR 1.31.0 (landing page) | Tsu-Pei Chiu | OK | |||||||||||||||||||||||||||||||||
582/2225 | DominoEffect 1.23.2 (landing page) | Marija Buljan | OK | |||||||||||||||||||||||||||||||||
583/2225 | doppelgangR 1.31.0 (landing page) | Levi Waldron | OK | |||||||||||||||||||||||||||||||||
584/2225 | Doscheda 1.25.0 (landing page) | Bruno Contrino | OK | |||||||||||||||||||||||||||||||||
585/2225 | DOSE 3.29.0 (landing page) | Guangchuang Yu | ERROR | |||||||||||||||||||||||||||||||||
586/2225 | doseR 1.19.0 (landing page) | ake.vastermark | OK | |||||||||||||||||||||||||||||||||
587/2225 | doubletrouble 1.3.1 (landing page) | Fabrício Almeida-Silva | OK | |||||||||||||||||||||||||||||||||
588/2225 | dpeak 1.15.0 (landing page) | Dongjun Chung | ERROR | |||||||||||||||||||||||||||||||||
589/2225 | drawProteins 1.23.0 (landing page) | Paul Brennan | OK | |||||||||||||||||||||||||||||||||
590/2225 | dreamlet 1.1.1 (landing page) | Gabriel Hoffman | ERROR | |||||||||||||||||||||||||||||||||
591/2225 | DRIMSeq 1.31.0 (landing page) | Malgorzata Nowicka | WARNINGS | |||||||||||||||||||||||||||||||||
592/2225 | DriverNet 1.43.0 (landing page) | Jiarui Ding | OK | |||||||||||||||||||||||||||||||||
593/2225 | DropletUtils 1.23.0 (landing page) | Jonathan Griffiths | ERROR | |||||||||||||||||||||||||||||||||
594/2225 | drugTargetInteractions 1.11.1 (landing page) | Thomas Girke | OK | |||||||||||||||||||||||||||||||||
595/2225 | DrugVsDisease 2.45.0 (landing page) | j. Saez-Rodriguez | OK | |||||||||||||||||||||||||||||||||
596/2225 | DSS 2.51.0 (landing page) | Hao Wu | ERROR | |||||||||||||||||||||||||||||||||
597/2225 | dStruct 1.9.0 (landing page) | Krishna Choudhary | OK | |||||||||||||||||||||||||||||||||
598/2225 | DTA 2.49.0 (landing page) | Bjoern Schwalb | OK | |||||||||||||||||||||||||||||||||
599/2225 | Dune 1.15.0 (landing page) | Hector Roux de Bezieux | OK | |||||||||||||||||||||||||||||||||
600/2225 | dupRadar 1.33.0 (landing page) | Sergi Sayols | ERROR | |||||||||||||||||||||||||||||||||
601/2225 | dyebias 1.63.0 (landing page) | Philip Lijnzaad | OK | |||||||||||||||||||||||||||||||||
602/2225 | DynDoc 1.81.0 (landing page) | Bioconductor Package Maintainer | OK | |||||||||||||||||||||||||||||||||
|
| |||||||||||||||||||||||||||||||||||
Package | Maintainer | INSTALL/BUILD/CHECK | ||||||||||||||||||||||||||||||||||
603/2225 | easier 1.9.0 (landing page) | Oscar Lapuente-Santana | OK | |||||||||||||||||||||||||||||||||
604/2225 | EasyCellType 1.5.0 (landing page) | Ruoxing Li | ERROR | |||||||||||||||||||||||||||||||||
605/2225 | easylift 1.1.0 (landing page) | Abdullah Al Nahid | OK | |||||||||||||||||||||||||||||||||
606/2225 | easyreporting 1.15.0 (landing page) | Dario Righelli | OK | |||||||||||||||||||||||||||||||||
607/2225 | easyRNASeq 2.39.0 (landing page) | Nicolas Delhomme | OK | |||||||||||||||||||||||||||||||||
608/2225 | EBarrays 2.67.0 (landing page) | Ming Yuan | OK | |||||||||||||||||||||||||||||||||
609/2225 | EBcoexpress 1.47.0 (landing page) | John A. Dawson | WARNINGS | |||||||||||||||||||||||||||||||||
610/2225 | EBImage 4.45.0 (landing page) | Andrzej Oleś | OK | |||||||||||||||||||||||||||||||||
611/2225 | EBSEA 1.31.0 (landing page) | Arfa Mehmood | OK | |||||||||||||||||||||||||||||||||
612/2225 | EBSeq 2.1.0 (landing page) | Xiuyu Ma | OK | |||||||||||||||||||||||||||||||||
613/2225 | EBSeqHMM 1.37.0 (landing page) | Ning Leng | ERROR | |||||||||||||||||||||||||||||||||
614/2225 | ecolitk 1.75.0 (landing page) | Laurent Gautier | WARNINGS | |||||||||||||||||||||||||||||||||
615/2225 | EDASeq 2.37.0 (landing page) | Davide Risso | OK | |||||||||||||||||||||||||||||||||
616/2225 | edge 2.35.0 (landing page) | John D. Storey | WARNINGS | |||||||||||||||||||||||||||||||||
617/2225 | edgeR 4.1.2 (landing page) | Yunshun Chen | OK | |||||||||||||||||||||||||||||||||
618/2225 | EDIRquery 1.3.0 (landing page) | Laura D.T. Vo Ngoc | OK | |||||||||||||||||||||||||||||||||
619/2225 | eds 1.5.0 (landing page) | Avi Srivastava | OK | |||||||||||||||||||||||||||||||||
620/2225 | eegc 1.29.0 (landing page) | Xiaoyuan Zhou | ERROR | |||||||||||||||||||||||||||||||||
621/2225 | EGAD 1.31.0 (landing page) | Sara Ballouz | WARNINGS | |||||||||||||||||||||||||||||||||
622/2225 | EGSEA 1.31.0 (landing page) | Monther Alhamdoosh | ERROR | |||||||||||||||||||||||||||||||||
623/2225 | eiR 1.43.0 (landing page) | Thomas Girke | WARNINGS | |||||||||||||||||||||||||||||||||
624/2225 | eisaR 1.15.0 (landing page) | Michael Stadler | OK | |||||||||||||||||||||||||||||||||
625/2225 | ELMER 2.27.0 (landing page) | Tiago Chedraoui Silva | ERROR | |||||||||||||||||||||||||||||||||
626/2225 | EMDomics 2.33.0 (landing page) | Sadhika Malladi | OK | |||||||||||||||||||||||||||||||||
627/2225 | EmpiricalBrownsMethod 1.31.0 (landing page) | David Gibbs | OK | |||||||||||||||||||||||||||||||||
628/2225 | EnhancedVolcano 1.21.0 (landing page) | Kevin Blighe | OK | |||||||||||||||||||||||||||||||||
629/2225 | enhancerHomologSearch 1.9.2 (landing page) | Jianhong Ou | WARNINGS | |||||||||||||||||||||||||||||||||
630/2225 | EnMCB 1.15.0 (landing page) | Xin Yu | OK | |||||||||||||||||||||||||||||||||
631/2225 | ENmix 1.39.2 (landing page) | Zongli Xu | OK | |||||||||||||||||||||||||||||||||
632/2225 | EnrichedHeatmap 1.33.0 (landing page) | Zuguang Gu | OK | |||||||||||||||||||||||||||||||||
633/2225 | EnrichmentBrowser 2.33.1 (landing page) | Ludwig Geistlinger | OK | |||||||||||||||||||||||||||||||||
634/2225 | enrichplot 1.23.0 (landing page) | Guangchuang Yu | ERROR | |||||||||||||||||||||||||||||||||
635/2225 | enrichTF 1.19.0 (landing page) | Zheng Wei | ERROR | |||||||||||||||||||||||||||||||||
636/2225 | enrichViewNet 1.1.0 (landing page) | Astrid Deschênes | ERROR | |||||||||||||||||||||||||||||||||
637/2225 | ensembldb 2.27.1 (landing page) | Johannes Rainer | ERROR | |||||||||||||||||||||||||||||||||
638/2225 | ensemblVEP 1.45.0 (landing page) | Bioconductor Package Maintainer | ERROR | |||||||||||||||||||||||||||||||||
639/2225 | epialleleR 1.11.2 (landing page) | Oleksii Nikolaienko | OK | |||||||||||||||||||||||||||||||||
640/2225 | EpiCompare 1.7.1 (landing page) | Thomas Roberts | ERROR | |||||||||||||||||||||||||||||||||
641/2225 | epidecodeR 1.11.0 (landing page) | Kandarp Joshi | OK | |||||||||||||||||||||||||||||||||
642/2225 | EpiDISH 2.19.0 (landing page) | Shijie C. Zheng | OK | |||||||||||||||||||||||||||||||||
643/2225 | epigenomix 1.43.0 (landing page) | Hans-Ulrich Klein | OK | |||||||||||||||||||||||||||||||||
644/2225 | epigraHMM 1.11.0 (landing page) | Pedro Baldoni | WARNINGS | |||||||||||||||||||||||||||||||||
645/2225 | EpiMix 1.5.0 (landing page) | Yuanning Zheng | ERROR | |||||||||||||||||||||||||||||||||
646/2225 | epimutacions 1.7.1 (landing page) | Dolors Pelegri-Siso | OK | |||||||||||||||||||||||||||||||||
647/2225 | epiNEM 1.27.0 (landing page) | Martin Pirkl | OK | |||||||||||||||||||||||||||||||||
648/2225 | epistack 1.9.0 (landing page) | DEVAILLY Guillaume | OK | |||||||||||||||||||||||||||||||||
649/2225 | epistasisGA 1.5.0 (landing page) | Michael Nodzenski | OK | |||||||||||||||||||||||||||||||||
650/2225 | EpiTxDb 1.15.0 (landing page) | Felix G.M. Ernst | ERROR | |||||||||||||||||||||||||||||||||
651/2225 | epivizr 2.33.0 (landing page) | Hector Corrada Bravo | OK | |||||||||||||||||||||||||||||||||
652/2225 | epivizrChart 1.25.0 (landing page) | Hector Corrada Bravo | ERROR | |||||||||||||||||||||||||||||||||
653/2225 | epivizrData 1.31.0 (landing page) | Hector Corrada Bravo | OK | |||||||||||||||||||||||||||||||||
654/2225 | epivizrServer 1.31.0 (landing page) | Hector Corrada Bravo | OK | |||||||||||||||||||||||||||||||||
655/2225 | epivizrStandalone 1.31.0 (landing page) | Hector Corrada Bravo | WARNINGS | |||||||||||||||||||||||||||||||||
656/2225 | erccdashboard 1.37.0 (landing page) | Sarah Munro | OK | |||||||||||||||||||||||||||||||||
657/2225 | erma 1.19.0 (landing page) | VJ Carey | OK | |||||||||||||||||||||||||||||||||
658/2225 | ERSSA 1.21.0 (landing page) | Zixuan Shao | OK | |||||||||||||||||||||||||||||||||
659/2225 | esATAC 1.25.0 (landing page) | Zheng Wei | ERROR | |||||||||||||||||||||||||||||||||
660/2225 | escape 1.13.0 (landing page) | Nick Borcherding | ERROR | |||||||||||||||||||||||||||||||||
661/2225 | escheR 1.3.1 (landing page) | Boyi Guo | ERROR | |||||||||||||||||||||||||||||||||
662/2225 | esetVis 1.29.1 (landing page) | Laure Cougnaud | ERROR | |||||||||||||||||||||||||||||||||
663/2225 | eudysbiome 1.33.0 (landing page) | Xiaoyuan Zhou | OK | |||||||||||||||||||||||||||||||||
664/2225 | evaluomeR 1.19.0 (landing page) | José Antonio Bernabé-Díaz | OK | |||||||||||||||||||||||||||||||||
665/2225 | EventPointer 3.11.0 (landing page) | Juan A. Ferrer-Bonsoms | OK | |||||||||||||||||||||||||||||||||
666/2225 | EWCE 1.11.3 (landing page) | Alan Murphy | ERROR | |||||||||||||||||||||||||||||||||
667/2225 | ExCluster 1.21.0 (landing page) | R. Matthew Tanner | OK | |||||||||||||||||||||||||||||||||
668/2225 | ExiMiR 2.45.0 (landing page) | Sylvain Gubian | OK | |||||||||||||||||||||||||||||||||
669/2225 | exomePeak2 1.15.0 (landing page) | Zhen Wei | ERROR | |||||||||||||||||||||||||||||||||
670/2225 | ExperimentHub 2.11.0 (landing page) | Bioconductor Package Maintainer | WARNINGS | |||||||||||||||||||||||||||||||||
671/2225 | ExperimentHubData 1.29.0 (landing page) | Bioconductor Package Maintainer | WARNINGS | |||||||||||||||||||||||||||||||||
672/2225 | ExperimentSubset 1.13.0 (landing page) | Irzam Sarfraz | ERROR | |||||||||||||||||||||||||||||||||
673/2225 | ExploreModelMatrix 1.15.0 (landing page) | Charlotte Soneson | OK | |||||||||||||||||||||||||||||||||
674/2225 | ExpressionAtlas 1.31.0 (landing page) | Pedro Madrigal | OK | |||||||||||||||||||||||||||||||||
675/2225 | extraChIPs 1.7.0 (landing page) | Stephen Pederson | OK | |||||||||||||||||||||||||||||||||
|
| |||||||||||||||||||||||||||||||||||
Package | Maintainer | INSTALL/BUILD/CHECK | ||||||||||||||||||||||||||||||||||
676/2225 | fabia 2.49.0 (landing page) | Andreas Mitterecker | WARNINGS | |||||||||||||||||||||||||||||||||
677/2225 | factDesign 1.79.0 (landing page) | Denise Scholtens | OK | |||||||||||||||||||||||||||||||||
678/2225 | factR 1.5.0 (landing page) | Fursham Hamid | ERROR | |||||||||||||||||||||||||||||||||
679/2225 | FamAgg 1.31.0 (landing page) | Johannes Rainer | OK | |||||||||||||||||||||||||||||||||
680/2225 | famat 1.13.0 (landing page) | Mathieu Charles | ERROR | |||||||||||||||||||||||||||||||||
681/2225 | farms 1.55.0 (landing page) | Djork-Arne Clevert | ERROR | |||||||||||||||||||||||||||||||||
682/2225 | fastLiquidAssociation 1.39.0 (landing page) | Tina Gunderson | WARNINGS | |||||||||||||||||||||||||||||||||
683/2225 | FastqCleaner 1.21.0 (landing page) | Leandro Roser | OK | |||||||||||||||||||||||||||||||||
684/2225 | fastreeR 1.7.0 (landing page) | Anestis Gkanogiannis | OK | |||||||||||||||||||||||||||||||||
685/2225 | fastseg 1.49.0 (landing page) | Alexander Blume | OK | |||||||||||||||||||||||||||||||||
686/2225 | FCBF 2.11.0 (landing page) | Tiago Lubiana | ERROR | |||||||||||||||||||||||||||||||||
687/2225 | fCCAC 1.29.0 (landing page) | Pedro Madrigal | OK | |||||||||||||||||||||||||||||||||
688/2225 | fCI 1.33.0 (landing page) | Shaojun Tang | OK | |||||||||||||||||||||||||||||||||
689/2225 | fcScan 1.17.0 (landing page) | Pierre Khoueiry | OK | |||||||||||||||||||||||||||||||||
690/2225 | fdrame 1.75.0 (landing page) | Effi Kenigsberg | OK | |||||||||||||||||||||||||||||||||
691/2225 | FEAST 1.11.0 (landing page) | Kenong Su | ERROR | |||||||||||||||||||||||||||||||||
692/2225 | FeatSeekR 1.3.0 (landing page) | Tuemay Capraz | OK | |||||||||||||||||||||||||||||||||
693/2225 | fedup 1.11.0 (landing page) | Catherine Ross | OK | |||||||||||||||||||||||||||||||||
694/2225 | FELLA 1.23.0 (landing page) | Sergio Picart-Armada | ERROR | |||||||||||||||||||||||||||||||||
695/2225 | fenr 1.1.0 (landing page) | Marek Gierlinski | OK | |||||||||||||||||||||||||||||||||
696/2225 | ffpe 1.47.0 (landing page) | Levi Waldron | OK | |||||||||||||||||||||||||||||||||
697/2225 | fgga 1.11.0 (landing page) | Flavio Spetale | ERROR | |||||||||||||||||||||||||||||||||
698/2225 | FGNet 3.37.0 (landing page) | Sara Aibar | WARNINGS | |||||||||||||||||||||||||||||||||
699/2225 | fgsea 1.29.0 (landing page) | Alexey Sergushichev | ERROR | |||||||||||||||||||||||||||||||||
700/2225 | FilterFFPE 1.13.0 (landing page) | Lanying Wei | OK | |||||||||||||||||||||||||||||||||
701/2225 | FindIT2 1.9.0 (landing page) | Guandong Shang | ERROR | |||||||||||||||||||||||||||||||||
702/2225 | FISHalyseR 1.37.0 (landing page) | Karesh Arunakirinathan | WARNINGS | |||||||||||||||||||||||||||||||||
703/2225 | fishpond 2.9.0 (landing page) | Michael Love | OK | |||||||||||||||||||||||||||||||||
704/2225 | FitHiC 1.29.0 (landing page) | Ruyu Tan | OK | |||||||||||||||||||||||||||||||||
705/2225 | flagme 1.59.0 (landing page) | Mark Robinson | WARNINGS | |||||||||||||||||||||||||||||||||
706/2225 | FLAMES 1.9.0 (landing page) | Oliver Voogd | ERROR | |||||||||||||||||||||||||||||||||
707/2225 | flowAI 1.33.0 (landing page) | Gianni Monaco | OK | |||||||||||||||||||||||||||||||||
708/2225 | flowBeads 1.41.0 (landing page) | Nikolas Pontikos | WARNINGS | |||||||||||||||||||||||||||||||||
709/2225 | flowBin 1.39.0 (landing page) | Kieran O'Neill | OK | |||||||||||||||||||||||||||||||||
710/2225 | flowcatchR 1.37.0 (landing page) | Federico Marini | OK | |||||||||||||||||||||||||||||||||
711/2225 | flowCHIC 1.37.0 (landing page) | Author: Joachim Schumann | OK | |||||||||||||||||||||||||||||||||
712/2225 | flowClean 1.41.0 (landing page) | Kipper Fletez-Brant | WARNINGS | |||||||||||||||||||||||||||||||||
713/2225 | flowClust 3.41.0 (landing page) | Greg Finak | ERROR | |||||||||||||||||||||||||||||||||
714/2225 | flowCore 2.15.0 (landing page) | Mike Jiang | ERROR | |||||||||||||||||||||||||||||||||
715/2225 | flowCut 1.13.0 (landing page) | Justin Meskas | OK | |||||||||||||||||||||||||||||||||
716/2225 | flowCyBar 1.39.0 (landing page) | Joachim Schumann | OK | |||||||||||||||||||||||||||||||||
717/2225 | flowDensity 1.37.3 (landing page) | Mehrnoush Malek | WARNINGS | |||||||||||||||||||||||||||||||||
718/2225 | flowFP 1.61.0 (landing page) | Herb Holyst | OK | |||||||||||||||||||||||||||||||||
719/2225 | flowGate 1.3.0 (landing page) | Andrew Wight | OK | |||||||||||||||||||||||||||||||||
720/2225 | flowGraph 1.11.0 (landing page) | Alice Yue | OK | |||||||||||||||||||||||||||||||||
721/2225 | flowMap 1.41.0 (landing page) | Chiaowen Joyce Hsiao | ERROR | |||||||||||||||||||||||||||||||||
722/2225 | flowMatch 1.39.0 (landing page) | Ariful Azad | OK | |||||||||||||||||||||||||||||||||
723/2225 | flowMeans 1.63.0 (landing page) | Nima Aghaeepour | OK | |||||||||||||||||||||||||||||||||
724/2225 | flowMerge 2.51.0 (landing page) | Greg Finak | WARNINGS | |||||||||||||||||||||||||||||||||
725/2225 | flowPeaks 1.49.0 (landing page) | Yongchao Ge | WARNINGS | |||||||||||||||||||||||||||||||||
726/2225 | flowPloidy 1.29.0 (landing page) | Tyler Smith | OK | |||||||||||||||||||||||||||||||||
727/2225 | flowPlots 1.51.0 (landing page) | N. Hawkins | OK | |||||||||||||||||||||||||||||||||
728/2225 | FlowSOM 2.11.0 (landing page) | Sofie Van Gassen | OK | |||||||||||||||||||||||||||||||||
729/2225 | flowSpecs 1.17.0 (landing page) | Jakob Theorell | OK | |||||||||||||||||||||||||||||||||
730/2225 | flowStats 4.15.0 (landing page) | Greg Finak | ERROR | |||||||||||||||||||||||||||||||||
731/2225 | flowTime 1.27.0 (landing page) | R. Clay Wright | OK | |||||||||||||||||||||||||||||||||
732/2225 | flowTrans 1.55.0 (landing page) | Greg Finak | OK | |||||||||||||||||||||||||||||||||
733/2225 | flowViz 1.67.0 (landing page) | Mike Jiang | OK | |||||||||||||||||||||||||||||||||
734/2225 | flowVS 1.35.0 (landing page) | Ariful Azad | OK | |||||||||||||||||||||||||||||||||
735/2225 | flowWorkspace 4.15.0 (landing page) | Greg Finak | ERROR | |||||||||||||||||||||||||||||||||
736/2225 | fmcsR 1.45.0 (landing page) | Thomas Girke | WARNINGS | |||||||||||||||||||||||||||||||||
737/2225 | fmrs 1.13.0 (landing page) | Farhad Shokoohi | OK | |||||||||||||||||||||||||||||||||
738/2225 | fobitools 1.11.0 (landing page) | Pol Castellano-Escuder | OK | |||||||||||||||||||||||||||||||||
739/2225 | FoldGO 1.21.0 (landing page) | Daniil Wiebe | ERROR | |||||||||||||||||||||||||||||||||
740/2225 | FRASER 1.15.0 (landing page) | Christian Mertes | ERROR | |||||||||||||||||||||||||||||||||
741/2225 | frenchFISH 1.15.0 (landing page) | Adam Berman | OK | |||||||||||||||||||||||||||||||||
742/2225 | FRGEpistasis 1.39.0 (landing page) | Futao Zhang | OK | |||||||||||||||||||||||||||||||||
743/2225 | frma 1.55.0 (landing page) | Matthew N. McCall | OK | |||||||||||||||||||||||||||||||||
744/2225 | frmaTools 1.55.0 (landing page) | Matthew N. McCall | OK | |||||||||||||||||||||||||||||||||
745/2225 | FScanR 1.13.0 (landing page) | Xiao Chen | ERROR | |||||||||||||||||||||||||||||||||
746/2225 | FunChIP 1.29.0 (landing page) | Alice Parodi | WARNINGS | |||||||||||||||||||||||||||||||||
747/2225 | funtooNorm 1.27.0 (landing page) | Kathleen Klein | WARNINGS | |||||||||||||||||||||||||||||||||
748/2225 | FuseSOM 1.5.0 (landing page) | Elijah Willie | OK | |||||||||||||||||||||||||||||||||
|
| |||||||||||||||||||||||||||||||||||
Package | Maintainer | INSTALL/BUILD/CHECK | ||||||||||||||||||||||||||||||||||
749/2225 | GA4GHclient 1.27.0 (landing page) | Welliton Souza | OK | |||||||||||||||||||||||||||||||||
750/2225 | GA4GHshiny 1.25.0 (landing page) | Welliton Souza | OK | |||||||||||||||||||||||||||||||||
751/2225 | gaga 2.49.0 (landing page) | David Rossell | WARNINGS | |||||||||||||||||||||||||||||||||
752/2225 | gage 2.53.0 (landing page) | Weijun Luo | WARNINGS | |||||||||||||||||||||||||||||||||
753/2225 | GAprediction 1.29.0 (landing page) | Jon Bohlin | OK | |||||||||||||||||||||||||||||||||
754/2225 | garfield 1.31.0 (landing page) | Valentina Iotchkova | WARNINGS | |||||||||||||||||||||||||||||||||
755/2225 | GARS 1.23.0 (landing page) | Mattia Chiesa | WARNINGS | |||||||||||||||||||||||||||||||||
756/2225 | GateFinder 1.23.0 (landing page) | Nima Aghaeepour | WARNINGS | |||||||||||||||||||||||||||||||||
757/2225 | gatom 1.1.0 (landing page) | Alexey Sergushichev | OK | |||||||||||||||||||||||||||||||||
758/2225 | GBScleanR 1.7.0 (landing page) | Tomoyuki Furuta | OK | |||||||||||||||||||||||||||||||||
759/2225 | gcapc 1.27.0 (landing page) | Mingxiang Teng | OK | |||||||||||||||||||||||||||||||||
760/2225 | gcatest 2.3.0 (landing page) | Alejandro Ochoa | OK | |||||||||||||||||||||||||||||||||
761/2225 | gCrisprTools 2.9.0 (landing page) | Russell Bainer | OK | |||||||||||||||||||||||||||||||||
762/2225 | gcrma 2.75.0 (landing page) | Z. Wu | OK | |||||||||||||||||||||||||||||||||
763/2225 | GDCRNATools 1.23.0 (landing page) | Ruidong Li | ERROR | |||||||||||||||||||||||||||||||||
764/2225 | gDNAx 1.1.0 (landing page) | Beatriz Calvo-Serra | ERROR | |||||||||||||||||||||||||||||||||
765/2225 | gDR 1.1.1 (landing page) | Arkadiusz Gladki | ERROR | |||||||||||||||||||||||||||||||||
766/2225 | gDRcore 1.1.1 (landing page) | Arkadiusz Gladki | ERROR | |||||||||||||||||||||||||||||||||
767/2225 | gDRimport 1.1.1 (landing page) | Arkadiusz Gladki | ERROR | |||||||||||||||||||||||||||||||||
768/2225 | gDRstyle 1.1.1 (landing page) | Arkadiusz Gladki | OK | |||||||||||||||||||||||||||||||||
769/2225 | gDRutils 1.1.1 (landing page) | Arkadiusz Gladki | OK | |||||||||||||||||||||||||||||||||
770/2225 | GDSArray 1.23.0 (landing page) | Qian Liu | OK | |||||||||||||||||||||||||||||||||
771/2225 | gdsfmt 1.39.0 (landing page) | Xiuwen Zheng | OK | |||||||||||||||||||||||||||||||||
772/2225 | GEM 1.29.0 (landing page) | Hong Pan | OK | |||||||||||||||||||||||||||||||||
773/2225 | gemini 1.17.0 (landing page) | Sidharth Jain | OK | |||||||||||||||||||||||||||||||||
774/2225 | gemma.R 2.1.1 (landing page) | Ogan Mancarci | OK | |||||||||||||||||||||||||||||||||
775/2225 | genArise 1.79.0 (landing page) | IFC Development Team | WARNINGS | |||||||||||||||||||||||||||||||||
776/2225 | geneAttribution 1.29.0 (landing page) | Arthur Wuster | OK | |||||||||||||||||||||||||||||||||
777/2225 | GeneBreak 1.33.0 (landing page) | Evert van den Broek | OK | |||||||||||||||||||||||||||||||||
778/2225 | geneClassifiers 1.27.0 (landing page) | R Kuiper | OK | |||||||||||||||||||||||||||||||||
779/2225 | GeneExpressionSignature 1.49.0 (landing page) | Yang Cao | OK | |||||||||||||||||||||||||||||||||
780/2225 | genefilter 1.85.0 (landing page) | Bioconductor Package Maintainer | WARNINGS | |||||||||||||||||||||||||||||||||
781/2225 | genefu 2.35.0 (landing page) | Benjamin Haibe-Kains | OK | |||||||||||||||||||||||||||||||||
782/2225 | GeneGA 1.53.0 (landing page) | Zhenpeng Li | OK | |||||||||||||||||||||||||||||||||
783/2225 | GeneGeneInteR 1.29.0 (landing page) | Mathieu Emily | OK | |||||||||||||||||||||||||||||||||
784/2225 | GeneMeta 1.75.0 (landing page) | Bioconductor Package Maintainer | OK | |||||||||||||||||||||||||||||||||
785/2225 | GeneNetworkBuilder 1.45.0 (landing page) | Jianhong Ou | OK | |||||||||||||||||||||||||||||||||
786/2225 | GeneOverlap 1.39.0 (landing page) | António Miguel de Jesus Domingues, Max-Planck Institute for Cell Biology and Genetics | OK | |||||||||||||||||||||||||||||||||
787/2225 | geneplast 1.29.0 (landing page) | Mauro Castro | OK | |||||||||||||||||||||||||||||||||
788/2225 | geneplotter 1.81.0 (landing page) | Bioconductor Package Maintainer | OK | |||||||||||||||||||||||||||||||||
789/2225 | geneRecommender 1.75.0 (landing page) | Greg Hather | OK | |||||||||||||||||||||||||||||||||
790/2225 | GeneRegionScan 1.59.0 (landing page) | Lasse Folkersen | OK | |||||||||||||||||||||||||||||||||
791/2225 | geneRxCluster 1.39.0 (landing page) | Charles Berry | OK | |||||||||||||||||||||||||||||||||
792/2225 | GeneSelectMMD 2.47.0 (landing page) | Weiliang Qiu | WARNINGS | |||||||||||||||||||||||||||||||||
793/2225 | GENESIS 2.33.1 (landing page) | Stephanie M. Gogarten | OK | |||||||||||||||||||||||||||||||||
794/2225 | GeneStructureTools 1.23.0 (landing page) | Beth Signal | OK | |||||||||||||||||||||||||||||||||
795/2225 | geNetClassifier 1.43.0 (landing page) | Sara Aibar | OK | |||||||||||||||||||||||||||||||||
796/2225 | GeneticsPed 1.65.0 (landing page) | David Henderson | OK | |||||||||||||||||||||||||||||||||
797/2225 | GeneTonic 2.7.0 (landing page) | Federico Marini | ERROR | |||||||||||||||||||||||||||||||||
798/2225 | geneXtendeR 1.29.0 (landing page) | Bohdan Khomtchouk | WARNINGS | |||||||||||||||||||||||||||||||||
799/2225 | GENIE3 1.25.0 (landing page) | Van Anh Huynh-Thu | OK | |||||||||||||||||||||||||||||||||
800/2225 | genoCN 1.55.0 (landing page) | Wei Sun | WARNINGS | |||||||||||||||||||||||||||||||||
801/2225 | genomation 1.35.0 (landing page) | Altuna Akalin | WARNINGS | |||||||||||||||||||||||||||||||||
802/2225 | GenomAutomorphism 1.5.0 (landing page) | Robersy Sanchez | OK | |||||||||||||||||||||||||||||||||
803/2225 | GenomeInfoDb 1.39.1 (landing page) | Hervé Pagès | OK | |||||||||||||||||||||||||||||||||
804/2225 | genomeIntervals 1.59.0 (landing page) | Julien Gagneur | WARNINGS | |||||||||||||||||||||||||||||||||
805/2225 | genomes 3.33.0 (landing page) | Chris Stubben | ERROR | |||||||||||||||||||||||||||||||||
806/2225 | GenomicAlignments 1.39.0 (landing page) | Hervé Pagès | WARNINGS | |||||||||||||||||||||||||||||||||
807/2225 | GenomicDataCommons 1.27.0 (landing page) | Sean Davis | OK | |||||||||||||||||||||||||||||||||
808/2225 | GenomicDistributions 1.11.0 (landing page) | Kristyna Kupkova | OK | |||||||||||||||||||||||||||||||||
809/2225 | GenomicFeatures 1.55.1 (landing page) | H. Pagès | OK | |||||||||||||||||||||||||||||||||
810/2225 | GenomicFiles 1.39.0 (landing page) | Bioconductor Package Maintainer | WARNINGS | |||||||||||||||||||||||||||||||||
811/2225 | genomicInstability 1.9.0 (landing page) | Mariano Alvarez | OK | |||||||||||||||||||||||||||||||||
812/2225 | GenomicInteractionNodes 1.7.0 (landing page) | Jianhong Ou | OK | |||||||||||||||||||||||||||||||||
813/2225 | GenomicInteractions 1.37.0 (landing page) | Liz Ing-Simmons | OK | |||||||||||||||||||||||||||||||||
814/2225 | GenomicOZone 1.17.0 (landing page) | Hua Zhong | OK | |||||||||||||||||||||||||||||||||
815/2225 | GenomicPlot 1.1.0 (landing page) | Shuye Pu | OK | |||||||||||||||||||||||||||||||||
816/2225 | GenomicRanges 1.55.1 (landing page) | Hervé Pagès | ERROR | |||||||||||||||||||||||||||||||||
817/2225 | GenomicScores 2.15.1 (landing page) | Robert Castelo | ERROR | |||||||||||||||||||||||||||||||||
818/2225 | GenomicSuperSignature 1.11.0 (landing page) | Sehyun Oh | ERROR | |||||||||||||||||||||||||||||||||
819/2225 | GenomicTuples 1.37.1 (landing page) | Peter Hickey | OK | |||||||||||||||||||||||||||||||||
820/2225 | GenProSeq 1.7.0 (landing page) | Dongmin Jung | ERROR | |||||||||||||||||||||||||||||||||
821/2225 | GenVisR 1.35.0 (landing page) | Zachary Skidmore | OK | |||||||||||||||||||||||||||||||||
822/2225 | GeoDiff 1.9.0 (landing page) | Nicole Ortogero | OK | |||||||||||||||||||||||||||||||||
823/2225 | GEOexplorer 1.9.1 (landing page) | Guy Hunt | WARNINGS | |||||||||||||||||||||||||||||||||
824/2225 | GEOfastq 1.11.0 (landing page) | Alex Pickering | OK | |||||||||||||||||||||||||||||||||
825/2225 | GEOmetadb 1.65.0 (landing page) | Jack Zhu | ERROR | |||||||||||||||||||||||||||||||||
826/2225 | GeomxTools 3.7.1 (landing page) | Maddy Griswold | ERROR | |||||||||||||||||||||||||||||||||
827/2225 | GEOquery 2.71.0 (landing page) | Sean Davis | ERROR | |||||||||||||||||||||||||||||||||
828/2225 | GEOsubmission 1.55.0 (landing page) | Alexandre Kuhn | OK | |||||||||||||||||||||||||||||||||
829/2225 | GeoTcgaData 2.3.0 (landing page) | Erqiang Hu | ERROR | |||||||||||||||||||||||||||||||||
830/2225 | gep2pep 1.23.0 (landing page) | Francesco Napolitano | OK | |||||||||||||||||||||||||||||||||
831/2225 | gespeR 1.35.0 (landing page) | Fabian Schmich | ERROR | |||||||||||||||||||||||||||||||||
832/2225 | getDEE2 1.13.0 (landing page) | Mark Ziemann | OK | |||||||||||||||||||||||||||||||||
833/2225 | geva 1.11.0 (landing page) | Itamar José Guimarães Nunes | ERROR | |||||||||||||||||||||||||||||||||
834/2225 | GEWIST 1.47.0 (landing page) | Wei Q. Deng | OK | |||||||||||||||||||||||||||||||||
835/2225 | gg4way 1.1.0 (landing page) | Benjamin I Laufer | OK | |||||||||||||||||||||||||||||||||
836/2225 | ggbio 1.51.0 (landing page) | Michael Lawrence | WARNINGS | |||||||||||||||||||||||||||||||||
837/2225 | ggcyto 1.31.1 (landing page) | Mike Jiang | WARNINGS | |||||||||||||||||||||||||||||||||
838/2225 | ggkegg 1.1.5 (landing page) | Noriaki Sato | ERROR | |||||||||||||||||||||||||||||||||
839/2225 | ggmanh 1.7.0 (landing page) | John Lee | WARNINGS | |||||||||||||||||||||||||||||||||
840/2225 | ggmsa 1.9.0 (landing page) | Lang Zhou | OK | |||||||||||||||||||||||||||||||||
841/2225 | GGPA 1.15.0 (landing page) | Dongjun Chung | OK | |||||||||||||||||||||||||||||||||
842/2225 | ggsc 1.1.1 (landing page) | Guangchuang Yu | ERROR | |||||||||||||||||||||||||||||||||
843/2225 | ggspavis 1.9.0 (landing page) | Lukas M. Weber | ERROR | |||||||||||||||||||||||||||||||||
844/2225 | ggtree 3.11.0 (landing page) | Guangchuang Yu | OK | |||||||||||||||||||||||||||||||||
845/2225 | ggtreeDendro 1.5.0 (landing page) | Guangchuang Yu | OK | |||||||||||||||||||||||||||||||||
846/2225 | ggtreeExtra 1.13.0 (landing page) | Shuangbin Xu | OK | |||||||||||||||||||||||||||||||||
847/2225 | GIGSEA 1.21.0 (landing page) | Shijia Zhu | OK | |||||||||||||||||||||||||||||||||
848/2225 | girafe 1.55.0 (landing page) | J. Toedling | OK | |||||||||||||||||||||||||||||||||
849/2225 | GLAD 2.67.0 (landing page) | Philippe Hupe | WARNINGS | |||||||||||||||||||||||||||||||||
850/2225 | GladiaTOX 1.19.0 (landing page) | PMP S.A. R Support | OK | |||||||||||||||||||||||||||||||||
851/2225 | Glimma 2.13.0 (landing page) | Shian Su | ERROR | |||||||||||||||||||||||||||||||||
852/2225 | glmGamPoi 1.15.1 (landing page) | Constantin Ahlmann-Eltze | ERROR | |||||||||||||||||||||||||||||||||
853/2225 | glmSparseNet 1.21.0 (landing page) | André Veríssimo | ERROR | |||||||||||||||||||||||||||||||||
854/2225 | GlobalAncova 4.21.0 (landing page) | Manuela Hummel | OK | |||||||||||||||||||||||||||||||||
855/2225 | globalSeq 1.31.0 (landing page) | Armin Rauschenberger | OK | |||||||||||||||||||||||||||||||||
856/2225 | globaltest 5.57.0 (landing page) | Jelle Goeman | OK | |||||||||||||||||||||||||||||||||
857/2225 | GloScope 1.1.0 (landing page) | William Torous | OK | |||||||||||||||||||||||||||||||||
858/2225 | gmapR 1.45.0 (landing page) | Michael Lawrence | WARNINGS | |||||||||||||||||||||||||||||||||
859/2225 | GmicR 1.17.0 (landing page) | Richard Virgen-Slane | WARNINGS | |||||||||||||||||||||||||||||||||
860/2225 | gmoviz 1.15.0 (landing page) | Kathleen Zeglinski | OK | |||||||||||||||||||||||||||||||||
861/2225 | GMRP 1.31.0 (landing page) | Yuan-De Tan | WARNINGS | |||||||||||||||||||||||||||||||||
862/2225 | GNET2 1.19.0 (landing page) | Chen Chen | OK | |||||||||||||||||||||||||||||||||
863/2225 | GNOSIS 1.1.0 (landing page) | Lydia King | WARNINGS | |||||||||||||||||||||||||||||||||
864/2225 | GOexpress 1.37.0 (landing page) | Kevin Rue-Albrecht | OK | |||||||||||||||||||||||||||||||||
865/2225 | GOfuncR 1.23.1 (landing page) | Steffi Grote | OK | |||||||||||||||||||||||||||||||||
866/2225 | GOpro 1.29.0 (landing page) | Lidia Chrabaszcz | OK | |||||||||||||||||||||||||||||||||
867/2225 | goProfiles 1.65.0 (landing page) | Alex Sanchez | OK | |||||||||||||||||||||||||||||||||
868/2225 | GOSemSim 2.29.0 (landing page) | Guangchuang Yu | ERROR | |||||||||||||||||||||||||||||||||
869/2225 | goseq 1.55.0 (landing page) | Matthew Young | OK | |||||||||||||||||||||||||||||||||
870/2225 | GOSim 1.41.0 (landing page) | Holger Froehlich | WARNINGS | |||||||||||||||||||||||||||||||||
871/2225 | goSorensen 1.5.0 (landing page) | Pablo Flores | ERROR | |||||||||||||||||||||||||||||||||
872/2225 | goSTAG 1.27.0 (landing page) | Brian D. Bennett | OK | |||||||||||||||||||||||||||||||||
873/2225 | GOstats 2.69.0 (landing page) | Bioconductor Package Maintainer | OK | |||||||||||||||||||||||||||||||||
874/2225 | GOTHiC 1.39.0 (landing page) | Borbala Mifsud | OK | |||||||||||||||||||||||||||||||||
875/2225 | goTools 1.77.0 (landing page) | Agnes Paquet | OK | |||||||||||||||||||||||||||||||||
876/2225 | GPA 1.15.0 (landing page) | Dongjun Chung | OK | |||||||||||||||||||||||||||||||||
877/2225 | gpls 1.75.0 (landing page) | Bioconductor Package Maintainer | WARNINGS | |||||||||||||||||||||||||||||||||
878/2225 | gpuMagic 1.19.0 (landing page) | Jiefei Wang | OK | |||||||||||||||||||||||||||||||||
879/2225 | GRaNIE 1.7.1 (landing page) | Christian Arnold | ERROR | |||||||||||||||||||||||||||||||||
880/2225 | granulator 1.11.0 (landing page) | Sabina Pfister | OK | |||||||||||||||||||||||||||||||||
881/2225 | graper 1.19.0 (landing page) | Britta Velten | OK | |||||||||||||||||||||||||||||||||
882/2225 | graph 1.81.0 (landing page) | Bioconductor Package Maintainer | OK | |||||||||||||||||||||||||||||||||
883/2225 | GraphAlignment 1.67.0 (landing page) | Joern P. Meier | WARNINGS | |||||||||||||||||||||||||||||||||
884/2225 | GraphAT 1.75.0 (landing page) | Thomas LaFramboise | OK | |||||||||||||||||||||||||||||||||
885/2225 | graphite 1.49.0 (landing page) | Gabriele Sales | OK | |||||||||||||||||||||||||||||||||
886/2225 | GraphPAC 1.45.0 (landing page) | Gregory Ryslik | OK | |||||||||||||||||||||||||||||||||
887/2225 | GRENITS 1.55.0 (landing page) | Edward Morrissey | OK | |||||||||||||||||||||||||||||||||
888/2225 | GreyListChIP 1.35.0 (landing page) | Matt Eldridge | OK | |||||||||||||||||||||||||||||||||
889/2225 | GRmetrics 1.29.0 (landing page) | Nicholas Clark | OK | |||||||||||||||||||||||||||||||||
890/2225 | groHMM 1.37.0 (landing page) | Tulip Nandu | OK | |||||||||||||||||||||||||||||||||
891/2225 | GSALightning 1.31.0 (landing page) | Billy Heung Wing Chang | OK | |||||||||||||||||||||||||||||||||
892/2225 | GSAR 1.37.0 (landing page) | Yasir Rahmatallah | OK | |||||||||||||||||||||||||||||||||
893/2225 | GSCA 2.33.0 (landing page) | Zhicheng Ji | OK | |||||||||||||||||||||||||||||||||
894/2225 | gscreend 1.17.0 (landing page) | Katharina Imkeller | ERROR | |||||||||||||||||||||||||||||||||
895/2225 | GSEABase 1.65.0 (landing page) | Bioconductor Package Maintainer | OK | |||||||||||||||||||||||||||||||||
896/2225 | GSEABenchmarkeR 1.23.0 (landing page) | Ludwig Geistlinger | ERROR | |||||||||||||||||||||||||||||||||
897/2225 | GSEAlm 1.63.0 (landing page) | Assaf Oron | OK | |||||||||||||||||||||||||||||||||
898/2225 | GSEAmining 1.13.0 (landing page) | Oriol Arqués | ERROR | |||||||||||||||||||||||||||||||||
899/2225 | gsean 1.23.0 (landing page) | Dongmin Jung | OK | |||||||||||||||||||||||||||||||||
900/2225 | GSgalgoR 1.13.0 (landing page) | Carlos Catania | OK | |||||||||||||||||||||||||||||||||
901/2225 | GSReg 1.37.0 (landing page) | Bahman Afsari | WARNINGS | |||||||||||||||||||||||||||||||||
902/2225 | GSRI 2.51.0 (landing page) | Julian Gehring | OK | |||||||||||||||||||||||||||||||||
903/2225 | GSVA 1.51.0 (landing page) | Robert Castelo | OK | |||||||||||||||||||||||||||||||||
904/2225 | gtrellis 1.35.0 (landing page) | Zuguang Gu | OK | |||||||||||||||||||||||||||||||||
905/2225 | GUIDEseq 1.33.0 (landing page) | Lihua Julie Zhu | ERROR | |||||||||||||||||||||||||||||||||
906/2225 | Guitar 2.19.0 (landing page) | Jia Meng | OK | |||||||||||||||||||||||||||||||||
907/2225 | Gviz 1.47.1 (landing page) | Robert Ivanek | OK | |||||||||||||||||||||||||||||||||
908/2225 | GWAS.BAYES 1.13.0 (landing page) | Jacob Williams | OK | |||||||||||||||||||||||||||||||||
909/2225 | gwascat 2.35.0 (landing page) | VJ Carey | ERROR | |||||||||||||||||||||||||||||||||
910/2225 | GWASTools 1.49.0 (landing page) | Stephanie M. Gogarten | OK | |||||||||||||||||||||||||||||||||
911/2225 | gwasurvivr 1.21.0 (landing page) | Abbas Rizvi | OK | |||||||||||||||||||||||||||||||||
912/2225 | GWENA 1.13.0 (landing page) | Gwenaëlle Lemoine | WARNINGS | |||||||||||||||||||||||||||||||||
|
| |||||||||||||||||||||||||||||||||||
Package | Maintainer | INSTALL/BUILD/CHECK | ||||||||||||||||||||||||||||||||||
913/2225 | h5vc 2.37.0 (landing page) | Paul Theodor Pyl | ERROR | |||||||||||||||||||||||||||||||||
914/2225 | hapFabia 1.45.0 (landing page) | Andreas Mitterecker | WARNINGS | |||||||||||||||||||||||||||||||||
915/2225 | Harman 1.31.0 (landing page) | Jason Ross | OK | |||||||||||||||||||||||||||||||||
916/2225 | HarmonizR 1.1.0 (landing page) | Simon Schlumbohm | OK | |||||||||||||||||||||||||||||||||
917/2225 | Harshlight 1.75.0 (landing page) | Maurizio Pellegrino | WARNINGS | |||||||||||||||||||||||||||||||||
918/2225 | hca 1.11.0 (landing page) | Martin Morgan | OK | |||||||||||||||||||||||||||||||||
919/2225 | HDF5Array 1.31.1 (landing page) | Hervé Pagès | ERROR | |||||||||||||||||||||||||||||||||
920/2225 | HDTD 1.37.0 (landing page) | Anestis Touloumis | OK | |||||||||||||||||||||||||||||||||
921/2225 | heatmaps 1.27.0 (landing page) | Malcolm Perry | OK | |||||||||||||||||||||||||||||||||
922/2225 | Heatplus 3.11.0 (landing page) | Alexander Ploner | OK | |||||||||||||||||||||||||||||||||
923/2225 | HelloRanges 1.29.0 (landing page) | Michael Lawrence | OK | |||||||||||||||||||||||||||||||||
924/2225 | HELP 1.61.0 (landing page) | Reid F. Thompson | OK | |||||||||||||||||||||||||||||||||
925/2225 | HEM 1.75.0 (landing page) | HyungJun Cho | OK | |||||||||||||||||||||||||||||||||
926/2225 | hermes 1.7.0 (landing page) | Daniel Sabanés Bové | ERROR | |||||||||||||||||||||||||||||||||
927/2225 | HERON 1.1.1 (landing page) | Sean McIlwain | OK | |||||||||||||||||||||||||||||||||
928/2225 | Herper 1.13.0 (landing page) | Thomas Carroll | ERROR | |||||||||||||||||||||||||||||||||
929/2225 | HGC 1.11.0 (landing page) | XGlab | WARNINGS | |||||||||||||||||||||||||||||||||
930/2225 | hiAnnotator 1.37.0 (landing page) | Nirav V Malani | OK | |||||||||||||||||||||||||||||||||
931/2225 | HIBAG 1.39.0 (landing page) | Xiuwen Zheng | OK | |||||||||||||||||||||||||||||||||
932/2225 | HiCBricks 1.21.0 (landing page) | Koustav Pal | OK | |||||||||||||||||||||||||||||||||
933/2225 | HiCcompare 1.25.0 (landing page) | Mikhail Dozmorov | OK | |||||||||||||||||||||||||||||||||
934/2225 | HiCDCPlus 1.11.0 (landing page) | Merve Sahin | OK | |||||||||||||||||||||||||||||||||
935/2225 | HiCDOC 1.5.0 (landing page) | Maigné Élise | OK | |||||||||||||||||||||||||||||||||
936/2225 | HiCExperiment 1.3.0 (landing page) | Jacques Serizay | OK | |||||||||||||||||||||||||||||||||
937/2225 | HiContacts 1.5.0 (landing page) | Jacques Serizay | OK | |||||||||||||||||||||||||||||||||
938/2225 | HiCool 1.3.0 (landing page) | Jacques Serizay | ERROR | |||||||||||||||||||||||||||||||||
939/2225 | hicVennDiagram 1.1.0 (landing page) | Jianhong Ou | OK | |||||||||||||||||||||||||||||||||
940/2225 | hierGWAS 1.33.0 (landing page) | Laura Buzdugan | WARNINGS | |||||||||||||||||||||||||||||||||
941/2225 | hierinf 1.21.0 (landing page) | Claude Renaux | ERROR | |||||||||||||||||||||||||||||||||
942/2225 | HilbertCurve 1.33.0 (landing page) | Zuguang Gu | OK | |||||||||||||||||||||||||||||||||
943/2225 | HilbertVis 1.61.0 (landing page) | Simon Anders | WARNINGS | |||||||||||||||||||||||||||||||||
944/2225 | HilbertVisGUI 1.61.0 (landing page) | Simon Anders | WARNINGS | |||||||||||||||||||||||||||||||||
945/2225 | HiLDA 1.17.0 (landing page) | Zhi Yang | OK | |||||||||||||||||||||||||||||||||
946/2225 | hipathia 3.3.0 (landing page) | Marta R. Hidalgo | ERROR | |||||||||||||||||||||||||||||||||
947/2225 | HIPPO 1.15.0 (landing page) | Tae Kim | OK | |||||||||||||||||||||||||||||||||
948/2225 | hiReadsProcessor 1.39.0 (landing page) | Nirav V Malani | OK | |||||||||||||||||||||||||||||||||
949/2225 | HIREewas 1.21.0 (landing page) | Xiangyu Luo | OK | |||||||||||||||||||||||||||||||||
950/2225 | HiTC 1.47.0 (landing page) | Nicolas Servant | WARNINGS | |||||||||||||||||||||||||||||||||
951/2225 | hmdbQuery 1.23.0 (landing page) | VJ Carey | OK | |||||||||||||||||||||||||||||||||
952/2225 | HMMcopy 1.45.0 (landing page) | Daniel Lai | WARNINGS | |||||||||||||||||||||||||||||||||
953/2225 | hoodscanR 1.1.0 (landing page) | Ning Liu | OK | |||||||||||||||||||||||||||||||||
954/2225 | hopach 2.63.0 (landing page) | Katherine S. Pollard | OK | |||||||||||||||||||||||||||||||||
955/2225 | HPAanalyze 1.21.0 (landing page) | Anh Nhat Tran | OK | |||||||||||||||||||||||||||||||||
956/2225 | hpar 1.45.0 (landing page) | Laurent Gatto | OK | |||||||||||||||||||||||||||||||||
957/2225 | HPiP 1.9.0 (landing page) | Matineh Rahmatbakhsh | OK | |||||||||||||||||||||||||||||||||
958/2225 | HTqPCR 1.57.0 (landing page) | Heidi Dvinge | OK | |||||||||||||||||||||||||||||||||
959/2225 | HTSeqGenie 4.33.0 (landing page) | Jens Reeder | OK | |||||||||||||||||||||||||||||||||
960/2225 | HTSFilter 1.43.0 (landing page) | Andrea Rau | OK | |||||||||||||||||||||||||||||||||
961/2225 | HubPub 1.11.0 (landing page) | Kayla Interdonato | OK | |||||||||||||||||||||||||||||||||
962/2225 | HumanTranscriptomeCompendium 1.19.0 (landing page) | VJ Carey | ERROR | |||||||||||||||||||||||||||||||||
963/2225 | hummingbird 1.13.0 (landing page) | Eleni Adam | OK | |||||||||||||||||||||||||||||||||
964/2225 | HybridMTest 1.47.0 (landing page) | Demba Fofana | OK | |||||||||||||||||||||||||||||||||
965/2225 | hypeR 2.1.0 (landing page) | Anthony Federico | WARNINGS | |||||||||||||||||||||||||||||||||
966/2225 | hyperdraw 1.55.0 (landing page) | Paul Murrell | OK | |||||||||||||||||||||||||||||||||
967/2225 | hypergraph 1.75.0 (landing page) | Bioconductor Package Maintainer | OK | |||||||||||||||||||||||||||||||||
|
| |||||||||||||||||||||||||||||||||||
Package | Maintainer | INSTALL/BUILD/CHECK | ||||||||||||||||||||||||||||||||||
968/2225 | iASeq 1.47.0 (landing page) | Yingying Wei | OK | |||||||||||||||||||||||||||||||||
969/2225 | iasva 1.21.0 (landing page) | Donghyung Lee | OK | |||||||||||||||||||||||||||||||||
970/2225 | iBBiG 1.47.0 (landing page) | Aedin Culhane | OK | |||||||||||||||||||||||||||||||||
971/2225 | ibh 1.51.0 (landing page) | Kircicegi Korkmaz | OK | |||||||||||||||||||||||||||||||||
972/2225 | iBMQ 1.43.0 (landing page) | Greg Imholte | WARNINGS | |||||||||||||||||||||||||||||||||
973/2225 | iCARE 1.31.0 (landing page) | Bill Wheeler | WARNINGS | |||||||||||||||||||||||||||||||||
974/2225 | Icens 1.75.0 (landing page) | Bioconductor Package Maintainer | OK | |||||||||||||||||||||||||||||||||
975/2225 | icetea 1.21.0 (landing page) | Vivek Bhardwaj | WARNINGS | |||||||||||||||||||||||||||||||||
976/2225 | iCheck 1.33.0 (landing page) | Weiliang Qiu | OK | |||||||||||||||||||||||||||||||||
977/2225 | iChip 1.57.0 (landing page) | Qianxing Mo | WARNINGS | |||||||||||||||||||||||||||||||||
978/2225 | iClusterPlus 1.39.0 (landing page) | Qianxing Mo | OK | |||||||||||||||||||||||||||||||||
979/2225 | iCNV 1.23.0 (landing page) | Zilu Zhou | WARNINGS | |||||||||||||||||||||||||||||||||
980/2225 | iCOBRA 1.31.0 (landing page) | Charlotte Soneson | OK | |||||||||||||||||||||||||||||||||
981/2225 | ideal 1.27.0 (landing page) | Federico Marini | ERROR | |||||||||||||||||||||||||||||||||
982/2225 | IdeoViz 1.39.0 (landing page) | Shraddha Pai | ERROR | |||||||||||||||||||||||||||||||||
983/2225 | idiogram 1.79.0 (landing page) | Karl J. Dykema | OK | |||||||||||||||||||||||||||||||||
984/2225 | idpr 1.13.0 (landing page) | William M. McFadden | OK | |||||||||||||||||||||||||||||||||
985/2225 | idr2d 1.17.0 (landing page) | Konstantin Krismer | ERROR | |||||||||||||||||||||||||||||||||
986/2225 | IFAA 1.5.0 (landing page) | Zhigang Li | ERROR | |||||||||||||||||||||||||||||||||
987/2225 | iGC 1.33.0 (landing page) | Liang-Bo Wang | OK | |||||||||||||||||||||||||||||||||
988/2225 | IgGeneUsage 1.17.0 (landing page) | Simo Kitanovski | OK | |||||||||||||||||||||||||||||||||
989/2225 | igvR 1.23.0 (landing page) | Arkadiusz Gladki | OK | |||||||||||||||||||||||||||||||||
990/2225 | IHW 1.31.0 (landing page) | Nikos Ignatiadis | ERROR | |||||||||||||||||||||||||||||||||
991/2225 | illuminaio 0.45.0 (landing page) | Kasper Daniel Hansen | OK | |||||||||||||||||||||||||||||||||
992/2225 | ILoReg 1.13.0 (landing page) | Johannes Smolander | ERROR | |||||||||||||||||||||||||||||||||
993/2225 | IMAS 1.27.0 (landing page) | Seonggyun Han | OK | |||||||||||||||||||||||||||||||||
994/2225 | imcRtools 1.9.0 (landing page) | Nils Eling | OK | |||||||||||||||||||||||||||||||||
995/2225 | IMMAN 1.23.0 (landing page) | Minoo Ashtiani | OK | |||||||||||||||||||||||||||||||||
996/2225 | ImmuneSpaceR 1.31.0 (landing page) | ImmuneSpace Package Maintainer | ERROR | |||||||||||||||||||||||||||||||||
997/2225 | immunoClust 1.35.0 (landing page) | Till Soerensen | OK | |||||||||||||||||||||||||||||||||
998/2225 | immunotation 1.11.0 (landing page) | Katharina Imkeller | OK | |||||||||||||||||||||||||||||||||
999/2225 | IMPCdata 1.39.0 (landing page) | Jeremy Mason | OK | |||||||||||||||||||||||||||||||||
1000/2225 | impute 1.77.0 (landing page) | Balasubramanian Narasimhan | OK | |||||||||||||||||||||||||||||||||
1001/2225 | INDEED 2.17.0 (landing page) | Ressom group | OK | |||||||||||||||||||||||||||||||||
1002/2225 | iNETgrate 1.1.0 (landing page) | Habil Zare | ERROR | |||||||||||||||||||||||||||||||||
1003/2225 | infercnv 1.19.0 (landing page) | Christophe Georgescu | ERROR | |||||||||||||||||||||||||||||||||
1004/2225 | infinityFlow 1.13.0 (landing page) | Etienne Becht | ERROR | |||||||||||||||||||||||||||||||||
1005/2225 | Informeasure 1.13.0 (landing page) | Chu Pan | ERROR | |||||||||||||||||||||||||||||||||
1006/2225 | InPAS 2.11.0 (landing page) | Jianhong Ou | OK | |||||||||||||||||||||||||||||||||
1007/2225 | INPower 1.39.0 (landing page) | Bill Wheeler | OK | |||||||||||||||||||||||||||||||||
1008/2225 | INSPEcT 1.33.0 (landing page) | Stefano de Pretis | ERROR | |||||||||||||||||||||||||||||||||
1009/2225 | INTACT 1.3.0 (landing page) | Jeffrey Okamoto | OK | |||||||||||||||||||||||||||||||||
1010/2225 | InTAD 1.23.0 (landing page) | Konstantin Okonechnikov | OK | |||||||||||||||||||||||||||||||||
1011/2225 | intansv 1.43.0 (landing page) | Wen Yao | OK | |||||||||||||||||||||||||||||||||
1012/2225 | interacCircos 1.13.0 (landing page) | Zhe Cui | OK | |||||||||||||||||||||||||||||||||
1013/2225 | InteractionSet 1.31.0 (landing page) | Aaron Lun | OK | |||||||||||||||||||||||||||||||||
1014/2225 | InteractiveComplexHeatmap 1.11.0 (landing page) | Zuguang Gu | OK | |||||||||||||||||||||||||||||||||
1015/2225 | interactiveDisplay 1.41.0 (landing page) | Bioconductor Package Maintainer | OK | |||||||||||||||||||||||||||||||||
1016/2225 | interactiveDisplayBase 1.41.0 (landing page) | Bioconductor Package Maintainer | OK | |||||||||||||||||||||||||||||||||
1017/2225 | InterCellar 2.9.0 (landing page) | Marta Interlandi | OK | |||||||||||||||||||||||||||||||||
1018/2225 | IntEREst 1.27.0 (landing page) | Ali Oghabian | OK | |||||||||||||||||||||||||||||||||
1019/2225 | InterMineR 1.25.0 (landing page) | InterMine Team | WARNINGS | |||||||||||||||||||||||||||||||||
1020/2225 | IntOMICS 1.3.0 (landing page) | Pacinkova Anna | WARNINGS | |||||||||||||||||||||||||||||||||
1021/2225 | IntramiRExploreR 1.25.0 (landing page) | Surajit Bhattacharya | WARNINGS | |||||||||||||||||||||||||||||||||
1022/2225 | IONiseR 2.27.0 (landing page) | Mike Smith | OK | |||||||||||||||||||||||||||||||||
1023/2225 | iPAC 1.47.0 (landing page) | Gregory Ryslik | OK | |||||||||||||||||||||||||||||||||
1024/2225 | iPath 1.9.0 (landing page) | Kenong Su | ERROR | |||||||||||||||||||||||||||||||||
1025/2225 | ipdDb 1.21.0 (landing page) | Steffen Klasberg | ERROR | |||||||||||||||||||||||||||||||||
1026/2225 | IPO 1.29.0 (landing page) | Thomas Lieb | OK | |||||||||||||||||||||||||||||||||
1027/2225 | IRanges 2.37.0 (landing page) | Hervé Pagès | WARNINGS | |||||||||||||||||||||||||||||||||
1028/2225 | IRISFGM 1.11.0 (landing page) | Yuzhou Chang | ERROR | |||||||||||||||||||||||||||||||||
1029/2225 | ISAnalytics 1.13.0 (landing page) | Giulia Pais | OK | |||||||||||||||||||||||||||||||||
1030/2225 | iSEE 2.15.0 (landing page) | Kevin Rue-Albrecht | OK | |||||||||||||||||||||||||||||||||
1031/2225 | iSEEde 1.1.0 (landing page) | Kevin Rue-Albrecht | OK | |||||||||||||||||||||||||||||||||
1032/2225 | iSEEhex 1.5.0 (landing page) | Kevin Rue-Albrecht | OK | |||||||||||||||||||||||||||||||||
1033/2225 | iSEEhub 1.5.0 (landing page) | Kevin Rue-Albrecht | OK | |||||||||||||||||||||||||||||||||
1034/2225 | iSEEindex 1.1.0 (landing page) | Kevin Rue-Albrecht | OK | |||||||||||||||||||||||||||||||||
1035/2225 | iSEEpathways 1.1.0 (landing page) | Kevin Rue-Albrecht | OK | |||||||||||||||||||||||||||||||||
1036/2225 | iSEEu 1.15.0 (landing page) | Kevin Rue-Albrecht | ERROR | |||||||||||||||||||||||||||||||||
1037/2225 | iSeq 1.55.0 (landing page) | Qianxing Mo | OK | |||||||||||||||||||||||||||||||||
1038/2225 | ISLET 1.5.1 (landing page) | Hao Feng | OK | |||||||||||||||||||||||||||||||||
1039/2225 | isobar 1.49.0 (landing page) | Florian P Breitwieser | WARNINGS | |||||||||||||||||||||||||||||||||
1040/2225 | IsoBayes 1.1.2 (landing page) | Simone Tiberi | OK | |||||||||||||||||||||||||||||||||
1041/2225 | IsoCorrectoR 1.21.0 (landing page) | Christian Kohler | OK | |||||||||||||||||||||||||||||||||
1042/2225 | IsoCorrectoRGUI 1.19.0 (landing page) | Christian Kohler | OK | |||||||||||||||||||||||||||||||||
1043/2225 | IsoformSwitchAnalyzeR 2.3.0 (landing page) | Kristoffer Vitting-Seerup | ERROR | |||||||||||||||||||||||||||||||||
1044/2225 | ISoLDE 1.31.0 (landing page) | Christelle Reynès | WARNINGS | |||||||||||||||||||||||||||||||||
1045/2225 | isomiRs 1.31.0 (landing page) | Lorena Pantano | OK | |||||||||||||||||||||||||||||||||
1046/2225 | ITALICS 2.63.0 (landing page) | Guillem Rigaill | OK | |||||||||||||||||||||||||||||||||
1047/2225 | iterativeBMA 1.61.0 (landing page) | Ka Yee Yeung | OK | |||||||||||||||||||||||||||||||||
1048/2225 | iterativeBMAsurv 1.61.0 (landing page) | Ka Yee Yeung | WARNINGS | |||||||||||||||||||||||||||||||||
1049/2225 | iterClust 1.25.0 (landing page) | Hongxu Ding | WARNINGS | |||||||||||||||||||||||||||||||||
1050/2225 | IVAS 2.23.0 (landing page) | Seonggyun Han | WARNINGS | |||||||||||||||||||||||||||||||||
1051/2225 | ivygapSE 1.25.0 (landing page) | VJ Carey | OK | |||||||||||||||||||||||||||||||||
1052/2225 | IWTomics 1.27.0 (landing page) | Marzia A Cremona | WARNINGS | |||||||||||||||||||||||||||||||||
|
| |||||||||||||||||||||||||||||||||||
Package | Maintainer | INSTALL/BUILD/CHECK | ||||||||||||||||||||||||||||||||||
1053/2225 | karyoploteR 1.29.0 (landing page) | Bernat Gel | OK | |||||||||||||||||||||||||||||||||
1054/2225 | katdetectr 1.5.0 (landing page) | Daan Hazelaar | OK | |||||||||||||||||||||||||||||||||
1055/2225 | KBoost 1.11.0 (landing page) | Luis F. Iglesias-Martinez | OK | |||||||||||||||||||||||||||||||||
1056/2225 | KCsmart 2.61.0 (landing page) | Jorma de Ronde | WARNINGS | |||||||||||||||||||||||||||||||||
1057/2225 | kebabs 1.37.0 (landing page) | Ulrich Bodenhofer | OK | |||||||||||||||||||||||||||||||||
1058/2225 | KEGGgraph 1.63.0 (landing page) | Jitao David Zhang | WARNINGS | |||||||||||||||||||||||||||||||||
1059/2225 | KEGGlincs 1.29.0 (landing page) | Shana White | OK | |||||||||||||||||||||||||||||||||
1060/2225 | keggorthology 2.55.0 (landing page) | VJ Carey | OK | |||||||||||||||||||||||||||||||||
1061/2225 | KEGGREST 1.43.0 (landing page) | Bioconductor Package Maintainer | OK | |||||||||||||||||||||||||||||||||
1062/2225 | KinSwingR 1.21.0 (landing page) | Ashley J. Waardenberg | OK | |||||||||||||||||||||||||||||||||
1063/2225 | kissDE 1.23.0 (landing page) | Aurélie Siberchicot | OK | |||||||||||||||||||||||||||||||||
1064/2225 | KnowSeq 1.17.0 (landing page) | Daniel Castillo-Secilla | OK | |||||||||||||||||||||||||||||||||
|
| |||||||||||||||||||||||||||||||||||
Package | Maintainer | INSTALL/BUILD/CHECK | ||||||||||||||||||||||||||||||||||
1065/2225 | LACE 2.7.0 (landing page) | Davide Maspero | OK | |||||||||||||||||||||||||||||||||
1066/2225 | lapmix 1.69.0 (landing page) | Yann Ruffieux | OK | |||||||||||||||||||||||||||||||||
1067/2225 | LBE 1.71.0 (landing page) | Cyril Dalmasso | OK | |||||||||||||||||||||||||||||||||
1068/2225 | ldblock 1.33.0 (landing page) | VJ Carey | OK | |||||||||||||||||||||||||||||||||
1069/2225 | LEA 3.15.0 (landing page) | Olivier Francois | OK | |||||||||||||||||||||||||||||||||
1070/2225 | LedPred 1.37.0 (landing page) | Aitor Gonzalez | OK | |||||||||||||||||||||||||||||||||
1071/2225 | lefser 1.13.1 (landing page) | Asya Khleborodova | OK | |||||||||||||||||||||||||||||||||
1072/2225 | lemur 1.1.5 (landing page) | Constantin Ahlmann-Eltze | ERROR | |||||||||||||||||||||||||||||||||
1073/2225 | les 1.53.0 (landing page) | Julian Gehring | OK | |||||||||||||||||||||||||||||||||
1074/2225 | levi 1.21.0 (landing page) | Jose Luiz Rybarczyk Filho | OK | |||||||||||||||||||||||||||||||||
1075/2225 | lfa 2.3.0 (landing page) | Alejandro Ochoa | OK | |||||||||||||||||||||||||||||||||
1076/2225 | limma 3.59.1 (landing page) | Gordon Smyth | OK | |||||||||||||||||||||||||||||||||
1077/2225 | limmaGUI 1.79.0 (landing page) | Gordon Smyth | OK | |||||||||||||||||||||||||||||||||
1078/2225 | lineagespot 1.7.0 (landing page) | Nikolaos Pechlivanis | OK | |||||||||||||||||||||||||||||||||
1079/2225 | LinkHD 1.17.0 (landing page) | "Laura M Zingaretti" | OK | |||||||||||||||||||||||||||||||||
1080/2225 | Linnorm 2.27.0 (landing page) | Shun Hang Yip | OK | |||||||||||||||||||||||||||||||||
1081/2225 | LinTInd 1.7.0 (landing page) | Luyue Wang | OK | |||||||||||||||||||||||||||||||||
1082/2225 | lionessR 1.17.0 (landing page) | Ping-Han Hsieh | OK | |||||||||||||||||||||||||||||||||
1083/2225 | lipidr 2.17.0 (landing page) | Ahmed Mohamed | OK | |||||||||||||||||||||||||||||||||
1084/2225 | LiquidAssociation 1.57.0 (landing page) | Yen-Yi Ho | OK | |||||||||||||||||||||||||||||||||
1085/2225 | lisaClust 1.11.1 (landing page) | Ellis Patrick | OK | |||||||||||||||||||||||||||||||||
1086/2225 | lmdme 1.45.0 (landing page) | Cristobal Fresno | WARNINGS | |||||||||||||||||||||||||||||||||
1087/2225 | LOBSTAHS 1.29.0 (landing page) | Henry Holm | WARNINGS | |||||||||||||||||||||||||||||||||
1088/2225 | loci2path 1.23.0 (landing page) | Tianlei Xu | OK | |||||||||||||||||||||||||||||||||
1089/2225 | logicFS 2.23.0 (landing page) | Holger Schwender | OK | |||||||||||||||||||||||||||||||||
1090/2225 | LOLA 1.33.0 (landing page) | Nathan Sheffield | OK | |||||||||||||||||||||||||||||||||
1091/2225 | LoomExperiment 1.21.0 (landing page) | Bioconductor Package Maintainer | ERROR | |||||||||||||||||||||||||||||||||
1092/2225 | LPE 1.77.0 (landing page) | Nitin Jain | OK | |||||||||||||||||||||||||||||||||
1093/2225 | lpNet 2.35.0 (landing page) | Lars Kaderali | WARNINGS | |||||||||||||||||||||||||||||||||
1094/2225 | lpsymphony 1.31.0 (landing page) | Vladislav Kim | ERROR | |||||||||||||||||||||||||||||||||
1095/2225 | LRBaseDbi 2.13.0 (landing page) | Koki Tsuyuzaki | ERROR | |||||||||||||||||||||||||||||||||
1096/2225 | LRcell 1.11.0 (landing page) | Wenjing Ma | OK | |||||||||||||||||||||||||||||||||
1097/2225 | lumi 2.55.0 (landing page) | Lei Huang | WARNINGS | |||||||||||||||||||||||||||||||||
1098/2225 | lute 0.99.24 (landing page) | Sean K Maden | OK | |||||||||||||||||||||||||||||||||
1099/2225 | LymphoSeq 1.31.0 (landing page) | David Coffey | OK | |||||||||||||||||||||||||||||||||
|
| |||||||||||||||||||||||||||||||||||
Package | Maintainer | INSTALL/BUILD/CHECK | ||||||||||||||||||||||||||||||||||
1100/2225 | M3C 1.25.0 (landing page) | Christopher John | OK | |||||||||||||||||||||||||||||||||
1101/2225 | M3Drop 1.29.0 (landing page) | Tallulah Andrews | ERROR | |||||||||||||||||||||||||||||||||
1102/2225 | m6Aboost 1.9.0 (landing page) | You Zhou | OK | |||||||||||||||||||||||||||||||||
1103/2225 | Maaslin2 1.17.0 (landing page) | Lauren McIver | OK | |||||||||||||||||||||||||||||||||
1104/2225 | Macarron 1.7.0 (landing page) | Sagun Maharjan | WARNINGS | |||||||||||||||||||||||||||||||||
1105/2225 | maCorrPlot 1.73.0 (landing page) | Alexander Ploner | OK | |||||||||||||||||||||||||||||||||
1106/2225 | MACSQuantifyR 1.17.0 (landing page) | Raphaël Bonnet | OK | |||||||||||||||||||||||||||||||||
1107/2225 | MACSr 1.11.2 (landing page) | Qiang Hu | OK | |||||||||||||||||||||||||||||||||
1108/2225 | made4 1.77.0 (landing page) | Aedin Culhane | OK | |||||||||||||||||||||||||||||||||
1109/2225 | MADSEQ 1.29.0 (landing page) | Yu Kong | OK | |||||||||||||||||||||||||||||||||
1110/2225 | maftools 2.19.0 (landing page) | Anand Mayakonda | WARNINGS | |||||||||||||||||||||||||||||||||
1111/2225 | MAGAR 1.11.0 (landing page) | Michael Scherer | OK | |||||||||||||||||||||||||||||||||
1112/2225 | MAGeCKFlute 2.7.0 (landing page) | Wubing Zhang | ERROR | |||||||||||||||||||||||||||||||||
1113/2225 | magpie 1.3.0 (landing page) | Daoyu Duan | OK | |||||||||||||||||||||||||||||||||
1114/2225 | magrene 1.5.0 (landing page) | Fabrício Almeida-Silva | OK | |||||||||||||||||||||||||||||||||
1115/2225 | MAI 1.9.0 (landing page) | Jonathan Dekermanjian | OK | |||||||||||||||||||||||||||||||||
1116/2225 | maigesPack 1.67.0 (landing page) | Gustavo H. Esteves | ERROR | |||||||||||||||||||||||||||||||||
1117/2225 | MAIT 1.37.0 (landing page) | Pol Sola-Santos | OK | |||||||||||||||||||||||||||||||||
1118/2225 | makecdfenv 1.79.0 (landing page) | James W. MacDonald | WARNINGS | |||||||||||||||||||||||||||||||||
1119/2225 | MANOR 1.75.0 (landing page) | Pierre Neuvial | WARNINGS | |||||||||||||||||||||||||||||||||
1120/2225 | MantelCorr 1.73.0 (landing page) | Brian Steinmeyer | OK | |||||||||||||||||||||||||||||||||
1121/2225 | maPredictDSC 1.41.0 (landing page) | Adi Laurentiu Tarca | OK | |||||||||||||||||||||||||||||||||
1122/2225 | mapscape 1.27.0 (landing page) | Maia Smith | WARNINGS | |||||||||||||||||||||||||||||||||
1123/2225 | mariner 1.3.0 (landing page) | Eric Davis | OK | |||||||||||||||||||||||||||||||||
1124/2225 | marr 1.13.0 (landing page) | Tusharkanti Ghosh | OK | |||||||||||||||||||||||||||||||||
1125/2225 | marray 1.81.0 (landing page) | Yee Hwa (Jean) Yang | OK | |||||||||||||||||||||||||||||||||
1126/2225 | martini 1.23.0 (landing page) | Hector Climente-Gonzalez | ERROR | |||||||||||||||||||||||||||||||||
1127/2225 | maser 1.21.0 (landing page) | Diogo F.T. Veiga | OK | |||||||||||||||||||||||||||||||||
1128/2225 | maSigPro 1.75.0 (landing page) | Maria Jose Nueda | OK | |||||||||||||||||||||||||||||||||
1129/2225 | maskBAD 1.47.0 (landing page) | Michael Dannemann | OK | |||||||||||||||||||||||||||||||||
1130/2225 | MassArray 1.55.0 (landing page) | Reid F. Thompson | OK | |||||||||||||||||||||||||||||||||
1131/2225 | massiR 1.39.0 (landing page) | Sam Buckberry | OK | |||||||||||||||||||||||||||||||||
1132/2225 | MassSpecWavelet 1.69.0 (landing page) | Sergio Oller Moreno | OK | |||||||||||||||||||||||||||||||||
1133/2225 | MAST 1.29.0 (landing page) | Andrew McDavid | WARNINGS | |||||||||||||||||||||||||||||||||
1134/2225 | mastR 1.3.1 (landing page) | Jinjin Chen | ERROR | |||||||||||||||||||||||||||||||||
1135/2225 | matchBox 1.45.0 (landing page) | Luigi Marchionni | OK | |||||||||||||||||||||||||||||||||
1136/2225 | MatrixGenerics 1.15.0 (landing page) | Peter Hickey | OK | |||||||||||||||||||||||||||||||||
1137/2225 | MatrixQCvis 1.11.0 (landing page) | Thomas Naake | OK | |||||||||||||||||||||||||||||||||
1138/2225 | MatrixRider 1.35.0 (landing page) | Elena Grassi | WARNINGS | |||||||||||||||||||||||||||||||||
1139/2225 | matter 2.5.0 (landing page) | Kylie A. Bemis | OK | |||||||||||||||||||||||||||||||||
1140/2225 | MBAmethyl 1.37.0 (landing page) | Tao Wang | OK | |||||||||||||||||||||||||||||||||
1141/2225 | MBASED 1.37.0 (landing page) | Oleg Mayba | OK | |||||||||||||||||||||||||||||||||
1142/2225 | MBCB 1.57.0 (landing page) | Jeff Allen | OK | |||||||||||||||||||||||||||||||||
1143/2225 | MBECS 1.7.0 (landing page) | Michael Olbrich | OK | |||||||||||||||||||||||||||||||||
1144/2225 | mbkmeans 1.19.0 (landing page) | Davide Risso | ERROR | |||||||||||||||||||||||||||||||||
1145/2225 | mBPCR 1.57.0 (landing page) | P.M.V. Rancoita | OK | |||||||||||||||||||||||||||||||||
1146/2225 | MBQN 2.15.0 (landing page) | Eva Brombacher | OK | |||||||||||||||||||||||||||||||||
1147/2225 | mbQTL 1.3.0 (landing page) | Mercedeh Movassagh | OK | |||||||||||||||||||||||||||||||||
1148/2225 | MBttest 1.31.0 (landing page) | Yuan-De Tan | OK | |||||||||||||||||||||||||||||||||
1149/2225 | MCbiclust 1.27.0 (landing page) | Robert Bentham | OK | |||||||||||||||||||||||||||||||||
1150/2225 | mCSEA 1.23.0 (landing page) | Jordi Martorell-Marugán | OK | |||||||||||||||||||||||||||||||||
1151/2225 | mdp 1.23.0 (landing page) | Helder Nakaya | OK | |||||||||||||||||||||||||||||||||
1152/2225 | mdqc 1.65.0 (landing page) | Gabriela Cohen-Freue | OK | |||||||||||||||||||||||||||||||||
1153/2225 | MDTS 1.23.0 (landing page) | Jack M.. Fu | OK | |||||||||||||||||||||||||||||||||
1154/2225 | MEAL 1.33.0 (landing page) | Xavier Escribà Montagut | WARNINGS | |||||||||||||||||||||||||||||||||
1155/2225 | MeasurementError.cor 1.75.0 (landing page) | Beiying Ding | OK | |||||||||||||||||||||||||||||||||
1156/2225 | MEAT 1.15.0 (landing page) | Sarah Voisin | WARNINGS | |||||||||||||||||||||||||||||||||
1157/2225 | MEB 1.17.0 (landing page) | Jiadi Zhu | OK | |||||||||||||||||||||||||||||||||
1158/2225 | MEDIPS 1.55.0 (landing page) | Lukas Chavez | OK | |||||||||||||||||||||||||||||||||
1159/2225 | MEDME 1.63.0 (landing page) | Mattia Pelizzola | WARNINGS | |||||||||||||||||||||||||||||||||
1160/2225 | megadepth 1.13.0 (landing page) | David Zhang | ERROR | |||||||||||||||||||||||||||||||||
1161/2225 | Melissa 1.19.0 (landing page) | C. A. Kapourani | OK | |||||||||||||||||||||||||||||||||
1162/2225 | memes 1.11.0 (landing page) | Spencer Nystrom | WARNINGS | |||||||||||||||||||||||||||||||||
1163/2225 | Mergeomics 1.31.0 (landing page) | Zeyneb Kurt | OK | |||||||||||||||||||||||||||||||||
1164/2225 | MeSHDbi 1.39.0 (landing page) | Koki Tsuyuzaki | OK | |||||||||||||||||||||||||||||||||
1165/2225 | meshes 1.29.0 (landing page) | Guangchuang Yu | ERROR | |||||||||||||||||||||||||||||||||
1166/2225 | meshr 2.9.0 (landing page) | Koki Tsuyuzaki | OK | |||||||||||||||||||||||||||||||||
1167/2225 | MesKit 1.13.0 (landing page) | Mengni Liu | ERROR | |||||||||||||||||||||||||||||||||
1168/2225 | messina 1.39.0 (landing page) | Mark Pinese | WARNINGS | |||||||||||||||||||||||||||||||||
1169/2225 | metabCombiner 1.13.0 (landing page) | Hani Habra | OK | |||||||||||||||||||||||||||||||||
1170/2225 | metabinR 1.5.0 (landing page) | Anestis Gkanogiannis | OK | |||||||||||||||||||||||||||||||||
1171/2225 | MetaboAnnotation 1.7.1 (landing page) | Johannes Rainer | ERROR | |||||||||||||||||||||||||||||||||
1172/2225 | MetaboCoreUtils 1.11.0 (landing page) | Johannes Rainer | OK | |||||||||||||||||||||||||||||||||
1173/2225 | metabolomicsWorkbenchR 1.13.0 (landing page) | Gavin Rhys Lloyd | OK | |||||||||||||||||||||||||||||||||
1174/2225 | metabomxtr 1.37.0 (landing page) | Michael Nodzenski | OK | |||||||||||||||||||||||||||||||||
1175/2225 | MetaboSignal 1.33.0 (landing page) | Andrea Rodriguez-Martinez | OK | |||||||||||||||||||||||||||||||||
1176/2225 | metaCCA 1.31.0 (landing page) | Anna Cichonska | WARNINGS | |||||||||||||||||||||||||||||||||
1177/2225 | MetaCyto 1.25.0 (landing page) | Zicheng Hu | OK | |||||||||||||||||||||||||||||||||
1178/2225 | metagene 2.35.0 (landing page) | Charles Joly Beauparlant | ERROR | |||||||||||||||||||||||||||||||||
1179/2225 | metagene2 1.19.0 (landing page) | Eric Fournier | WARNINGS | |||||||||||||||||||||||||||||||||
1180/2225 | metagenomeSeq 1.45.0 (landing page) | Joseph N. Paulson | ERROR | |||||||||||||||||||||||||||||||||
1181/2225 | metahdep 1.61.0 (landing page) | John R. Stevens | WARNINGS | |||||||||||||||||||||||||||||||||
1182/2225 | metaMS 1.39.0 (landing page) | Yann Guitton | OK | |||||||||||||||||||||||||||||||||
1183/2225 | MetaNeighbor 1.23.0 (landing page) | Stephan Fischer | OK | |||||||||||||||||||||||||||||||||
1184/2225 | MetaPhOR 1.5.0 (landing page) | Emily Isenhart | ERROR | |||||||||||||||||||||||||||||||||
1185/2225 | metapod 1.11.0 (landing page) | Aaron Lun | OK | |||||||||||||||||||||||||||||||||
1186/2225 | metapone 1.9.0 (landing page) | Tianwei Yu | OK | |||||||||||||||||||||||||||||||||
1187/2225 | metaSeq 1.43.0 (landing page) | Koki Tsuyuzaki | OK | |||||||||||||||||||||||||||||||||
1188/2225 | metaseqR2 1.15.0 (landing page) | Panagiotis Moulos | OK | |||||||||||||||||||||||||||||||||
1189/2225 | MetaVolcanoR 1.17.0 (landing page) | Cesar Prada | ERROR | |||||||||||||||||||||||||||||||||
1190/2225 | MetCirc 1.33.0 (landing page) | Thomas Naake | OK | |||||||||||||||||||||||||||||||||
1191/2225 | methimpute 1.25.0 (landing page) | Aaron Taudt | OK | |||||||||||||||||||||||||||||||||
1192/2225 | methInheritSim 1.25.0 (landing page) | Pascal Belleau | OK | |||||||||||||||||||||||||||||||||
1193/2225 | MethPed 1.31.0 (landing page) | Helena Carén | OK | |||||||||||||||||||||||||||||||||
1194/2225 | MethReg 1.13.3 (landing page) | Tiago Silva | ERROR | |||||||||||||||||||||||||||||||||
1195/2225 | methrix 1.17.0 (landing page) | Anand Mayakonda | OK | |||||||||||||||||||||||||||||||||
1196/2225 | MethTargetedNGS 1.35.0 (landing page) | Muhammad Ahmer Jamil | OK | |||||||||||||||||||||||||||||||||
1197/2225 | MethylAid 1.37.0 (landing page) | L.J.Sinke | OK | |||||||||||||||||||||||||||||||||
1198/2225 | methylCC 1.17.0 (landing page) | Stephanie C. Hicks | OK | |||||||||||||||||||||||||||||||||
1199/2225 | methylclock 1.9.0 (landing page) | Dolors Pelegri-Siso | OK | |||||||||||||||||||||||||||||||||
1200/2225 | methylGSA 1.21.0 (landing page) | Xu Ren | ERROR | |||||||||||||||||||||||||||||||||
1201/2225 | methylInheritance 1.27.0 (landing page) | Astrid Deschênes | OK | |||||||||||||||||||||||||||||||||
1202/2225 | methylKit 1.29.0 (landing page) | Altuna Akalin | ERROR | |||||||||||||||||||||||||||||||||
1203/2225 | MethylMix 2.33.0 (landing page) | Olivier Gevaert | OK | |||||||||||||||||||||||||||||||||
1204/2225 | methylMnM 1.41.0 (landing page) | Yan Zhou | OK | |||||||||||||||||||||||||||||||||
1205/2225 | methylPipe 1.37.0 (landing page) | Mattia Furlan | WARNINGS | |||||||||||||||||||||||||||||||||
1206/2225 | methylscaper 1.11.0 (landing page) | Rhonda Bacher | OK | |||||||||||||||||||||||||||||||||
1207/2225 | MethylSeekR 1.43.0 (landing page) | Lukas Burger | OK | |||||||||||||||||||||||||||||||||
1208/2225 | methylSig 1.15.0 (landing page) | Raymond G. Cavalcante | OK | |||||||||||||||||||||||||||||||||
1209/2225 | methylumi 2.49.0 (landing page) | Sean Davis | OK | |||||||||||||||||||||||||||||||||
1210/2225 | MetID 1.21.0 (landing page) | Zhenzhi Li | OK | |||||||||||||||||||||||||||||||||
1211/2225 | MetNet 1.21.0 (landing page) | Thomas Naake | OK | |||||||||||||||||||||||||||||||||
1212/2225 | mfa 1.25.0 (landing page) | Kieran Campbell | OK | |||||||||||||||||||||||||||||||||
1213/2225 | Mfuzz 2.63.0 (landing page) | Matthias Futschik | WARNINGS | |||||||||||||||||||||||||||||||||
1214/2225 | MGFM 1.37.0 (landing page) | Khadija El Amrani | OK | |||||||||||||||||||||||||||||||||
1215/2225 | MGFR 1.29.0 (landing page) | Khadija El Amrani | ERROR | |||||||||||||||||||||||||||||||||
1216/2225 | mgsa 1.51.0 (landing page) | Sebastian Bauer | OK | |||||||||||||||||||||||||||||||||
1217/2225 | mia 1.11.0 (landing page) | Tuomas Borman | OK | |||||||||||||||||||||||||||||||||
1218/2225 | miaSim 1.9.0 (landing page) | Yagmur Simsek | OK | |||||||||||||||||||||||||||||||||
1219/2225 | miaViz 1.11.0 (landing page) | Tuomas Borman | ERROR | |||||||||||||||||||||||||||||||||
1220/2225 | MiChip 1.57.0 (landing page) | Jonathon Blake | OK | |||||||||||||||||||||||||||||||||
1221/2225 | microbiome 1.25.0 (landing page) | Leo Lahti | OK | |||||||||||||||||||||||||||||||||
1222/2225 | microbiomeDASim 1.17.0 (landing page) | Justin Williams | OK | |||||||||||||||||||||||||||||||||
1223/2225 | microbiomeExplorer 1.13.0 (landing page) | Janina Reeder | OK | |||||||||||||||||||||||||||||||||
1224/2225 | microbiomeMarker 1.9.0 (landing page) | Yang Cao | OK | |||||||||||||||||||||||||||||||||
1225/2225 | MicrobiomeProfiler 1.9.0 (landing page) | Meijun Chen | ERROR | |||||||||||||||||||||||||||||||||
1226/2225 | MicrobiotaProcess 1.15.0 (landing page) | Shuangbin Xu | OK | |||||||||||||||||||||||||||||||||
1227/2225 | microRNA 1.61.0 (landing page) | "James F. Reid" | OK | |||||||||||||||||||||||||||||||||
1228/2225 | microSTASIS 1.3.0 (landing page) | Pedro Sánchez-Sánchez | ERROR | |||||||||||||||||||||||||||||||||
1229/2225 | MICSQTL 1.1.0 (landing page) | Yue Pan | OK | |||||||||||||||||||||||||||||||||
1230/2225 | midasHLA 1.11.0 (landing page) | Maciej Migdał | ERROR | |||||||||||||||||||||||||||||||||
1231/2225 | miloR 1.99.9 (landing page) | Mike Morgan | ERROR | |||||||||||||||||||||||||||||||||
1232/2225 | mimager 1.27.0 (landing page) | Aaron Wolen | OK | |||||||||||||||||||||||||||||||||
1233/2225 | mina 1.11.0 (landing page) | Rui Guan | WARNINGS | |||||||||||||||||||||||||||||||||
1234/2225 | MineICA 1.43.0 (landing page) | Anne Biton | WARNINGS | |||||||||||||||||||||||||||||||||
1235/2225 | minet 3.61.0 (landing page) | Patrick E. Meyer | OK | |||||||||||||||||||||||||||||||||
1236/2225 | minfi 1.49.0 (landing page) | Kasper Daniel Hansen | OK | |||||||||||||||||||||||||||||||||
1237/2225 | MinimumDistance 1.47.0 (landing page) | Robert Scharpf | WARNINGS | |||||||||||||||||||||||||||||||||
1238/2225 | MiPP 1.75.0 (landing page) | Sukwoo Kim | OK | |||||||||||||||||||||||||||||||||
1239/2225 | miQC 1.11.0 (landing page) | Ariel Hippen | ERROR | |||||||||||||||||||||||||||||||||
1240/2225 | MIRA 1.25.0 (landing page) | John Lawson | OK | |||||||||||||||||||||||||||||||||
1241/2225 | MiRaGE 1.45.0 (landing page) | Y-h. Taguchi | WARNINGS | |||||||||||||||||||||||||||||||||
1242/2225 | miRBaseConverter 1.27.0 (landing page) | Taosheng Xu | ERROR | |||||||||||||||||||||||||||||||||
1243/2225 | miRcomp 1.33.0 (landing page) | Matthew N. McCall | WARNINGS | |||||||||||||||||||||||||||||||||
1244/2225 | mirIntegrator 1.33.0 (landing page) | Diana Diaz | OK | |||||||||||||||||||||||||||||||||
1245/2225 | miRLAB 1.33.0 (landing page) | Thuc Duy Le | WARNINGS | |||||||||||||||||||||||||||||||||
1246/2225 | miRmine 1.25.0 (landing page) | Dusan Randjelovic | ERROR | |||||||||||||||||||||||||||||||||
1247/2225 | miRNAmeConverter 1.31.0 (landing page) | Stefan J. Haunsberger | WARNINGS | |||||||||||||||||||||||||||||||||
1248/2225 | miRNApath 1.63.0 (landing page) | James M. Ward | OK | |||||||||||||||||||||||||||||||||
1249/2225 | miRNAtap 1.37.0 (landing page) | T. Ian Simpson | OK | |||||||||||||||||||||||||||||||||
1250/2225 | miRSM 1.21.0 (landing page) | Junpeng Zhang | ERROR | |||||||||||||||||||||||||||||||||
1251/2225 | miRspongeR 2.7.0 (landing page) | Junpeng Zhang | ERROR | |||||||||||||||||||||||||||||||||
1252/2225 | mirTarRnaSeq 1.11.0 (landing page) | Mercedeh Movassagh | OK | |||||||||||||||||||||||||||||||||
1253/2225 | missMethyl 1.37.0 (landing page) | Belinda Phipson | OK | |||||||||||||||||||||||||||||||||
1254/2225 | missRows 1.23.0 (landing page) | Gonzalez Ignacio | OK | |||||||||||||||||||||||||||||||||
1255/2225 | mistyR 1.11.0 (landing page) | Jovan Tanevski | ERROR | |||||||||||||||||||||||||||||||||
1256/2225 | mitch 1.15.0 (landing page) | Mark Ziemann | OK | |||||||||||||||||||||||||||||||||
1257/2225 | mitoClone2 1.9.1 (landing page) | Benjamin Story | WARNINGS | |||||||||||||||||||||||||||||||||
1258/2225 | mixOmics 6.27.0 (landing page) | Max Bladen | OK | |||||||||||||||||||||||||||||||||
1259/2225 | MLInterfaces 1.83.0 (landing page) | Vincent Carey | WARNINGS | |||||||||||||||||||||||||||||||||
1260/2225 | MLP 1.51.0 (landing page) | Tobias Verbeke | OK | |||||||||||||||||||||||||||||||||
1261/2225 | MLSeq 2.21.0 (landing page) | Gokmen Zararsiz | OK | |||||||||||||||||||||||||||||||||
1262/2225 | Jonathon Hill | ERROR | ||||||||||||||||||||||||||||||||||
1263/2225 | MMDiff2 1.31.0 (landing page) | Gabriele Schweikert | WARNINGS | |||||||||||||||||||||||||||||||||
1264/2225 | MMUPHin 1.17.1 (landing page) | Siyuan MA | OK | |||||||||||||||||||||||||||||||||
1265/2225 | mnem 1.19.0 (landing page) | Martin Pirkl | OK | |||||||||||||||||||||||||||||||||
1266/2225 | moanin 1.11.0 (landing page) | Nelle Varoquaux | OK | |||||||||||||||||||||||||||||||||
1267/2225 | MobilityTransformR 1.7.0 (landing page) | Liesa Salzer | OK | |||||||||||||||||||||||||||||||||
1268/2225 | MODA 1.29.0 (landing page) | Dong Li | OK | |||||||||||||||||||||||||||||||||
1269/2225 | ModCon 1.11.0 (landing page) | Johannes Ptok | OK | |||||||||||||||||||||||||||||||||
1270/2225 | Modstrings 1.19.0 (landing page) | Felix G.M. Ernst | OK | |||||||||||||||||||||||||||||||||
1271/2225 | MOFA2 1.13.0 (landing page) | Ricard Argelaguet | ERROR | |||||||||||||||||||||||||||||||||
1272/2225 | MOGAMUN 1.13.0 (landing page) | Elva-María Novoa-del-Toro | OK | |||||||||||||||||||||||||||||||||
1273/2225 | mogsa 1.37.0 (landing page) | Chen Meng | OK | |||||||||||||||||||||||||||||||||
1274/2225 | MoleculeExperiment 1.3.2 (landing page) | Shila Ghazanfar | OK | |||||||||||||||||||||||||||||||||
1275/2225 | MOMA 1.15.0 (landing page) | Sunny Jones | OK | |||||||||||||||||||||||||||||||||
1276/2225 | monaLisa 1.9.0 (landing page) | Michael Stadler | OK | |||||||||||||||||||||||||||||||||
1277/2225 | monocle 2.31.0 (landing page) | Cole Trapnell | ERROR | |||||||||||||||||||||||||||||||||
1278/2225 | Moonlight2R 1.1.0 (landing page) | Matteo Tiberti | ERROR | |||||||||||||||||||||||||||||||||
1279/2225 | MoonlightR 1.29.0 (landing page) | Matteo Tiberti | ERROR | |||||||||||||||||||||||||||||||||
1280/2225 | mosaics 2.41.0 (landing page) | Dongjun Chung | OK | |||||||||||||||||||||||||||||||||
1281/2225 | mosbi 1.9.0 (landing page) | Tim Daniel Rose | WARNINGS | |||||||||||||||||||||||||||||||||
1282/2225 | MOSim (landing page) | ERROR | ||||||||||||||||||||||||||||||||||
1283/2225 | Motif2Site 1.7.0 (landing page) | Peyman Zarrineh | OK | |||||||||||||||||||||||||||||||||
1284/2225 | motifbreakR 2.17.0 (landing page) | Simon Gert Coetzee | WARNINGS | |||||||||||||||||||||||||||||||||
1285/2225 | motifcounter 1.27.0 (landing page) | Wolfgang Kopp | ERROR | |||||||||||||||||||||||||||||||||
1286/2225 | MotifDb 1.45.0 (landing page) | Paul Shannon | WARNINGS | |||||||||||||||||||||||||||||||||
1287/2225 | motifmatchr 1.25.0 (landing page) | Alicia Schep | OK | |||||||||||||||||||||||||||||||||
1288/2225 | motifStack 1.47.0 (landing page) | Jianhong Ou | OK | |||||||||||||||||||||||||||||||||
1289/2225 | MouseFM 1.13.0 (landing page) | Matthias Munz | OK | |||||||||||||||||||||||||||||||||
1290/2225 | MPFE 1.39.0 (landing page) | Conrad Burden | OK | |||||||||||||||||||||||||||||||||
1291/2225 | mpra 1.25.0 (landing page) | Leslie Myint | OK | |||||||||||||||||||||||||||||||||
1292/2225 | MPRAnalyze 1.21.0 (landing page) | Tal Ashuach | OK | |||||||||||||||||||||||||||||||||
1293/2225 | MQmetrics 1.11.0 (landing page) | Alvaro Sanchez-Villalba | OK | |||||||||||||||||||||||||||||||||
1294/2225 | msa 1.35.0 (landing page) | Ulrich Bodenhofer | WARNINGS | |||||||||||||||||||||||||||||||||
1295/2225 | MSA2dist 1.7.0 (landing page) | Kristian K Ullrich | OK | |||||||||||||||||||||||||||||||||
1296/2225 | MsBackendMassbank 1.11.1 (landing page) | RforMassSpectrometry Package Maintainer | OK | |||||||||||||||||||||||||||||||||
1297/2225 | MsBackendMgf 1.11.0 (landing page) | RforMassSpectrometry Package Maintainer | OK | |||||||||||||||||||||||||||||||||
1298/2225 | MsBackendMsp 1.7.0 (landing page) | Johannes Rainer | OK | |||||||||||||||||||||||||||||||||
1299/2225 | MsBackendRawFileReader 1.9.1 (landing page) | Christian Panse | ERROR | |||||||||||||||||||||||||||||||||
1300/2225 | MsBackendSql 1.3.1 (landing page) | Johannes Rainer | OK | |||||||||||||||||||||||||||||||||
1301/2225 | MsCoreUtils 1.15.1 (landing page) | RforMassSpectrometry Package Maintainer | OK | |||||||||||||||||||||||||||||||||
1302/2225 | MsDataHub 1.3.0 (landing page) | Laurent Gatto | OK | |||||||||||||||||||||||||||||||||
1303/2225 | MsExperiment 1.5.1 (landing page) | Laurent Gatto | ERROR | |||||||||||||||||||||||||||||||||
1304/2225 | MsFeatures 1.11.0 (landing page) | Johannes Rainer | OK | |||||||||||||||||||||||||||||||||
1305/2225 | msgbsR 1.27.0 (landing page) | Benjamin Mayne | OK | |||||||||||||||||||||||||||||||||
1306/2225 | msImpute 1.13.0 (landing page) | Soroor Hediyeh-zadeh | OK | |||||||||||||||||||||||||||||||||
1307/2225 | mslp 1.5.0 (landing page) | Chunxuan Shao | ERROR | |||||||||||||||||||||||||||||||||
1308/2225 | msmsEDA 1.41.0 (landing page) | Josep Gregori | OK | |||||||||||||||||||||||||||||||||
1309/2225 | msmsTests 1.41.0 (landing page) | Josep Gregori i Font | WARNINGS | |||||||||||||||||||||||||||||||||
1310/2225 | MSnbase 2.29.1 (landing page) | Laurent Gatto | ERROR | |||||||||||||||||||||||||||||||||
1311/2225 | MSnID 1.37.0 (landing page) | Vlad Petyuk | ERROR | |||||||||||||||||||||||||||||||||
1312/2225 | MSPrep 1.13.0 (landing page) | Max McGrath | ERROR | |||||||||||||||||||||||||||||||||
1313/2225 | msPurity 1.29.0 (landing page) | Thomas N. Lawson | ERROR | |||||||||||||||||||||||||||||||||
1314/2225 | msqrob2 1.11.0 (landing page) | Lieven Clement | OK | |||||||||||||||||||||||||||||||||
1315/2225 | MsQuality 1.3.0 (landing page) | Thomas Naake | OK | |||||||||||||||||||||||||||||||||
1316/2225 | MSstats 4.11.0 (landing page) | Meena Choi | WARNINGS | |||||||||||||||||||||||||||||||||
1317/2225 | MSstatsBig 1.1.0 (landing page) | Mateusz Staniak | OK | |||||||||||||||||||||||||||||||||
1318/2225 | MSstatsConvert 1.13.0 (landing page) | Mateusz Staniak | WARNINGS | |||||||||||||||||||||||||||||||||
1319/2225 | MSstatsLiP 1.9.1 (landing page) | Devon Kohler | OK | |||||||||||||||||||||||||||||||||
1320/2225 | MSstatsLOBD 1.11.0 (landing page) | Devon Kohler | OK | |||||||||||||||||||||||||||||||||
1321/2225 | MSstatsPTM 2.5.1 (landing page) | Devon Kohler | OK | |||||||||||||||||||||||||||||||||
1322/2225 | MSstatsQC 2.21.0 (landing page) | Eralp Dogu | OK | |||||||||||||||||||||||||||||||||
1323/2225 | MSstatsQCgui 1.23.0 (landing page) | Eralp Dogu | OK | |||||||||||||||||||||||||||||||||
1324/2225 | MSstatsShiny 1.5.2 (landing page) | Devon Kohler | OK | |||||||||||||||||||||||||||||||||
1325/2225 | MSstatsTMT 2.11.0 (landing page) | Ting Huang | OK | |||||||||||||||||||||||||||||||||
1326/2225 | MuData 1.7.0 (landing page) | Danila Bredikhin | ERROR | |||||||||||||||||||||||||||||||||
1327/2225 | Mulcom 1.53.0 (landing page) | Claudio Isella | WARNINGS | |||||||||||||||||||||||||||||||||
1328/2225 | MultiAssayExperiment 1.29.0 (landing page) | Marcel Ramos | OK | |||||||||||||||||||||||||||||||||
1329/2225 | MultiBaC 1.13.0 (landing page) | The package maintainer | OK | |||||||||||||||||||||||||||||||||
1330/2225 | multiClust 1.33.0 (landing page) | Nathan Lawlor | OK | |||||||||||||||||||||||||||||||||
1331/2225 | multicrispr 1.13.4 (landing page) | Aditya Bhagwat | OK | |||||||||||||||||||||||||||||||||
1332/2225 | MultiDataSet 1.31.0 (landing page) | Xavier Escribà Montagut | WARNINGS | |||||||||||||||||||||||||||||||||
1333/2225 | multiGSEA 1.13.0 (landing page) | Sebastian Canzler | ERROR | |||||||||||||||||||||||||||||||||
1334/2225 | multiHiCcompare 1.21.0 (landing page) | Mikhail Dozmorov | OK | |||||||||||||||||||||||||||||||||
1335/2225 | MultiMed 2.25.0 (landing page) | Simina M. Boca | OK | |||||||||||||||||||||||||||||||||
1336/2225 | multiMiR 1.25.0 (landing page) | Matt Mulvahill | OK | |||||||||||||||||||||||||||||||||
1337/2225 | MultimodalExperiment 1.3.0 (landing page) | Lucas Schiffer | OK | |||||||||||||||||||||||||||||||||
1338/2225 | multiOmicsViz 1.27.0 (landing page) | Jing Wang | ERROR | |||||||||||||||||||||||||||||||||
1339/2225 | MultiRNAflow 1.1.0 (landing page) | Rodolphe Loubaton | OK | |||||||||||||||||||||||||||||||||
1340/2225 | multiscan 1.63.0 (landing page) | Mizanur Khondoker | OK | |||||||||||||||||||||||||||||||||
1341/2225 | multiWGCNA 1.1.0 (landing page) | Dario Tommasini | OK | |||||||||||||||||||||||||||||||||
1342/2225 | multtest 2.59.0 (landing page) | Katherine S. Pollard | WARNINGS | |||||||||||||||||||||||||||||||||
1343/2225 | mumosa 1.11.0 (landing page) | Aaron Lun | ERROR | |||||||||||||||||||||||||||||||||
1344/2225 | MungeSumstats 1.11.1 (landing page) | Alan Murphy | ERROR | |||||||||||||||||||||||||||||||||
1345/2225 | muscat 1.17.0 (landing page) | Helena L. Crowell | ERROR | |||||||||||||||||||||||||||||||||
1346/2225 | muscle 3.45.0 (landing page) | Alex T. Kalinka | WARNINGS | |||||||||||||||||||||||||||||||||
1347/2225 | musicatk 1.13.0 (landing page) | Aaron Chevalier | ERROR | |||||||||||||||||||||||||||||||||
1348/2225 | MutationalPatterns 3.13.0 (landing page) | Mark van Roosmalen | ERROR | |||||||||||||||||||||||||||||||||
1349/2225 | MVCClass 1.77.0 (landing page) | Elizabeth Whalen | OK | |||||||||||||||||||||||||||||||||
1350/2225 | MWASTools 1.27.0 (landing page) | Andrea Rodriguez-Martinez | OK | |||||||||||||||||||||||||||||||||
1351/2225 | mygene 1.39.0 (landing page) | Adam Mark, Cyrus Afrasiabi, Chunlei Wu | OK | |||||||||||||||||||||||||||||||||
1352/2225 | myvariant 1.33.0 (landing page) | Adam Mark, Chunlei Wu | OK | |||||||||||||||||||||||||||||||||
1353/2225 | mzID 1.41.0 (landing page) | Laurent Gatto | OK | |||||||||||||||||||||||||||||||||
1354/2225 | mzR 2.37.0 (landing page) | Steffen Neumann | WARNINGS | |||||||||||||||||||||||||||||||||
|
| |||||||||||||||||||||||||||||||||||
Package | Maintainer | INSTALL/BUILD/CHECK | ||||||||||||||||||||||||||||||||||
1355/2225 | NADfinder 1.27.0 (landing page) | Jianhong Ou | OK | |||||||||||||||||||||||||||||||||
1356/2225 | NanoMethViz 2.9.0 (landing page) | Shian Su | OK | |||||||||||||||||||||||||||||||||
1357/2225 | NanoStringDiff 1.33.0 (landing page) | tingting zhai | WARNINGS | |||||||||||||||||||||||||||||||||
1358/2225 | NanoStringNCTools 1.11.0 (landing page) | Nicole Ortogero | WARNINGS | |||||||||||||||||||||||||||||||||
1359/2225 | nanotatoR 1.19.0 (landing page) | Surajit Bhattacharya | OK | |||||||||||||||||||||||||||||||||
1360/2225 | NanoTube 1.9.1 (landing page) | Caleb Class | OK | |||||||||||||||||||||||||||||||||
1361/2225 | NBAMSeq 1.19.0 (landing page) | Xu Ren | OK | |||||||||||||||||||||||||||||||||
1362/2225 | ncdfFlow 2.49.0 (landing page) | Mike Jiang | WARNINGS | |||||||||||||||||||||||||||||||||
1363/2225 | ncGTW 1.17.0 (landing page) | Chiung-Ting Wu | OK | |||||||||||||||||||||||||||||||||
1364/2225 | NCIgraph 1.51.0 (landing page) | Laurent Jacob | OK | |||||||||||||||||||||||||||||||||
1365/2225 | ncRNAtools 1.13.0 (landing page) | Lara Selles Vidal | OK | |||||||||||||||||||||||||||||||||
1366/2225 | ndexr 1.25.0 (landing page) | Florian Auer | OK | |||||||||||||||||||||||||||||||||
1367/2225 | nearBynding 1.13.0 (landing page) | Veronica Busa | OK | |||||||||||||||||||||||||||||||||
1368/2225 | Nebulosa 1.13.0 (landing page) | Jose Alquicira-Hernandez | ERROR | |||||||||||||||||||||||||||||||||
1369/2225 | NeighborNet 1.21.0 (landing page) | Sahar Ansari | ERROR | |||||||||||||||||||||||||||||||||
1370/2225 | nempi 1.11.0 (landing page) | Martin Pirkl | OK | |||||||||||||||||||||||||||||||||
1371/2225 | NetActivity 1.5.0 (landing page) | Carlos Ruiz-Arenas | OK | |||||||||||||||||||||||||||||||||
1372/2225 | netboost 2.11.0 (landing page) | Pascal Schlosser | WARNINGS | |||||||||||||||||||||||||||||||||
1373/2225 | netDx 1.15.0 (landing page) | Shraddha Pai | ERROR | |||||||||||||||||||||||||||||||||
1374/2225 | nethet 1.35.0 (landing page) | Nicolas Staedler | WARNINGS | |||||||||||||||||||||||||||||||||
1375/2225 | netOmics 1.9.0 (landing page) | Antoine Bodein | OK | |||||||||||||||||||||||||||||||||
1376/2225 | NetPathMiner 1.39.0 (landing page) | Ahmed Mohamed | ERROR | |||||||||||||||||||||||||||||||||
1377/2225 | netprioR 1.29.0 (landing page) | Fabian Schmich | OK | |||||||||||||||||||||||||||||||||
1378/2225 | netresponse 1.63.0 (landing page) | Leo Lahti | OK | |||||||||||||||||||||||||||||||||
1379/2225 | NetSAM 1.43.0 (landing page) | Zhiao Shi | OK | |||||||||||||||||||||||||||||||||
1380/2225 | netSmooth 1.23.0 (landing page) | Jonathan Ronen | ERROR | |||||||||||||||||||||||||||||||||
1381/2225 | netZooR 1.7.0 (landing page) | Marouen Ben Guebila | ERROR | |||||||||||||||||||||||||||||||||
1382/2225 | NeuCA 1.9.0 (landing page) | Hao Feng | ERROR | |||||||||||||||||||||||||||||||||
1383/2225 | NewWave 1.13.0 (landing page) | Federico Agostinis | OK | |||||||||||||||||||||||||||||||||
1384/2225 | ngsReports 2.5.0 (landing page) | Stevie Pederson | OK | |||||||||||||||||||||||||||||||||
1385/2225 | nipalsMCIA 1.1.0 (landing page) | Maximilian Mattessich | ERROR | |||||||||||||||||||||||||||||||||
1386/2225 | nnNorm 2.67.0 (landing page) | Adi Laurentiu Tarca | OK | |||||||||||||||||||||||||||||||||
1387/2225 | nnSVG 1.7.0 (landing page) | Lukas M. Weber | OK | |||||||||||||||||||||||||||||||||
1388/2225 | NOISeq 2.47.0 (landing page) | Sonia Tarazona | OK | |||||||||||||||||||||||||||||||||
1389/2225 | nondetects 2.33.0 (landing page) | Valeriia Sherina | OK | |||||||||||||||||||||||||||||||||
1390/2225 | NoRCE 1.15.0 (landing page) | Gulden Olgun | OK | |||||||||||||||||||||||||||||||||
1391/2225 | normalize450K 1.31.0 (landing page) | Jonathan Alexander Heiss | OK | |||||||||||||||||||||||||||||||||
1392/2225 | NormalyzerDE 1.21.0 (landing page) | Jakob Willforss | OK | |||||||||||||||||||||||||||||||||
1393/2225 | NormqPCR 1.49.0 (landing page) | James Perkins | OK | |||||||||||||||||||||||||||||||||
1394/2225 | normr 1.29.0 (landing page) | Johannes Helmuth | WARNINGS | |||||||||||||||||||||||||||||||||
1395/2225 | NPARC 1.15.0 (landing page) | Nils Kurzawa | OK | |||||||||||||||||||||||||||||||||
1396/2225 | npGSEA 1.39.0 (landing page) | Jessica Larson | OK | |||||||||||||||||||||||||||||||||
1397/2225 | NTW 1.53.0 (landing page) | Yuanhua Liu | WARNINGS | |||||||||||||||||||||||||||||||||
1398/2225 | nucleoSim 1.31.0 (landing page) | Astrid Deschênes | OK | |||||||||||||||||||||||||||||||||
1399/2225 | nucleR 2.35.0 (landing page) | Alba Sala | WARNINGS | |||||||||||||||||||||||||||||||||
1400/2225 | nuCpos 1.21.0 (landing page) | Hiroaki Kato | OK | |||||||||||||||||||||||||||||||||
1401/2225 | nullranges 1.9.0 (landing page) | Michael Love | ERROR | |||||||||||||||||||||||||||||||||
1402/2225 | NuPoP 2.11.0 (landing page) | Ji-Ping Wang | OK | |||||||||||||||||||||||||||||||||
|
| |||||||||||||||||||||||||||||||||||
Package | Maintainer | INSTALL/BUILD/CHECK | ||||||||||||||||||||||||||||||||||
1403/2225 | occugene 1.63.0 (landing page) | Oliver Will | OK | |||||||||||||||||||||||||||||||||
1404/2225 | OCplus 1.77.0 (landing page) | Alexander Ploner | OK | |||||||||||||||||||||||||||||||||
1405/2225 | octad 1.5.0 (landing page) | E. Chekalin | ERROR | |||||||||||||||||||||||||||||||||
1406/2225 | odseq 1.31.0 (landing page) | José Jiménez | OK | |||||||||||||||||||||||||||||||||
1407/2225 | OGRE 1.7.0 (landing page) | Sven Berres | ERROR | |||||||||||||||||||||||||||||||||
1408/2225 | oligo 1.67.0 (landing page) | Benilton Carvalho | WARNINGS | |||||||||||||||||||||||||||||||||
1409/2225 | oligoClasses 1.65.0 (landing page) | Benilton Carvalho | WARNINGS | |||||||||||||||||||||||||||||||||
1410/2225 | OLIN 1.81.0 (landing page) | Matthias Futschik | OK | |||||||||||||||||||||||||||||||||
1411/2225 | OLINgui 1.77.0 (landing page) | Matthias Futschik | OK | |||||||||||||||||||||||||||||||||
1412/2225 | omada 1.5.0 (landing page) | Sokratis Kariotis | OK | |||||||||||||||||||||||||||||||||
1413/2225 | OmaDB 2.19.0 (landing page) | Klara Kaleb | OK | |||||||||||||||||||||||||||||||||
1414/2225 | omicade4 1.43.0 (landing page) | Chen Meng | OK | |||||||||||||||||||||||||||||||||
1415/2225 | OmicCircos 1.41.0 (landing page) | Ying Hu | WARNINGS | |||||||||||||||||||||||||||||||||
1416/2225 | omicplotR 1.23.0 (landing page) | Daniel Giguere | OK | |||||||||||||||||||||||||||||||||
1417/2225 | omicRexposome 1.25.0 (landing page) | Xavier Escribà Montagut | ERROR | |||||||||||||||||||||||||||||||||
1418/2225 | OMICsPCA 1.21.0 (landing page) | Subhadeep Das | ERROR | |||||||||||||||||||||||||||||||||
1419/2225 | omicsPrint 1.23.0 (landing page) | Davy Cats | WARNINGS | |||||||||||||||||||||||||||||||||
1420/2225 | omicsViewer 1.7.0 (landing page) | Chen Meng | OK | |||||||||||||||||||||||||||||||||
1421/2225 | Omixer 1.13.0 (landing page) | Lucy Sinke | OK | |||||||||||||||||||||||||||||||||
1422/2225 | OmnipathR 3.11.1 (landing page) | Denes Turei | ERROR | |||||||||||||||||||||||||||||||||
1423/2225 | ompBAM 1.7.0 (landing page) | Alex Chit Hei Wong | OK | |||||||||||||||||||||||||||||||||
1424/2225 | oncomix 1.25.0 (landing page) | Daniel Pique | OK | |||||||||||||||||||||||||||||||||
1425/2225 | oncoscanR 1.5.0 (landing page) | Yann Christinat | OK | |||||||||||||||||||||||||||||||||
1426/2225 | OncoScore 1.31.0 (landing page) | Luca De Sano | OK | |||||||||||||||||||||||||||||||||
1427/2225 | OncoSimulR 4.5.0 (landing page) | Ramon Diaz-Uriarte | OK | |||||||||||||||||||||||||||||||||
1428/2225 | oneSENSE 1.25.0 (landing page) | Yong Kee Tan | ERROR | |||||||||||||||||||||||||||||||||
1429/2225 | onlineFDR 2.11.0 (landing page) | David S. Robertson | OK | |||||||||||||||||||||||||||||||||
1430/2225 | ontoProc 1.25.3 (landing page) | Vincent Carey | ERROR | |||||||||||||||||||||||||||||||||
1431/2225 | openCyto 2.15.0 (landing page) | Mike Jiang | ERROR | |||||||||||||||||||||||||||||||||
1432/2225 | openPrimeR 1.25.0 (landing page) | Matthias Döring | OK | |||||||||||||||||||||||||||||||||
1433/2225 | openPrimeRui 1.25.0 (landing page) | Matthias Döring | OK | |||||||||||||||||||||||||||||||||
1434/2225 | OpenStats 1.15.0 (landing page) | Hamed Haseli Mashhadi | OK | |||||||||||||||||||||||||||||||||
1435/2225 | oposSOM 2.21.0 (landing page) | Henry Loeffler-Wirth | WARNINGS | |||||||||||||||||||||||||||||||||
1436/2225 | oppar 1.31.0 (landing page) | Soroor Hediyeh zadeh | WARNINGS | |||||||||||||||||||||||||||||||||
1437/2225 | oppti 1.17.0 (landing page) | Abdulkadir Elmas | WARNINGS | |||||||||||||||||||||||||||||||||
1438/2225 | optimalFlow 1.15.0 (landing page) | Hristo Inouzhe | OK | |||||||||||||||||||||||||||||||||
1439/2225 | OPWeight 1.25.0 (landing page) | Mohamad Hasan | OK | |||||||||||||||||||||||||||||||||
1440/2225 | OrderedList 1.75.0 (landing page) | Claudio Lottaz | OK | |||||||||||||||||||||||||||||||||
1441/2225 | ORFhunteR 1.11.0 (landing page) | Vasily V. Grinev | OK | |||||||||||||||||||||||||||||||||
1442/2225 | ORFik 1.23.1 (landing page) | Haakon Tjeldnes | ERROR | |||||||||||||||||||||||||||||||||
1443/2225 | Organism.dplyr 1.31.1 (landing page) | Martin Morgan | OK | |||||||||||||||||||||||||||||||||
1444/2225 | OrganismDbi 1.45.0 (landing page) | Bioconductor Package Maintainer | WARNINGS | |||||||||||||||||||||||||||||||||
1445/2225 | orthogene 1.9.0 (landing page) | Brian Schilder | OK | |||||||||||||||||||||||||||||||||
1446/2225 | orthos 1.1.1 (landing page) | Panagiotis Papasaikas | ERROR | |||||||||||||||||||||||||||||||||
1447/2225 | OSAT 1.51.0 (landing page) | Li Yan | OK | |||||||||||||||||||||||||||||||||
1448/2225 | Oscope 1.33.0 (landing page) | Ning Leng | OK | |||||||||||||||||||||||||||||||||
1449/2225 | OTUbase 1.53.0 (landing page) | Daniel Beck | OK | |||||||||||||||||||||||||||||||||
1450/2225 | OUTRIDER 1.21.0 (landing page) | Christian Mertes | OK | |||||||||||||||||||||||||||||||||
1451/2225 | OutSplice 1.3.0 (landing page) | Theresa Guo | ERROR | |||||||||||||||||||||||||||||||||
1452/2225 | OVESEG 1.19.0 (landing page) | Lulu Chen | OK | |||||||||||||||||||||||||||||||||
|
| |||||||||||||||||||||||||||||||||||
Package | Maintainer | INSTALL/BUILD/CHECK | ||||||||||||||||||||||||||||||||||
1453/2225 | PAA 1.37.0 (landing page) | Michael Turewicz | OK | |||||||||||||||||||||||||||||||||
1454/2225 | packFinder 1.15.0 (landing page) | Jack Gisby | OK | |||||||||||||||||||||||||||||||||
1455/2225 | padma 1.13.0 (landing page) | Andrea Rau | OK | |||||||||||||||||||||||||||||||||
1456/2225 | PADOG 1.45.0 (landing page) | Adi L. Tarca | OK | |||||||||||||||||||||||||||||||||
1457/2225 | pageRank 1.13.0 (landing page) | Hongxu Ding | OK | |||||||||||||||||||||||||||||||||
1458/2225 | PAIRADISE 1.19.0 (landing page) | Qiang Hu | OK | |||||||||||||||||||||||||||||||||
1459/2225 | paircompviz 1.41.0 (landing page) | Michal Burda | OK | |||||||||||||||||||||||||||||||||
1460/2225 | pairedGSEA 1.3.0 (landing page) | Søren Helweg Dam | OK | |||||||||||||||||||||||||||||||||
1461/2225 | pairkat 1.9.0 (landing page) | Max McGrath | OK | |||||||||||||||||||||||||||||||||
1462/2225 | pandaR 1.35.0 (landing page) | Joseph N. Paulson | WARNINGS | |||||||||||||||||||||||||||||||||
1463/2225 | panelcn.mops 1.25.0 (landing page) | Gundula Povysil | ERROR | |||||||||||||||||||||||||||||||||
1464/2225 | PanomiR 1.7.0 (landing page) | Pourya Naderi | ERROR | |||||||||||||||||||||||||||||||||
1465/2225 | panp 1.73.0 (landing page) | Peter Warren | OK | |||||||||||||||||||||||||||||||||
1466/2225 | PANR 1.49.0 (landing page) | Xin Wang | OK | |||||||||||||||||||||||||||||||||
1467/2225 | PanViz 1.5.0 (landing page) | Luca Anholt | OK | |||||||||||||||||||||||||||||||||
1468/2225 | pareg 1.7.0 (landing page) | Kim Philipp Jablonski | ERROR | |||||||||||||||||||||||||||||||||
1469/2225 | parglms 1.35.0 (landing page) | VJ Carey | OK | |||||||||||||||||||||||||||||||||
1470/2225 | parody 1.61.0 (landing page) | Vince Carey | OK | |||||||||||||||||||||||||||||||||
1471/2225 | partCNV 1.1.0 (landing page) | Ziyi Li | ERROR | |||||||||||||||||||||||||||||||||
1472/2225 | PAST 1.19.0 (landing page) | Thrash Adam | WARNINGS | |||||||||||||||||||||||||||||||||
1473/2225 | Path2PPI 1.33.0 (landing page) | Oliver Philipp | OK | |||||||||||||||||||||||||||||||||
1474/2225 | pathifier 1.41.0 (landing page) | Assif Yitzhaky | OK | |||||||||||||||||||||||||||||||||
1475/2225 | pathlinkR 0.99.380 (landing page) | Travis Blimkie | ERROR | |||||||||||||||||||||||||||||||||
1476/2225 | PathNet 1.43.0 (landing page) | Ludwig Geistlinger | OK | |||||||||||||||||||||||||||||||||
1477/2225 | PathoStat 1.29.0 (landing page) | Solaiappan Manimaran | OK | |||||||||||||||||||||||||||||||||
1478/2225 | pathRender 1.71.0 (landing page) | Vince Carey | OK | |||||||||||||||||||||||||||||||||
1479/2225 | pathVar 1.33.0 (landing page) | Samuel Zimmerman | ERROR | |||||||||||||||||||||||||||||||||
1480/2225 | pathview 1.43.0 (landing page) | Weijun Luo | WARNINGS | |||||||||||||||||||||||||||||||||
1481/2225 | pathwayPCA 1.19.0 (landing page) | Gabriel Odom | OK | |||||||||||||||||||||||||||||||||
1482/2225 | paxtoolsr 1.37.0 (landing page) | Augustin Luna | ERROR | |||||||||||||||||||||||||||||||||
1483/2225 | pcaExplorer 2.29.0 (landing page) | Federico Marini | OK | |||||||||||||||||||||||||||||||||
1484/2225 | pcaMethods 1.95.0 (landing page) | Henning Redestig | OK | |||||||||||||||||||||||||||||||||
1485/2225 | PCAN 1.31.0 (landing page) | Matthew Page | OK | |||||||||||||||||||||||||||||||||
1486/2225 | PCAtools 2.15.0 (landing page) | Kevin Blighe | OK | |||||||||||||||||||||||||||||||||
1487/2225 | pcxn 2.25.0 (landing page) | Sokratis Kariotis | OK | |||||||||||||||||||||||||||||||||
1488/2225 | PDATK 1.11.0 (landing page) | Benjamin Haibe-Kains | ERROR | |||||||||||||||||||||||||||||||||
1489/2225 | pdInfoBuilder 1.67.0 (landing page) | Benilton Carvalho | OK | |||||||||||||||||||||||||||||||||
1490/2225 | PeacoQC 1.13.0 (landing page) | Annelies Emmaneel | OK | |||||||||||||||||||||||||||||||||
1491/2225 | peakPantheR 1.17.0 (landing page) | Arnaud Wolfer | ERROR | |||||||||||||||||||||||||||||||||
1492/2225 | PECA 1.39.0 (landing page) | Tomi Suomi | OK | |||||||||||||||||||||||||||||||||
1493/2225 | peco 1.15.0 (landing page) | Chiaowen Joyce Hsiao | OK | |||||||||||||||||||||||||||||||||
1494/2225 | pengls 1.9.0 (landing page) | Stijn Hawinkel | OK | |||||||||||||||||||||||||||||||||
1495/2225 | PepsNMR 1.21.0 (landing page) | Manon Martin | OK | |||||||||||||||||||||||||||||||||
1496/2225 | pepStat 1.37.0 (landing page) | Gregory C Imholte | OK | |||||||||||||||||||||||||||||||||
1497/2225 | pepXMLTab 1.37.0 (landing page) | Xiaojing Wang | OK | |||||||||||||||||||||||||||||||||
1498/2225 | PERFect 1.17.0 (landing page) | Quy Cao | ERROR | |||||||||||||||||||||||||||||||||
1499/2225 | periodicDNA 1.13.0 (landing page) | Jacques Serizay | WARNINGS | |||||||||||||||||||||||||||||||||
1500/2225 | pfamAnalyzeR 1.3.0 (landing page) | Kristoffer Vitting-Seerup | OK | |||||||||||||||||||||||||||||||||
1501/2225 | pgca 1.27.0 (landing page) | Gabriela Cohen-Freue | OK | |||||||||||||||||||||||||||||||||
1502/2225 | pgxRpi 0.99.10 (landing page) | Hangjia Zhao | OK | |||||||||||||||||||||||||||||||||
1503/2225 | phantasus 1.23.2 (landing page) | Alexey Sergushichev | ERROR | |||||||||||||||||||||||||||||||||
1504/2225 | phantasusLite 1.1.0 (landing page) | Alexey Sergushichev | OK | |||||||||||||||||||||||||||||||||
1505/2225 | PharmacoGx 3.7.0 (landing page) | Benjamin Haibe-Kains | ERROR | |||||||||||||||||||||||||||||||||
1506/2225 | phemd 1.19.0 (landing page) | William S Chen | ERROR | |||||||||||||||||||||||||||||||||
1507/2225 | PhenoGeneRanker 1.11.0 (landing page) | Cagatay Dursun | OK | |||||||||||||||||||||||||||||||||
1508/2225 | phenomis 1.5.0 (landing page) | Etienne A. Thevenot | OK | |||||||||||||||||||||||||||||||||
1509/2225 | phenopath 1.27.0 (landing page) | Kieran Campbell | OK | |||||||||||||||||||||||||||||||||
1510/2225 | phenoTest 1.51.0 (landing page) | Evarist Planet | WARNINGS | |||||||||||||||||||||||||||||||||
1511/2225 | PhenStat 2.39.0 (landing page) | Hamed Haselimashhadi | OK | |||||||||||||||||||||||||||||||||
1512/2225 | philr 1.29.0 (landing page) | Justin Silverman | OK | |||||||||||||||||||||||||||||||||
1513/2225 | PhIPData 1.11.0 (landing page) | Athena Chen | OK | |||||||||||||||||||||||||||||||||
1514/2225 | phosphonormalizer 1.27.0 (landing page) | Sohrab Saraei | OK | |||||||||||||||||||||||||||||||||
1515/2225 | PhosR 1.13.0 (landing page) | Taiyun Kim | ERROR | |||||||||||||||||||||||||||||||||
1516/2225 | PhyloProfile 1.17.0 (landing page) | Vinh Tran | OK | |||||||||||||||||||||||||||||||||
1517/2225 | phyloseq 1.47.0 (landing page) | Paul J. McMurdie | WARNINGS | |||||||||||||||||||||||||||||||||
1518/2225 | Pi 2.15.0 (landing page) | Hai Fang | WARNINGS | |||||||||||||||||||||||||||||||||
1519/2225 | piano 2.19.0 (landing page) | Leif Varemo Wigge | ERROR | |||||||||||||||||||||||||||||||||
1520/2225 | pickgene 1.75.0 (landing page) | Brian S. Yandell | WARNINGS | |||||||||||||||||||||||||||||||||
1521/2225 | PICS 2.47.0 (landing page) | Renan Sauteraud | OK | |||||||||||||||||||||||||||||||||
1522/2225 | Pigengene 1.29.10 (landing page) | Habil Zare | ERROR | |||||||||||||||||||||||||||||||||
1523/2225 | PING 2.47.0 (landing page) | Renan Sauteraud | WARNINGS | |||||||||||||||||||||||||||||||||
1524/2225 | pipeComp 1.13.0 (landing page) | Pierre-Luc Germain | ERROR | |||||||||||||||||||||||||||||||||
1525/2225 | pipeFrame 1.19.0 (landing page) | Zheng Wei | OK | |||||||||||||||||||||||||||||||||
1526/2225 | planet 1.11.0 (landing page) | Victor Yuan | OK | |||||||||||||||||||||||||||||||||
1527/2225 | planttfhunter 1.3.0 (landing page) | Fabrício Almeida-Silva | OK | |||||||||||||||||||||||||||||||||
1528/2225 | plasmut 1.1.0 (landing page) | Adith Arun | OK | |||||||||||||||||||||||||||||||||
1529/2225 | plgem 1.75.0 (landing page) | Norman Pavelka | OK | |||||||||||||||||||||||||||||||||
1530/2225 | plier 1.73.0 (landing page) | Crispin Miller | WARNINGS | |||||||||||||||||||||||||||||||||
1531/2225 | PloGO2 1.15.0 (landing page) | Jemma Wu | WARNINGS | |||||||||||||||||||||||||||||||||
1532/2225 | plotgardener 1.9.2 (landing page) | Nicole Kramer | ERROR | |||||||||||||||||||||||||||||||||
1533/2225 | plotGrouper 1.21.0 (landing page) | John D. Gagnon | ERROR | |||||||||||||||||||||||||||||||||
1534/2225 | PLPE 1.63.0 (landing page) | Soo-heang Eo | OK | |||||||||||||||||||||||||||||||||
1535/2225 | PLSDAbatch 0.99.2 (landing page) | Yiwen (Eva) Wang | OK | |||||||||||||||||||||||||||||||||
1536/2225 | plyinteractions 1.1.0 (landing page) | Jacques Serizay | OK | |||||||||||||||||||||||||||||||||
1537/2225 | plyranges 1.23.0 (landing page) | Stuart Lee | WARNINGS | |||||||||||||||||||||||||||||||||
1538/2225 | pmm 1.35.0 (landing page) | Anna Drewek | OK | |||||||||||||||||||||||||||||||||
1539/2225 | pmp 1.15.0 (landing page) | Gavin Rhys Lloyd | ERROR | |||||||||||||||||||||||||||||||||
1540/2225 | PoDCall 1.11.0 (landing page) | Hans Petter Brodal | OK | |||||||||||||||||||||||||||||||||
1541/2225 | podkat 1.35.0 (landing page) | Ulrich Bodenhofer | OK | |||||||||||||||||||||||||||||||||
1542/2225 | pogos 1.23.0 (landing page) | VJ Carey | ERROR | |||||||||||||||||||||||||||||||||
1543/2225 | polyester 1.39.0 (landing page) | Jack Fu | OK | |||||||||||||||||||||||||||||||||
1544/2225 | POMA 1.13.0 (landing page) | Pol Castellano-Escuder | ERROR | |||||||||||||||||||||||||||||||||
1545/2225 | powerTCR 1.23.0 (landing page) | Hillary Koch | WARNINGS | |||||||||||||||||||||||||||||||||
1546/2225 | POWSC 1.11.0 (landing page) | Kenong Su | OK | |||||||||||||||||||||||||||||||||
1547/2225 | ppcseq 1.11.0 (landing page) | Stefano Mangiola | OK | |||||||||||||||||||||||||||||||||
1548/2225 | PPInfer 1.29.0 (landing page) | Dongmin Jung | OK | |||||||||||||||||||||||||||||||||
1549/2225 | pqsfinder 2.19.0 (landing page) | Jiri Hon | WARNINGS | |||||||||||||||||||||||||||||||||
1550/2225 | pram 1.19.0 (landing page) | Peng Liu | OK | |||||||||||||||||||||||||||||||||
1551/2225 | prebs 1.43.0 (landing page) | Karolis Uziela | OK | |||||||||||||||||||||||||||||||||
1552/2225 | preciseTAD 1.13.0 (landing page) | Mikhail Dozmorov | OK | |||||||||||||||||||||||||||||||||
1553/2225 | PREDA 1.49.0 (landing page) | Francesco Ferrari | WARNINGS | |||||||||||||||||||||||||||||||||
1554/2225 | preprocessCore 1.65.0 (landing page) | Ben Bolstad | WARNINGS | |||||||||||||||||||||||||||||||||
1555/2225 | primirTSS 1.21.0 (landing page) | Pumin Li | WARNINGS | |||||||||||||||||||||||||||||||||
1556/2225 | PrInCE 1.19.0 (landing page) | Michael Skinnider | WARNINGS | |||||||||||||||||||||||||||||||||
1557/2225 | proActiv 1.13.0 (landing page) | Joseph Lee | OK | |||||||||||||||||||||||||||||||||
1558/2225 | proBAMr 1.37.0 (landing page) | Xiaojing Wang | OK | |||||||||||||||||||||||||||||||||
1559/2225 | PROcess 1.79.0 (landing page) | Xiaochun Li | OK | |||||||||||||||||||||||||||||||||
1560/2225 | procoil 2.31.0 (landing page) | Ulrich Bodenhofer | OK | |||||||||||||||||||||||||||||||||
1561/2225 | proDA 1.17.1 (landing page) | Constantin Ahlmann-Eltze | OK | |||||||||||||||||||||||||||||||||
1562/2225 | profileplyr 1.19.0 (landing page) | Tom Carroll | ERROR | |||||||||||||||||||||||||||||||||
1563/2225 | profileScoreDist 1.31.0 (landing page) | Paal O. Westermark | OK | |||||||||||||||||||||||||||||||||
1564/2225 | progeny 1.25.0 (landing page) | Aurélien Dugourd | ERROR | |||||||||||||||||||||||||||||||||
1565/2225 | projectR 1.19.0 (landing page) | Genevieve Stein-O'Brien | OK | |||||||||||||||||||||||||||||||||
1566/2225 | pRoloc 1.43.0 (landing page) | Laurent Gatto | ERROR | |||||||||||||||||||||||||||||||||
1567/2225 | pRolocGUI 2.13.0 (landing page) | Lisa Breckels | OK | |||||||||||||||||||||||||||||||||
1568/2225 | PROMISE 1.55.0 (landing page) | Stan Pounds | OK | |||||||||||||||||||||||||||||||||
1569/2225 | PROPER 1.35.0 (landing page) | Hao Wu | WARNINGS | |||||||||||||||||||||||||||||||||
1570/2225 | PROPS 1.25.0 (landing page) | Lichy Han | OK | |||||||||||||||||||||||||||||||||
1571/2225 | Prostar 1.35.0 (landing page) | Samuel Wieczorek | OK | |||||||||||||||||||||||||||||||||
1572/2225 | proteasy 1.5.0 (landing page) | Martin Rydén | ERROR | |||||||||||||||||||||||||||||||||
1573/2225 | proteinProfiles 1.43.0 (landing page) | Julian Gehring | OK | |||||||||||||||||||||||||||||||||
1574/2225 | ProteoDisco 1.9.0 (landing page) | Job van Riet | WARNINGS | |||||||||||||||||||||||||||||||||
1575/2225 | ProteoMM 1.21.0 (landing page) | Yuliya V Karpievitch | OK | |||||||||||||||||||||||||||||||||
1576/2225 | protGear 1.7.0 (landing page) | Kennedy Mwai | OK | |||||||||||||||||||||||||||||||||
1577/2225 | ProtGenerics 1.35.0 (landing page) | Laurent Gatto | WARNINGS | |||||||||||||||||||||||||||||||||
1578/2225 | PSEA 1.37.0 (landing page) | Alexandre Kuhn | WARNINGS | |||||||||||||||||||||||||||||||||
1579/2225 | psichomics 1.29.0 (landing page) | Nuno Saraiva-Agostinho | ERROR | |||||||||||||||||||||||||||||||||
1580/2225 | PSMatch 1.7.1 (landing page) | Laurent Gatto | OK | |||||||||||||||||||||||||||||||||
1581/2225 | psygenet2r 1.35.0 (landing page) | Alba Gutierrez-Sacristan | ERROR | |||||||||||||||||||||||||||||||||
1582/2225 | ptairMS 1.11.0 (landing page) | camille Roquencourt | WARNINGS | |||||||||||||||||||||||||||||||||
1583/2225 | puma 3.45.0 (landing page) | Xuejun Liu | WARNINGS | |||||||||||||||||||||||||||||||||
1584/2225 | PureCN 2.9.1 (landing page) | Markus Riester | OK | |||||||||||||||||||||||||||||||||
1585/2225 | pvac 1.51.0 (landing page) | Jun Lu | OK | |||||||||||||||||||||||||||||||||
1586/2225 | pvca 1.43.0 (landing page) | Jianying LI | OK | |||||||||||||||||||||||||||||||||
1587/2225 | Pviz 1.37.0 (landing page) | Renan Sauteraud | WARNINGS | |||||||||||||||||||||||||||||||||
1588/2225 | PWMEnrich 4.39.0 (landing page) | Diego Diez | OK | |||||||||||||||||||||||||||||||||
1589/2225 | pwOmics 1.35.0 (landing page) | Torsten Schoeps | ERROR | |||||||||||||||||||||||||||||||||
|
| |||||||||||||||||||||||||||||||||||
Package | Maintainer | INSTALL/BUILD/CHECK | ||||||||||||||||||||||||||||||||||
1590/2225 | qckitfastq 1.19.0 (landing page) | August Guang | ERROR | |||||||||||||||||||||||||||||||||
1591/2225 | qcmetrics 1.41.0 (landing page) | Laurent Gatto | ERROR | |||||||||||||||||||||||||||||||||
1592/2225 | QDNAseq 1.39.0 (landing page) | Daoud Sie | OK | |||||||||||||||||||||||||||||||||
1593/2225 | QFeatures 1.13.1 (landing page) | Laurent Gatto | OK | |||||||||||||||||||||||||||||||||
1594/2225 | qmtools 1.7.0 (landing page) | Jaehyun Joo | OK | |||||||||||||||||||||||||||||||||
1595/2225 | qpcrNorm 1.61.0 (landing page) | Jessica Mar | OK | |||||||||||||||||||||||||||||||||
1596/2225 | qpgraph 2.37.0 (landing page) | Robert Castelo | OK | |||||||||||||||||||||||||||||||||
1597/2225 | qPLEXanalyzer 1.21.0 (landing page) | Ashley Sawle | OK | |||||||||||||||||||||||||||||||||
1598/2225 | qsea 1.29.0 (landing page) | Matthias Lienhard | OK | |||||||||||||||||||||||||||||||||
1599/2225 | qsmooth 1.19.0 (landing page) | Stephanie C. Hicks | WARNINGS | |||||||||||||||||||||||||||||||||
1600/2225 | QSutils 1.21.0 (landing page) | Mercedes Guerrero-Murillo | OK | |||||||||||||||||||||||||||||||||
1601/2225 | qsvaR 1.7.0 (landing page) | Hedia Tnani | OK | |||||||||||||||||||||||||||||||||
1602/2225 | QTLExperiment 1.1.0 (landing page) | Amelia Dunstone | OK | |||||||||||||||||||||||||||||||||
1603/2225 | Qtlizer 1.17.0 (landing page) | Matthias Munz | OK | |||||||||||||||||||||||||||||||||
1604/2225 | quantiseqr 1.11.0 (landing page) | Federico Marini | OK | |||||||||||||||||||||||||||||||||
1605/2225 | quantro 1.37.0 (landing page) | Stephanie Hicks | OK | |||||||||||||||||||||||||||||||||
1606/2225 | quantsmooth 1.69.0 (landing page) | Jan Oosting | OK | |||||||||||||||||||||||||||||||||
1607/2225 | QuartPAC 1.35.0 (landing page) | Gregory Ryslik | OK | |||||||||||||||||||||||||||||||||
1608/2225 | QuasR 1.43.2 (landing page) | Michael Stadler | WARNINGS | |||||||||||||||||||||||||||||||||
1609/2225 | QuaternaryProd 1.37.0 (landing page) | Carl Tony Fakhry | OK | |||||||||||||||||||||||||||||||||
1610/2225 | QUBIC 1.31.0 (landing page) | Yu Zhang | OK | |||||||||||||||||||||||||||||||||
1611/2225 | qusage 2.37.0 (landing page) | Christopher Bolen | OK | |||||||||||||||||||||||||||||||||
1612/2225 | qvalue 2.35.0 (landing page) | John D. Storey | OK | |||||||||||||||||||||||||||||||||
|
| |||||||||||||||||||||||||||||||||||
Package | Maintainer | INSTALL/BUILD/CHECK | ||||||||||||||||||||||||||||||||||
1613/2225 | R3CPET 1.35.0 (landing page) | Mohamed Nadhir Djekidel | ERROR | |||||||||||||||||||||||||||||||||
1614/2225 | r3Cseq 1.49.0 (landing page) | Supat Thongjuea | OK | |||||||||||||||||||||||||||||||||
1615/2225 | R453Plus1Toolbox 1.53.0 (landing page) | Hans-Ulrich Klein | OK | |||||||||||||||||||||||||||||||||
1616/2225 | R4RNA 1.31.0 (landing page) | Daniel Lai | OK | |||||||||||||||||||||||||||||||||
1617/2225 | RadioGx 2.7.0 (landing page) | Benjamin Haibe-Kains | ERROR | |||||||||||||||||||||||||||||||||
1618/2225 | raer 1.1.0 (landing page) | Kent Riemondy | ERROR | |||||||||||||||||||||||||||||||||
1619/2225 | RaggedExperiment 1.27.0 (landing page) | Marcel Ramos | OK | |||||||||||||||||||||||||||||||||
1620/2225 | RAIDS 1.1.0 (landing page) | Pascal Belleau | OK | |||||||||||||||||||||||||||||||||
1621/2225 | rain 1.37.0 (landing page) | Paul F. Thaben | OK | |||||||||||||||||||||||||||||||||
1622/2225 | ramr 1.11.0 (landing page) | Oleksii Nikolaienko | ERROR | |||||||||||||||||||||||||||||||||
1623/2225 | ramwas 1.27.0 (landing page) | Andrey A Shabalin | OK | |||||||||||||||||||||||||||||||||
1624/2225 | RandomWalkRestartMH 1.23.0 (landing page) | Alberto Valdeolivas | WARNINGS | |||||||||||||||||||||||||||||||||
1625/2225 | randPack 1.49.0 (landing page) | Robert Gentleman | OK | |||||||||||||||||||||||||||||||||
1626/2225 | randRotation 1.15.0 (landing page) | Peter Hettegger | ERROR | |||||||||||||||||||||||||||||||||
1627/2225 | RankProd 3.29.0 (landing page) | Francesco Del Carratore | OK | |||||||||||||||||||||||||||||||||
1628/2225 | RAREsim 1.7.0 (landing page) | Ryan Barnard | OK | |||||||||||||||||||||||||||||||||
1629/2225 | RareVariantVis 2.31.0 (landing page) | Tomasz Stokowy | OK | |||||||||||||||||||||||||||||||||
1630/2225 | Rarr 1.3.1 (landing page) | Mike Smith | OK | |||||||||||||||||||||||||||||||||
1631/2225 | rawrr 1.11.5 (landing page) | Christian Panse | ERROR | |||||||||||||||||||||||||||||||||
1632/2225 | RbcBook1 1.71.0 (landing page) | Vince Carey | OK | |||||||||||||||||||||||||||||||||
1633/2225 | Rbec 1.11.0 (landing page) | Pengfan Zhang | ERROR | |||||||||||||||||||||||||||||||||
1634/2225 | RBGL 1.79.0 (landing page) | Bioconductor Package Maintainer | WARNINGS | |||||||||||||||||||||||||||||||||
1635/2225 | RBioFormats 1.3.0 (landing page) | Andrzej Oleś | OK | |||||||||||||||||||||||||||||||||
1636/2225 | RBioinf 1.63.0 (landing page) | Robert Gentleman | OK | |||||||||||||||||||||||||||||||||
1637/2225 | rBiopaxParser 2.43.0 (landing page) | Frank Kramer | OK | |||||||||||||||||||||||||||||||||
1638/2225 | RBM 1.35.0 (landing page) | Dongmei Li | OK | |||||||||||||||||||||||||||||||||
1639/2225 | Rbowtie 1.43.0 (landing page) | Michael Stadler | WARNINGS | |||||||||||||||||||||||||||||||||
1640/2225 | Rbowtie2 2.9.0 (landing page) | Zheng Wei | OK | |||||||||||||||||||||||||||||||||
1641/2225 | rbsurv 2.61.0 (landing page) | Soo-heang Eo | OK | |||||||||||||||||||||||||||||||||
1642/2225 | Rbwa 1.7.0 (landing page) | Jean-Philippe Fortin | WARNINGS | |||||||||||||||||||||||||||||||||
1643/2225 | RCAS 1.29.2 (landing page) | Bora Uyar | OK | |||||||||||||||||||||||||||||||||
1644/2225 | RCASPAR 1.49.0 (landing page) | Douaa Mugahid | OK | |||||||||||||||||||||||||||||||||
1645/2225 | rcellminer 2.25.0 (landing page) | Augustin Luna | WARNINGS | |||||||||||||||||||||||||||||||||
1646/2225 | rCGH 1.33.0 (landing page) | Frederic Commo | OK | |||||||||||||||||||||||||||||||||
1647/2225 | RcisTarget 1.23.0 (landing page) | Sara Aibar | ERROR | |||||||||||||||||||||||||||||||||
1648/2225 | RCM 1.19.0 (landing page) | Stijn Hawinkel | OK | |||||||||||||||||||||||||||||||||
1649/2225 | Rcollectl 1.3.0 (landing page) | Vincent Carey | ERROR | |||||||||||||||||||||||||||||||||
1650/2225 | Rcpi 1.39.0 (landing page) | Nan Xiao | OK | |||||||||||||||||||||||||||||||||
1651/2225 | RCSL 1.11.0 (landing page) | Qinglin Mei | ERROR | |||||||||||||||||||||||||||||||||
1652/2225 | Rcwl 1.19.0 (landing page) | Qiang Hu | OK | |||||||||||||||||||||||||||||||||
1653/2225 | RcwlPipelines 1.19.1 (landing page) | Qiang Hu | OK | |||||||||||||||||||||||||||||||||
1654/2225 | RCX 1.7.0 (landing page) | Florian Auer | OK | |||||||||||||||||||||||||||||||||
1655/2225 | RCy3 2.23.2 (landing page) | Alex Pico | OK | |||||||||||||||||||||||||||||||||
1656/2225 | RCyjs 2.25.0 (landing page) | Paul Shannon | WARNINGS | |||||||||||||||||||||||||||||||||
1657/2225 | rDGIdb 1.29.0 (landing page) | Lars Bosshard | ERROR | |||||||||||||||||||||||||||||||||
1658/2225 | Rdisop 1.63.0 (landing page) | Steffen Neumann | WARNINGS | |||||||||||||||||||||||||||||||||
1659/2225 | RDRToolbox 1.53.0 (landing page) | Christoph Bartenhagen | OK | |||||||||||||||||||||||||||||||||
1660/2225 | ReactomeContentService4R 1.11.0 (landing page) | Chi-Lam Poon | OK | |||||||||||||||||||||||||||||||||
1661/2225 | ReactomeGraph4R 1.11.0 (landing page) | Chi-Lam Poon | OK | |||||||||||||||||||||||||||||||||
1662/2225 | ReactomeGSA 1.17.2 (landing page) | Johannes Griss | ERROR | |||||||||||||||||||||||||||||||||
1663/2225 | ReactomePA 1.47.0 (landing page) | Guangchuang Yu | ERROR | |||||||||||||||||||||||||||||||||
1664/2225 | ReadqPCR 1.49.0 (landing page) | James Perkins | OK | |||||||||||||||||||||||||||||||||
1665/2225 | REBET 1.21.0 (landing page) | Bill Wheeler | OK | |||||||||||||||||||||||||||||||||
1666/2225 | rebook 1.13.0 (landing page) | Aaron Lun | WARNINGS | |||||||||||||||||||||||||||||||||
1667/2225 | receptLoss 1.15.0 (landing page) | Daniel Pique | OK | |||||||||||||||||||||||||||||||||
1668/2225 | reconsi 1.15.0 (landing page) | Stijn Hawinkel | OK | |||||||||||||||||||||||||||||||||
1669/2225 | recount 1.29.0 (landing page) | Leonardo Collado-Torres | OK | |||||||||||||||||||||||||||||||||
1670/2225 | recount3 1.13.0 (landing page) | Leonardo Collado-Torres | OK | |||||||||||||||||||||||||||||||||
1671/2225 | recountmethylation 1.13.0 (landing page) | Sean K Maden | OK | |||||||||||||||||||||||||||||||||
1672/2225 | recoup 1.31.0 (landing page) | Panagiotis Moulos | OK | |||||||||||||||||||||||||||||||||
1673/2225 | RedeR 2.99.1 (landing page) | Mauro Castro | OK | |||||||||||||||||||||||||||||||||
1674/2225 | RedisParam 1.5.0 (landing page) | Martin Morgan | OK | |||||||||||||||||||||||||||||||||
1675/2225 | REDseq 1.49.0 (landing page) | Lihua Julie Zhu | OK | |||||||||||||||||||||||||||||||||
1676/2225 | RefPlus 1.73.0 (landing page) | Kai-Ming Chang | ERROR | |||||||||||||||||||||||||||||||||
1677/2225 | RegEnrich 1.13.1 (landing page) | Weiyang Tao | ERROR | |||||||||||||||||||||||||||||||||
1678/2225 | regionalpcs 1.1.0 (landing page) | Tiffany Eulalio | OK | |||||||||||||||||||||||||||||||||
1679/2225 | RegionalST 1.1.1 (landing page) | Ziyi Li | ERROR | |||||||||||||||||||||||||||||||||
1680/2225 | regioneR 1.35.0 (landing page) | Bernat Gel | OK | |||||||||||||||||||||||||||||||||
1681/2225 | regioneReloaded 1.5.0 (landing page) | Roberto Malinverni | OK | |||||||||||||||||||||||||||||||||
1682/2225 | regionReport 1.37.0 (landing page) | Leonardo Collado-Torres | OK | |||||||||||||||||||||||||||||||||
1683/2225 | regsplice 1.29.0 (landing page) | Lukas M. Weber | OK | |||||||||||||||||||||||||||||||||
1684/2225 | regutools 1.15.0 (landing page) | Joselyn Chavez | ERROR | |||||||||||||||||||||||||||||||||
1685/2225 | REMP 1.27.0 (landing page) | Yinan Zheng | ERROR | |||||||||||||||||||||||||||||||||
1686/2225 | Repitools 1.49.0 (landing page) | Mark Robinson | ERROR | |||||||||||||||||||||||||||||||||
1687/2225 | Jason A. Hackney | WARNINGS | ||||||||||||||||||||||||||||||||||
1688/2225 | RepViz 1.19.0 (landing page) | Thomas Faux, Asta Laiho | WARNINGS | |||||||||||||||||||||||||||||||||
1689/2225 | ReQON 1.49.0 (landing page) | Christopher Cabanski | ERROR | |||||||||||||||||||||||||||||||||
1690/2225 | ResidualMatrix 1.13.0 (landing page) | Aaron Lun | OK | |||||||||||||||||||||||||||||||||
1691/2225 | RESOLVE 1.5.0 (landing page) | Luca De Sano | OK | |||||||||||||||||||||||||||||||||
1692/2225 | restfulSE 1.25.0 (landing page) | Shweta Gopaulakrishnan | OK | |||||||||||||||||||||||||||||||||
1693/2225 | retrofit 1.3.0 (landing page) | Adam Park | OK | |||||||||||||||||||||||||||||||||
1694/2225 | ReUseData 1.3.2 (landing page) | Qian Liu | OK | |||||||||||||||||||||||||||||||||
1695/2225 | rexposome 1.25.0 (landing page) | Xavier Escribà Montagut | ERROR | |||||||||||||||||||||||||||||||||
1696/2225 | rfaRm 1.15.0 (landing page) | Lara Selles Vidal | TIMEOUT | |||||||||||||||||||||||||||||||||
1697/2225 | Rfastp 1.13.0 (landing page) | Thomas Carroll | WARNINGS | |||||||||||||||||||||||||||||||||
1698/2225 | rfPred 1.41.0 (landing page) | Hugo Varet | OK | |||||||||||||||||||||||||||||||||
1699/2225 | rGADEM 2.51.0 (landing page) | Arnaud Droit | OK | |||||||||||||||||||||||||||||||||
1700/2225 | rGenomeTracks 1.9.0 (landing page) | Omar Elashkar | OK | |||||||||||||||||||||||||||||||||
1701/2225 | RGMQL 1.23.0 (landing page) | Simone Pallotta | ERROR | |||||||||||||||||||||||||||||||||
1702/2225 | RgnTX 1.5.0 (landing page) | Yue Wang | OK | |||||||||||||||||||||||||||||||||
1703/2225 | rgoslin 1.7.0 (landing page) | Nils Hoffmann | OK | |||||||||||||||||||||||||||||||||
1704/2225 | RGraph2js 1.31.0 (landing page) | Stephane Cano | OK | |||||||||||||||||||||||||||||||||
1705/2225 | Rgraphviz 2.47.0 (landing page) | Kasper Daniel Hansen | WARNINGS | |||||||||||||||||||||||||||||||||
1706/2225 | rGREAT 2.5.0 (landing page) | Zuguang Gu | ERROR | |||||||||||||||||||||||||||||||||
1707/2225 | RGSEA 1.37.0 (landing page) | Chengcheng Ma | OK | |||||||||||||||||||||||||||||||||
1708/2225 | rgsepd 1.35.0 (landing page) | Karl Stamm | OK | |||||||||||||||||||||||||||||||||
1709/2225 | rhdf5 2.47.1 (landing page) | Mike Smith | WARNINGS | |||||||||||||||||||||||||||||||||
1710/2225 | rhdf5client 1.25.0 (landing page) | Vincent Carey | OK | |||||||||||||||||||||||||||||||||
1711/2225 | rhdf5filters 1.15.1 (landing page) | Mike Smith | OK | |||||||||||||||||||||||||||||||||
1712/2225 | Rhdf5lib 1.25.0 (landing page) | Mike Smith | WARNINGS | |||||||||||||||||||||||||||||||||
1713/2225 | Rhisat2 1.19.1 (landing page) | Charlotte Soneson | WARNINGS | |||||||||||||||||||||||||||||||||
1714/2225 | Rhtslib 2.99.1 (landing page) | Hervé Pagès | OK | |||||||||||||||||||||||||||||||||
1715/2225 | RiboCrypt 1.9.0 (landing page) | Michal Swirski | OK | |||||||||||||||||||||||||||||||||
1716/2225 | RiboDiPA 1.11.0 (landing page) | Ji-Ping Wang | OK | |||||||||||||||||||||||||||||||||
1717/2225 | RiboProfiling 1.33.0 (landing page) | A. Popa | WARNINGS | |||||||||||||||||||||||||||||||||
1718/2225 | ribor 1.15.0 (landing page) | Michael Geng | OK | |||||||||||||||||||||||||||||||||
1719/2225 | riboSeqR 1.37.0 (landing page) | Thomas J. Hardcastle | ERROR | |||||||||||||||||||||||||||||||||
1720/2225 | ribosomeProfilingQC 1.15.0 (landing page) | Jianhong Ou | OK | |||||||||||||||||||||||||||||||||
1721/2225 | rifi 1.7.0 (landing page) | Jens Georg | WARNINGS | |||||||||||||||||||||||||||||||||
1722/2225 | rifiComparative 1.3.0 (landing page) | Loubna Youssar | OK | |||||||||||||||||||||||||||||||||
1723/2225 | RImmPort 1.31.0 (landing page) | Zicheng Hu | OK | |||||||||||||||||||||||||||||||||
1724/2225 | RIPAT 1.13.0 (landing page) | Min-Jeong Baek | ERROR | |||||||||||||||||||||||||||||||||
1725/2225 | Risa 1.45.0 (landing page) | Alejandra Gonzalez-Beltran | OK | |||||||||||||||||||||||||||||||||
1726/2225 | RITAN 1.27.0 (landing page) | Michael Zimmermann | WARNINGS | |||||||||||||||||||||||||||||||||
1727/2225 | RIVER 1.27.0 (landing page) | Yungil Kim | OK | |||||||||||||||||||||||||||||||||
1728/2225 | RJMCMCNucleosomes 1.27.0 (landing page) | Astrid Deschênes | OK | |||||||||||||||||||||||||||||||||
1729/2225 | RLassoCox 1.11.0 (landing page) | Wei Liu | OK | |||||||||||||||||||||||||||||||||
1730/2225 | RLMM 1.65.0 (landing page) | Nusrat Rabbee | OK | |||||||||||||||||||||||||||||||||
1731/2225 | RLSeq 1.9.0 (landing page) | Henry Miller | ERROR | |||||||||||||||||||||||||||||||||
1732/2225 | Rmagpie 1.59.0 (landing page) | Camille Maumet | OK | |||||||||||||||||||||||||||||||||
1733/2225 | RMassBank 3.13.0 (landing page) | RMassBank at Eawag | ERROR | |||||||||||||||||||||||||||||||||
1734/2225 | rmelting 1.19.0 (landing page) | J. Aravind | OK | |||||||||||||||||||||||||||||||||
1735/2225 | Rmmquant 1.21.0 (landing page) | Zytnicki Matthias | OK | |||||||||||||||||||||||||||||||||
1736/2225 | rmspc 1.9.0 (landing page) | Meriem Bahda | OK | |||||||||||||||||||||||||||||||||
1737/2225 | RNAAgeCalc 1.15.0 (landing page) | Xu Ren | OK | |||||||||||||||||||||||||||||||||
1738/2225 | rnaEditr 1.13.0 (landing page) | Lanyu Zhang | WARNINGS | |||||||||||||||||||||||||||||||||
1739/2225 | RNAinteract 1.51.0 (landing page) | Mike Smith | OK | |||||||||||||||||||||||||||||||||
1740/2225 | RNAmodR 1.17.0 (landing page) | Felix G.M. Ernst | OK | |||||||||||||||||||||||||||||||||
1741/2225 | RNAmodR.AlkAnilineSeq 1.17.0 (landing page) | Felix G.M. Ernst | OK | |||||||||||||||||||||||||||||||||
1742/2225 | RNAmodR.ML 1.17.0 (landing page) | Felix G.M. Ernst | OK | |||||||||||||||||||||||||||||||||
1743/2225 | RNAmodR.RiboMethSeq 1.17.0 (landing page) | Felix G.M. Ernst | OK | |||||||||||||||||||||||||||||||||
1744/2225 | RNAsense 1.17.0 (landing page) | Marcus Rosenblatt | WARNINGS | |||||||||||||||||||||||||||||||||
1745/2225 | rnaseqcomp 1.33.0 (landing page) | Mingxiang Teng | OK | |||||||||||||||||||||||||||||||||
1746/2225 | RNAseqCovarImpute 1.1.2 (landing page) | Brennan Baker | OK | |||||||||||||||||||||||||||||||||
1747/2225 | RNASeqPower 1.43.0 (landing page) | Terry M Therneau | OK | |||||||||||||||||||||||||||||||||
1748/2225 | RnaSeqSampleSize 2.13.0 (landing page) | Shilin Zhao Developer | OK | |||||||||||||||||||||||||||||||||
1749/2225 | RnBeads 2.21.0 (landing page) | Fabian Mueller | OK | |||||||||||||||||||||||||||||||||
1750/2225 | Rnits 1.37.0 (landing page) | Dipen P. Sangurdekar | WARNINGS | |||||||||||||||||||||||||||||||||
1751/2225 | roar 1.39.0 (landing page) | Elena Grassi | OK | |||||||||||||||||||||||||||||||||
1752/2225 | roastgsa 1.1.0 (landing page) | Adria Caballe | OK | |||||||||||||||||||||||||||||||||
1753/2225 | ROC 1.79.0 (landing page) | Vince Carey | OK | |||||||||||||||||||||||||||||||||
1754/2225 | ROCpAI 1.15.0 (landing page) | Juan-Pedro Garcia | OK | |||||||||||||||||||||||||||||||||
1755/2225 | RolDE 1.7.0 (landing page) | Medical Bioinformatics Centre | OK | |||||||||||||||||||||||||||||||||
1756/2225 | rols 2.31.0 (landing page) | Laurent Gatto | ERROR | |||||||||||||||||||||||||||||||||
1757/2225 | ROntoTools 2.31.0 (landing page) | Sorin Draghici | WARNINGS | |||||||||||||||||||||||||||||||||
1758/2225 | ropls 1.35.2 (landing page) | Etienne A. Thevenot | ERROR | |||||||||||||||||||||||||||||||||
1759/2225 | ROSeq 1.15.0 (landing page) | Krishan Gupta | WARNINGS | |||||||||||||||||||||||||||||||||
1760/2225 | ROTS 1.31.0 (landing page) | Tomi Suomi | OK | |||||||||||||||||||||||||||||||||
1761/2225 | RPA 1.59.0 (landing page) | Leo Lahti | OK | |||||||||||||||||||||||||||||||||
1762/2225 | rprimer 1.7.0 (landing page) | Sofia Persson | OK | |||||||||||||||||||||||||||||||||
1763/2225 | RProtoBufLib 2.15.0 (landing page) | Mike Jiang | WARNINGS | |||||||||||||||||||||||||||||||||
1764/2225 | rpx 2.11.0 (landing page) | Laurent Gatto | ERROR | |||||||||||||||||||||||||||||||||
1765/2225 | Rqc 1.37.0 (landing page) | Welliton Souza | OK | |||||||||||||||||||||||||||||||||
1766/2225 | rqt 1.29.0 (landing page) | Ilya Y. Zhbannikov | OK | |||||||||||||||||||||||||||||||||
1767/2225 | rqubic 1.49.0 (landing page) | Jitao David Zhang | WARNINGS | |||||||||||||||||||||||||||||||||
1768/2225 | rRDP 1.37.0 (landing page) | Michael Hahsler | ERROR | |||||||||||||||||||||||||||||||||
1769/2225 | RRHO 1.43.0 (landing page) | Jonathan Rosenblatt | OK | |||||||||||||||||||||||||||||||||
1770/2225 | rrvgo 1.15.0 (landing page) | Sergi Sayols | ERROR | |||||||||||||||||||||||||||||||||
1771/2225 | Rsamtools 2.19.2 (landing page) | Bioconductor Package Maintainer | WARNINGS | |||||||||||||||||||||||||||||||||
1772/2225 | rsbml 2.61.0 (landing page) | Michael Lawrence | ERROR | |||||||||||||||||||||||||||||||||
1773/2225 | rScudo 1.19.0 (landing page) | Matteo Ciciani | OK | |||||||||||||||||||||||||||||||||
1774/2225 | rsemmed 1.13.0 (landing page) | Leslie Myint | OK | |||||||||||||||||||||||||||||||||
1775/2225 | RSeqAn 1.23.0 (landing page) | August Guang | WARNINGS | |||||||||||||||||||||||||||||||||
1776/2225 | Rsubread 2.17.0 (landing page) | Wei Shi | WARNINGS | |||||||||||||||||||||||||||||||||
1777/2225 | RSVSim 1.43.0 (landing page) | Christoph Bartenhagen | OK | |||||||||||||||||||||||||||||||||
1778/2225 | rSWeeP 1.15.0 (landing page) | Danrley R. Fernandes | OK | |||||||||||||||||||||||||||||||||
1779/2225 | RTCA 1.55.0 (landing page) | Jitao David Zhang | WARNINGS | |||||||||||||||||||||||||||||||||
1780/2225 | RTCGA 1.33.0 (landing page) | Marcin Kosinski | OK | |||||||||||||||||||||||||||||||||
1781/2225 | RTCGAToolbox 2.33.2 (landing page) | Marcel Ramos | OK | |||||||||||||||||||||||||||||||||
1782/2225 | RTN 2.27.1 (landing page) | Mauro Castro | OK | |||||||||||||||||||||||||||||||||
1783/2225 | RTNduals 1.27.0 (landing page) | Mauro Castro | OK | |||||||||||||||||||||||||||||||||
1784/2225 | RTNsurvival 1.27.0 (landing page) | Clarice Groeneveld | OK | |||||||||||||||||||||||||||||||||
1785/2225 | RTopper 1.49.0 (landing page) | Luigi Marchionni | OK | |||||||||||||||||||||||||||||||||
1786/2225 | Rtpca 1.13.0 (landing page) | Nils Kurzawa | OK | |||||||||||||||||||||||||||||||||
1787/2225 | rtracklayer 1.63.0 (landing page) | Michael Lawrence | WARNINGS | |||||||||||||||||||||||||||||||||
1788/2225 | Rtreemix 1.65.0 (landing page) | Jasmina Bogojeska | WARNINGS | |||||||||||||||||||||||||||||||||
1789/2225 | rTRM 1.41.0 (landing page) | Diego Diez | OK | |||||||||||||||||||||||||||||||||
1790/2225 | rTRMui 1.41.0 (landing page) | Diego Diez | OK | |||||||||||||||||||||||||||||||||
1791/2225 | runibic 1.25.0 (landing page) | Patryk Orzechowski | WARNINGS | |||||||||||||||||||||||||||||||||
1792/2225 | RUVcorr 1.35.0 (landing page) | Saskia Freytag | WARNINGS | |||||||||||||||||||||||||||||||||
1793/2225 | RUVnormalize 1.37.0 (landing page) | Laurent Jacob | OK | |||||||||||||||||||||||||||||||||
1794/2225 | RUVSeq 1.37.0 (landing page) | Davide Risso | OK | |||||||||||||||||||||||||||||||||
1795/2225 | Rvisdiff 1.1.0 (landing page) | David Barrios | OK | |||||||||||||||||||||||||||||||||
1796/2225 | RVS 1.25.0 (landing page) | Thomas Sherman | OK | |||||||||||||||||||||||||||||||||
1797/2225 | rWikiPathways 1.23.1 (landing page) | Egon Willighagen | OK | |||||||||||||||||||||||||||||||||
|
| |||||||||||||||||||||||||||||||||||
Package | Maintainer | INSTALL/BUILD/CHECK | ||||||||||||||||||||||||||||||||||
1798/2225 | S4Arrays 1.3.1 (landing page) | Hervé Pagès | OK | |||||||||||||||||||||||||||||||||
1799/2225 | S4Vectors 0.41.2 (landing page) | Hervé Pagès | WARNINGS | |||||||||||||||||||||||||||||||||
1800/2225 | safe 3.43.0 (landing page) | Ludwig Geistlinger | OK | |||||||||||||||||||||||||||||||||
1801/2225 | sagenhaft 1.73.0 (landing page) | Tim Beissbarth | WARNINGS | |||||||||||||||||||||||||||||||||
1802/2225 | SAIGEgds 2.3.0 (landing page) | Xiuwen Zheng | OK | |||||||||||||||||||||||||||||||||
1803/2225 | sampleClassifier 1.27.0 (landing page) | Khadija El Amrani | OK | |||||||||||||||||||||||||||||||||
1804/2225 | SamSPECTRAL 1.57.0 (landing page) | Habil | WARNINGS | |||||||||||||||||||||||||||||||||
1805/2225 | sangeranalyseR 1.13.0 (landing page) | Kuan-Hao Chao | WARNINGS | |||||||||||||||||||||||||||||||||
1806/2225 | sangerseqR 1.39.0 (landing page) | Jonathon Hill | OK | |||||||||||||||||||||||||||||||||
1807/2225 | SANTA 2.39.0 (landing page) | Alex Cornish | ERROR | |||||||||||||||||||||||||||||||||
1808/2225 | SARC 1.1.0 (landing page) | Krutik Patel | OK | |||||||||||||||||||||||||||||||||
1809/2225 | sarks 1.15.0 (landing page) | Dennis Wylie | OK | |||||||||||||||||||||||||||||||||
1810/2225 | satuRn 1.11.0 (landing page) | Jeroen Gilis | ERROR | |||||||||||||||||||||||||||||||||
1811/2225 | SBGNview 1.17.0 (landing page) | Weijun Luo | ERROR | |||||||||||||||||||||||||||||||||
1812/2225 | SBMLR 1.99.0 (landing page) | Tomas Radivoyevitch | ERROR | |||||||||||||||||||||||||||||||||
1813/2225 | SC3 1.31.0 (landing page) | Vladimir Kiselev | NA | |||||||||||||||||||||||||||||||||
1814/2225 | Scale4C 1.25.0 (landing page) | Carolin Walter | OK | |||||||||||||||||||||||||||||||||
1815/2225 | ScaledMatrix 1.11.0 (landing page) | Aaron Lun | OK | |||||||||||||||||||||||||||||||||
1816/2225 | SCAN.UPC 2.45.0 (landing page) | Stephen R. Piccolo | OK | |||||||||||||||||||||||||||||||||
1817/2225 | scanMiR 1.9.0 (landing page) | Pierre-Luc Germain | WARNINGS | |||||||||||||||||||||||||||||||||
1818/2225 | scanMiRApp 1.9.0 (landing page) | Pierre-Luc Germain | WARNINGS | |||||||||||||||||||||||||||||||||
1819/2225 | scAnnotatR 1.9.0 (landing page) | Johannes Griss | ERROR | |||||||||||||||||||||||||||||||||
1820/2225 | SCANVIS 1.17.0 (landing page) | Phaedra Agius | OK | |||||||||||||||||||||||||||||||||
1821/2225 | SCArray 1.11.0 (landing page) | Xiuwen Zheng | ERROR | |||||||||||||||||||||||||||||||||
1822/2225 | SCArray.sat 1.3.0 (landing page) | Xiuwen Zheng | ERROR | |||||||||||||||||||||||||||||||||
1823/2225 | scater 1.31.1 (landing page) | Alan O'Callaghan | ERROR | |||||||||||||||||||||||||||||||||
1824/2225 | scatterHatch 1.9.0 (landing page) | Atul Deshpande | OK | |||||||||||||||||||||||||||||||||
1825/2225 | scBFA 1.17.0 (landing page) | Ruoxin Li | ERROR | |||||||||||||||||||||||||||||||||
1826/2225 | SCBN 1.21.0 (landing page) | Yan Zhou | OK | |||||||||||||||||||||||||||||||||
1827/2225 | scBubbletree 1.5.0 (landing page) | Simo Kitanovski |