Back to Multiple platform build/check report for BioC 3.15
ABCDEFGH[I]JKLMNOPQRSTUVWXYZ

This page was generated on 2022-01-22 11:07:16 -0500 (Sat, 22 Jan 2022).

HostnameOSArch (*)R versionInstalled pkgs
nebbiolo1Linux (Ubuntu 20.04.4 LTS)x86_64R Under development (unstable) (2022-01-05 r81451) -- "Unsuffered Consequences" 4163
riesling1Windows Server 2019 Standardx64R Under development (unstable) (2021-11-21 r81221) -- "Unsuffered Consequences" 4058
palomino3Windows Server 2022 Datacenterx64R Under development (unstable) (2021-12-21 r81400 ucrt) -- "Unsuffered Consequences" 4000
merida1macOS 10.14.6 Mojavex86_64R Under development (unstable) (2022-01-05 r81451) -- "Unsuffered Consequences" 4117
Click on any hostname to see more info about the system (e.g. compilers)      (*) as reported by 'uname -p', except on Windows and Mac OS X

INSTALL results for imageHTS on riesling1


To the developers/maintainers of the imageHTS package:
- Please allow up to 24 hours (and sometimes 48 hours) for your latest push to git@git.bioconductor.org:packages/imageHTS.git to
reflect on this report. See How and When does the builder pull? When will my changes propagate? here for more information.
- Make sure to use the following settings in order to reproduce any error or warning you see on this page.

raw results

Package 919/2075HostnameOS / ArchINSTALLBUILDCHECKBUILD BIN
imageHTS 1.45.1  (landing page)
Joseph Barry
Snapshot Date: 2022-01-21 13:55:18 -0500 (Fri, 21 Jan 2022)
git_url: https://git.bioconductor.org/packages/imageHTS
git_branch: master
git_last_commit: 264cfbf
git_last_commit_date: 2022-01-06 10:56:50 -0500 (Thu, 06 Jan 2022)
nebbiolo1Linux (Ubuntu 20.04.4 LTS) / x86_64  OK    OK    OK  UNNEEDED, same version is already published
riesling1Windows Server 2019 Standard / x64  OK    OK    NA    NA  
palomino3Windows Server 2022 Datacenter / x64  OK    OK    OK    OK  NO, package depends on 'EBImage' which is not available
merida1macOS 10.14.6 Mojave / x86_64  OK    OK    OK    OK  UNNEEDED, same version is already published

Summary

Package: imageHTS
Version: 1.45.1
Command: D:\biocbuild\bbs-3.15-bioc\R\bin\R.exe CMD INSTALL imageHTS
StartedAt: 2022-01-21 15:59:07 -0500 (Fri, 21 Jan 2022)
EndedAt: 2022-01-21 16:00:08 -0500 (Fri, 21 Jan 2022)
EllapsedTime: 60.4 seconds
RetCode: 0
Status:   OK  

Command output

##############################################################################
##############################################################################
###
### Running command:
###
###   D:\biocbuild\bbs-3.15-bioc\R\bin\R.exe CMD INSTALL imageHTS
###
##############################################################################
##############################################################################


* installing to library 'D:/biocbuild/bbs-3.15-bioc/R/library'
* installing *source* package 'imageHTS' ...
** using staged installation
** R
** inst
** byte-compile and prepare package for lazy loading
** help
*** installing help indices
  converting help for package 'imageHTS'
    finding HTML links ... done
    collectCellFeatures                     html  
    countObjects                            html  
    extractFeatures                         html  
    fileHTS                                 html  
    getImageConf                            html  
    getUnames                               html  
    getWellFeatures                         html  
    finding level-2 HTML links ... done

    highlightSegmentation                   html  
    imageHTS                                html  
    installCellPicker                       html  
    makeCellHTS                             html  
    parseDCF                                html  
    parseImageConf                          html  
    popCellPicker                           html  
    prw2uname                               html  
    readLearnTS                             html  
    segmentATH                              html  
    segmentWells                            html  
    segmentYeastBF                          html  
    summarizeWells                          html  
    zprime                                  html  
** building package indices
** installing vignettes
** testing if installed package can be loaded from temporary location
** testing if installed package can be loaded from final location
** testing if installed package keeps a record of temporary installation path
* DONE (imageHTS)
Making 'packages.html' ... done