Back to Multiple platform build/check report for BioC 3.15
ABCDEFGH[I]JKLMNOPQRSTUVWXYZ

This page was generated on 2022-01-22 11:07:16 -0500 (Sat, 22 Jan 2022).

HostnameOSArch (*)R versionInstalled pkgs
nebbiolo1Linux (Ubuntu 20.04.4 LTS)x86_64R Under development (unstable) (2022-01-05 r81451) -- "Unsuffered Consequences" 4163
riesling1Windows Server 2019 Standardx64R Under development (unstable) (2021-11-21 r81221) -- "Unsuffered Consequences" 4058
palomino3Windows Server 2022 Datacenterx64R Under development (unstable) (2021-12-21 r81400 ucrt) -- "Unsuffered Consequences" 4000
merida1macOS 10.14.6 Mojavex86_64R Under development (unstable) (2022-01-05 r81451) -- "Unsuffered Consequences" 4117
Click on any hostname to see more info about the system (e.g. compilers)      (*) as reported by 'uname -p', except on Windows and Mac OS X

BUILD results for igvR on riesling1


To the developers/maintainers of the igvR package:
- Please allow up to 24 hours (and sometimes 48 hours) for your latest push to git@git.bioconductor.org:packages/igvR.git to
reflect on this report. See How and When does the builder pull? When will my changes propagate? here for more information.
- Make sure to use the following settings in order to reproduce any error or warning you see on this page.

raw results

Package 915/2075HostnameOS / ArchINSTALLBUILDCHECKBUILD BIN
igvR 1.15.2  (landing page)
Paul Shannon
Snapshot Date: 2022-01-21 13:55:18 -0500 (Fri, 21 Jan 2022)
git_url: https://git.bioconductor.org/packages/igvR
git_branch: master
git_last_commit: 20ba6be
git_last_commit_date: 2022-01-20 13:33:44 -0500 (Thu, 20 Jan 2022)
nebbiolo1Linux (Ubuntu 20.04.4 LTS) / x86_64  OK    OK    ERROR  
riesling1Windows Server 2019 Standard / x64  OK    OK    NA    NA  
palomino3Windows Server 2022 Datacenter / x64  OK    OK    ERROR    OK  
merida1macOS 10.14.6 Mojave / x86_64  OK    OK    ERROR    OK  

Summary

Package: igvR
Version: 1.15.2
Command: chmod a+r igvR -R && D:\biocbuild\bbs-3.15-bioc\R\bin\R.exe CMD build --keep-empty-dirs --no-resave-data igvR
StartedAt: 2022-01-21 17:07:26 -0500 (Fri, 21 Jan 2022)
EndedAt: 2022-01-21 17:08:31 -0500 (Fri, 21 Jan 2022)
EllapsedTime: 65.1 seconds
RetCode: 0
Status:   OK  
PackageFile: igvR_1.15.2.tar.gz
PackageFileSize: 3.904 MiB

Command output

##############################################################################
##############################################################################
###
### Running command:
###
###   chmod a+r igvR -R && D:\biocbuild\bbs-3.15-bioc\R\bin\R.exe CMD build --keep-empty-dirs --no-resave-data igvR
###
##############################################################################
##############################################################################


* checking for file 'igvR/DESCRIPTION' ... OK
* preparing 'igvR':
* checking DESCRIPTION meta-information ... OK
* installing the package to build vignettes
* creating vignettes ... OK
* checking for LF line-endings in source and make files and shell scripts
* checking for empty or unneeded directories
WARNING: directory 'igvR/docs' is empty
WARNING: directory 'igvR/explore' is empty
WARNING: directory 'igvR/inst/browserCode/lib' is empty
WARNING: directory 'igvR/misc' is empty
* building 'igvR_1.15.2.tar.gz'