Name | Last modified | Size | Description | |
---|---|---|---|---|
Parent Directory | - | |||
install-out.txt | 12-Jun-2024 04:40 | 965 | ||
install-summary.dcf | 12-Jun-2024 04:40 | 264 | ||
buildsrc-out.txt | 12-Jun-2024 04:40 | 889 | ||
buildsrc-summary.dcf | 12-Jun-2024 04:40 | 444 | ||
checksrc-out.txt | 12-Jun-2024 04:40 | 3.4K | ||
checksrc-summary.dcf | 12-Jun-2024 04:40 | 439 | ||
buildbin-out.txt | 12-Jun-2024 04:40 | 1.1K | ||
buildbin-summary.dcf | 12-Jun-2024 04:40 | 503 | ||