Back to Multiple platform build/check report for BioC 3.15
ABCDEFGH[I]JKLMNOPQRSTUVWXYZ

This page was generated on 2022-01-19 11:07:57 -0500 (Wed, 19 Jan 2022).

HostnameOSArch (*)R versionInstalled pkgs
nebbiolo1Linux (Ubuntu 20.04.4 LTS)x86_64R Under development (unstable) (2022-01-05 r81451) -- "Unsuffered Consequences" 4161
riesling1Windows Server 2019 Standardx64R Under development (unstable) (2021-11-21 r81221) -- "Unsuffered Consequences" 4056
palomino3Windows Server 2022 Datacenterx64R Under development (unstable) (2021-12-21 r81400 ucrt) -- "Unsuffered Consequences" 3998
merida1macOS 10.14.6 Mojavex86_64R Under development (unstable) (2022-01-05 r81451) -- "Unsuffered Consequences" 4115
Click on any hostname to see more info about the system (e.g. compilers)      (*) as reported by 'uname -p', except on Windows and Mac OS X

BUILD BIN results for idpr on riesling1


To the developers/maintainers of the idpr package:
- Please allow up to 24 hours (and sometimes 48 hours) for your latest push to git@git.bioconductor.org:packages/idpr.git to
reflect on this report. See How and When does the builder pull? When will my changes propagate? here for more information.
- Make sure to use the following settings in order to reproduce any error or warning you see on this page.

raw results

Package 911/2074HostnameOS / ArchINSTALLBUILDCHECKBUILD BIN
idpr 1.5.0  (landing page)
William M. McFadden
Snapshot Date: 2022-01-18 13:55:18 -0500 (Tue, 18 Jan 2022)
git_url: https://git.bioconductor.org/packages/idpr
git_branch: master
git_last_commit: a9fa682
git_last_commit_date: 2021-10-26 13:02:03 -0500 (Tue, 26 Oct 2021)
nebbiolo1Linux (Ubuntu 20.04.4 LTS) / x86_64  OK    OK    OK  UNNEEDED, same version is already published
riesling1Windows Server 2019 Standard / x64  OK    OK    OK    OK  
palomino3Windows Server 2022 Datacenter / x64  OK    OK    OK    OK  NO, package depends on 'Biostrings' which is not available
merida1macOS 10.14.6 Mojave / x86_64  OK    OK    OK    OK  UNNEEDED, same version is already published

Summary

Package: idpr
Version: 1.5.0
Command: rm -rf idpr.buildbin-libdir && mkdir idpr.buildbin-libdir && D:\biocbuild\bbs-3.15-bioc\R\bin\R.exe CMD INSTALL --build --library=idpr.buildbin-libdir idpr_1.5.0.tar.gz
StartedAt: 2022-01-18 20:58:05 -0500 (Tue, 18 Jan 2022)
EndedAt: 2022-01-18 20:59:10 -0500 (Tue, 18 Jan 2022)
EllapsedTime: 64.6 seconds
RetCode: 0
Status:   OK  
PackageFile: idpr_1.5.0.zip
PackageFileSize: 1.089 MiB

Command output

##############################################################################
##############################################################################
###
### Running command:
###
###   rm -rf idpr.buildbin-libdir && mkdir idpr.buildbin-libdir && D:\biocbuild\bbs-3.15-bioc\R\bin\R.exe CMD INSTALL --build --library=idpr.buildbin-libdir idpr_1.5.0.tar.gz
###
##############################################################################
##############################################################################


* installing *source* package 'idpr' ...
** using staged installation
** R
** data
*** moving datasets to lazyload DB
** inst
** byte-compile and prepare package for lazy loading
** help
*** installing help indices
  converting help for package 'idpr'
    finding HTML links ... done
    DUNMat                                  html  
    DisorderMat                             html  
    EDSSMat                                 html  
    KDNorm                                  html  
    TP53Sequences                           html  
    chargeCalculationGlobal                 html  
    chargeCalculationLocal                  html  
    chargeHydropathyPlot                    html  
    hendersonHasselbalch                    html  
    idprofile                               html  
    iupred                                  html  
    meanScaledHydropathy                    html  
    netCharge                               html  
    pKaData                                 html  
    scaledHydropathyGlobal                  html  
    scaledHydropathyLocal                   html  
    sequenceCheck                           html  
    sequenceMap                             html  
    sequenceMapCoordinates                  html  
    sequencePlot                            html  
    structuralTendency                      html  
    structuralTendencyPlot                  html  
*** copying figures
** building package indices
** installing vignettes
** testing if installed package can be loaded from temporary location
** testing if installed package can be loaded from final location
** testing if installed package keeps a record of temporary installation path
* MD5 sums
packaged installation of 'idpr' as idpr_1.5.0.zip
* DONE (idpr)