![]() | Name | Last modified | Size | Description |
---|---|---|---|---|
![]() | Parent Directory | - | ||
![]() | buildsrc-out.txt | 24-Sep-2023 00:36 | 794 | |
![]() | buildsrc-summary.dcf | 24-Sep-2023 00:36 | 408 | |
![]() | checksrc-out.txt | 24-Sep-2023 00:36 | 3.8K | |
![]() | checksrc-summary.dcf | 24-Sep-2023 00:36 | 402 | |
![]() | install-out.txt | 24-Sep-2023 00:36 | 1.0K | |
![]() | install-summary.dcf | 24-Sep-2023 00:36 | 252 | |