Index of /checkResults/devel/bioc-LATEST/idpr/raw-results/kunpeng2

[ICO]NameLast modifiedSizeDescription

[DIR]Parent Directory  -  
[   ]install-summary.dcf02-Mar-2024 01:40 264  
[   ]buildsrc-summary.dcf02-Mar-2024 01:40 419  
[   ]checksrc-summary.dcf02-Mar-2024 01:40 440  
[TXT]buildsrc-out.txt02-Mar-2024 01:40 806  
[TXT]install-out.txt02-Mar-2024 01:40 1.0K 
[TXT]checksrc-out.txt02-Mar-2024 01:40 3.5K