![]() | Name | Last modified | Size | Description |
---|---|---|---|---|
![]() | Parent Directory | - | ||
![]() | buildsrc-out.txt | 03-Dec-2023 01:38 | 803 | |
![]() | buildsrc-summary.dcf | 03-Dec-2023 01:38 | 417 | |
![]() | checksrc-out.txt | 03-Dec-2023 01:38 | 3.5K | |
![]() | checksrc-summary.dcf | 03-Dec-2023 01:38 | 434 | |
![]() | install-out.txt | 03-Dec-2023 01:38 | 1.0K | |
![]() | install-summary.dcf | 03-Dec-2023 01:38 | 261 | |