Back to Multiple platform build/check report for BioC 3.17
ABCDEFGH[I]JKLMNOPQRSTUVWXYZ

This page was generated on 2022-12-07 11:05:50 -0500 (Wed, 07 Dec 2022).

HostnameOSArch (*)R versionInstalled pkgs
nebbiolo1Linux (Ubuntu 22.04.1 LTS)x86_64R Under development (unstable) (2022-11-30 r83393) -- "Unsuffered Consequences" 4423
palomino3Windows Server 2022 Datacenterx64R Under development (unstable) (2022-11-30 r83393 ucrt) -- "Unsuffered Consequences" 4193
merida1macOS 10.14.6 Mojavex86_64R Under development (unstable) (2022-11-30 r83393) -- "Unsuffered Consequences" 4236
Click on any hostname to see more info about the system (e.g. compilers)      (*) as reported by 'uname -p', except on Windows and Mac OS X

CHECK results for idpr on nebbiolo1


To the developers/maintainers of the idpr package:
- Please allow up to 24 hours (and sometimes 48 hours) for your latest push to git@git.bioconductor.org:packages/idpr.git to
reflect on this report. See How and When does the builder pull? When will my changes propagate? for more information.
- Make sure to use the following settings in order to reproduce any error or warning you see on this page.

raw results

Package 939/2155HostnameOS / ArchINSTALLBUILDCHECKBUILD BIN
idpr 1.9.0  (landing page)
William M. McFadden
Snapshot Date: 2022-12-06 14:00:17 -0500 (Tue, 06 Dec 2022)
git_url: https://git.bioconductor.org/packages/idpr
git_branch: master
git_last_commit: d4dea0b
git_last_commit_date: 2022-11-01 11:22:40 -0500 (Tue, 01 Nov 2022)
nebbiolo1Linux (Ubuntu 22.04.1 LTS) / x86_64  OK    OK    OK  UNNEEDED, same version is already published
palomino3Windows Server 2022 Datacenter / x64  OK    OK    OK    OK  UNNEEDED, same version is already published
merida1macOS 10.14.6 Mojave / x86_64  OK    OK    OK    OK  UNNEEDED, same version is already published

Summary

Package: idpr
Version: 1.9.0
Command: /home/biocbuild/bbs-3.17-bioc/R/bin/R CMD check --install=check:idpr.install-out.txt --library=/home/biocbuild/bbs-3.17-bioc/R/library --timings idpr_1.9.0.tar.gz
StartedAt: 2022-12-06 21:17:06 -0500 (Tue, 06 Dec 2022)
EndedAt: 2022-12-06 21:19:04 -0500 (Tue, 06 Dec 2022)
EllapsedTime: 117.1 seconds
RetCode: 0
Status:   OK  
CheckDir: idpr.Rcheck
Warnings: 0

Command output

##############################################################################
##############################################################################
###
### Running command:
###
###   /home/biocbuild/bbs-3.17-bioc/R/bin/R CMD check --install=check:idpr.install-out.txt --library=/home/biocbuild/bbs-3.17-bioc/R/library --timings idpr_1.9.0.tar.gz
###
##############################################################################
##############################################################################


* using log directory ‘/home/biocbuild/bbs-3.17-bioc/meat/idpr.Rcheck’
* using R Under development (unstable) (2022-11-30 r83393)
* using platform: x86_64-pc-linux-gnu (64-bit)
* using session charset: UTF-8
* checking for file ‘idpr/DESCRIPTION’ ... OK
* checking extension type ... Package
* this is package ‘idpr’ version ‘1.9.0’
* package encoding: UTF-8
* checking package namespace information ... OK
* checking package dependencies ... OK
* checking if this is a source package ... OK
* checking if there is a namespace ... OK
* checking for hidden files and directories ... OK
* checking for portable file names ... OK
* checking for sufficient/correct file permissions ... OK
* checking whether package ‘idpr’ can be installed ... OK
* checking installed package size ... OK
* checking package directory ... OK
* checking ‘build’ directory ... OK
* checking DESCRIPTION meta-information ... OK
* checking top-level files ... OK
* checking for left-over files ... OK
* checking index information ... OK
* checking package subdirectories ... OK
* checking R files for non-ASCII characters ... OK
* checking R files for syntax errors ... OK
* checking whether the package can be loaded ... OK
* checking whether the package can be loaded with stated dependencies ... OK
* checking whether the package can be unloaded cleanly ... OK
* checking whether the namespace can be loaded with stated dependencies ... OK
* checking whether the namespace can be unloaded cleanly ... OK
* checking dependencies in R code ... OK
* checking S3 generic/method consistency ... OK
* checking replacement functions ... OK
* checking foreign function calls ... OK
* checking R code for possible problems ... OK
* checking Rd files ... OK
* checking Rd metadata ... OK
* checking Rd cross-references ... OK
* checking for missing documentation entries ... OK
* checking for code/documentation mismatches ... OK
* checking Rd \usage sections ... OK
* checking Rd contents ... OK
* checking for unstated dependencies in examples ... OK
* checking contents of ‘data’ directory ... OK
* checking data for non-ASCII characters ... NOTE
  Note: found 13 marked UTF-8 strings
* checking LazyData ... OK
* checking data for ASCII and uncompressed saves ... OK
* checking R/sysdata.rda ... OK
* checking files in ‘vignettes’ ... OK
* checking examples ... OK
* checking for unstated dependencies in ‘tests’ ... OK
* checking tests ...
  Running ‘testthat.R’
 OK
* checking for unstated dependencies in vignettes ... OK
* checking package vignettes in ‘inst/doc’ ... OK
* checking running R code from vignettes ...
  ‘chargeHydropathy-vignette.Rmd’ using ‘UTF-8’... OK
  ‘disorderedMatrices-vignette.Rmd’ using ‘UTF-8’... OK
  ‘idpr-vignette.Rmd’ using ‘UTF-8’... OK
  ‘iupred-vignette.Rmd’ using ‘UTF-8’... OK
  ‘sequenceMAP-vignette.Rmd’ using ‘UTF-8’... OK
  ‘structuralTendency-vignette.Rmd’ using ‘UTF-8’... OK
 NONE
* checking re-building of vignette outputs ... OK
* checking PDF version of manual ... OK
* DONE

Status: 1 NOTE
See
  ‘/home/biocbuild/bbs-3.17-bioc/meat/idpr.Rcheck/00check.log’
for details.



Installation output

idpr.Rcheck/00install.out

##############################################################################
##############################################################################
###
### Running command:
###
###   /home/biocbuild/bbs-3.17-bioc/R/bin/R CMD INSTALL idpr
###
##############################################################################
##############################################################################


* installing to library ‘/home/biocbuild/bbs-3.17-bioc/R/library’
* installing *source* package ‘idpr’ ...
** using staged installation
** R
** data
*** moving datasets to lazyload DB
** inst
** byte-compile and prepare package for lazy loading
** help
*** installing help indices
*** copying figures
** building package indices
** installing vignettes
** testing if installed package can be loaded from temporary location
** testing if installed package can be loaded from final location
** testing if installed package keeps a record of temporary installation path
* DONE (idpr)

Tests output

idpr.Rcheck/tests/testthat.Rout


R Under development (unstable) (2022-11-30 r83393) -- "Unsuffered Consequences"
Copyright (C) 2022 The R Foundation for Statistical Computing
Platform: x86_64-pc-linux-gnu (64-bit)

R is free software and comes with ABSOLUTELY NO WARRANTY.
You are welcome to redistribute it under certain conditions.
Type 'license()' or 'licence()' for distribution details.

R is a collaborative project with many contributors.
Type 'contributors()' for more information and
'citation()' on how to cite R or R packages in publications.

Type 'demo()' for some demos, 'help()' for on-line help, or
'help.start()' for an HTML browser interface to help.
Type 'q()' to quit R.

> library(testthat)
> library(idpr)
> 
> test_check("idpr")
[ FAIL 0 | WARN 0 | SKIP 0 | PASS 47 ]
> 
> proc.time()
   user  system elapsed 
  1.224   0.094   1.308 

Example timings

idpr.Rcheck/idpr-Ex.timings

nameusersystemelapsed
chargeCalculationGlobal0.7340.0040.739
chargeCalculationLocal0.3790.0120.392
chargeHydropathyPlot3.8840.0313.926
hendersonHasselbalch0.0520.0020.054
idprofile0.0000.0000.001
iupred0.0010.0000.001
meanScaledHydropathy0.0000.0040.004
netCharge0.1080.0120.119
scaledHydropathyGlobal0.5960.0000.596
scaledHydropathyLocal0.6370.0000.637
sequenceCheck0.0000.0010.001
sequenceMap3.1500.0723.222
sequenceMapCoordinates0.2180.0000.217
sequencePlot0.360.000.36
structuralTendency0.0040.0000.005
structuralTendencyPlot1.5970.0441.641