Back to Multiple platform build/check report for BioC 3.17
ABCDEFGH[I]JKLMNOPQRSTUVWXYZ

This page was generated on 2022-12-05 11:05:56 -0500 (Mon, 05 Dec 2022).

HostnameOSArch (*)R versionInstalled pkgs
nebbiolo1Linux (Ubuntu 22.04.1 LTS)x86_64R Under development (unstable) (2022-11-30 r83393) -- "Unsuffered Consequences" 4277
palomino3Windows Server 2022 Datacenterx64R Under development (unstable) (2022-11-30 r83393 ucrt) -- "Unsuffered Consequences" 4193
merida1macOS 10.14.6 Mojavex86_64R Under development (unstable) (2022-11-30 r83393) -- "Unsuffered Consequences" 4236
Click on any hostname to see more info about the system (e.g. compilers)      (*) as reported by 'uname -p', except on Windows and Mac OS X

BUILD results for idpr on nebbiolo1


To the developers/maintainers of the idpr package:
- Please allow up to 24 hours (and sometimes 48 hours) for your latest push to git@git.bioconductor.org:packages/idpr.git to
reflect on this report. See How and When does the builder pull? When will my changes propagate? for more information.
- Make sure to use the following settings in order to reproduce any error or warning you see on this page.

raw results

Package 939/2155HostnameOS / ArchINSTALLBUILDCHECKBUILD BIN
idpr 1.9.0  (landing page)
William M. McFadden
Snapshot Date: 2022-12-04 14:00:12 -0500 (Sun, 04 Dec 2022)
git_url: https://git.bioconductor.org/packages/idpr
git_branch: master
git_last_commit: d4dea0b
git_last_commit_date: 2022-11-01 11:22:40 -0500 (Tue, 01 Nov 2022)
nebbiolo1Linux (Ubuntu 22.04.1 LTS) / x86_64  OK    OK    OK  UNNEEDED, same version is already published
palomino3Windows Server 2022 Datacenter / x64  OK    OK    OK    OK  UNNEEDED, same version is already published
merida1macOS 10.14.6 Mojave / x86_64  OK    OK    OK    OK  UNNEEDED, same version is already published

Summary

Package: idpr
Version: 1.9.0
Command: /home/biocbuild/bbs-3.17-bioc/R/bin/R CMD build --keep-empty-dirs --no-resave-data idpr
StartedAt: 2022-12-04 16:46:52 -0500 (Sun, 04 Dec 2022)
EndedAt: 2022-12-04 16:47:52 -0500 (Sun, 04 Dec 2022)
EllapsedTime: 60.7 seconds
RetCode: 0
Status:   OK  
PackageFile: idpr_1.9.0.tar.gz
PackageFileSize: 2.482 MiB

Command output

##############################################################################
##############################################################################
###
### Running command:
###
###   /home/biocbuild/bbs-3.17-bioc/R/bin/R CMD build --keep-empty-dirs --no-resave-data idpr
###
##############################################################################
##############################################################################


* checking for file ‘idpr/DESCRIPTION’ ... OK
* preparing ‘idpr’:
* checking DESCRIPTION meta-information ... OK
* installing the package to build vignettes
* creating vignettes ... OK
* checking for LF line-endings in source and make files and shell scripts
* checking for empty or unneeded directories
* building ‘idpr_1.9.0.tar.gz’