Index of /checkResults/devel/bioc-LATEST/ideal/raw-results/kunpeng2
Name
Last modified
Size
Description
Parent Directory
-
buildsrc-out.txt
29-Mar-2024 00:40
883
buildsrc-summary.dcf
29-Mar-2024 00:40
337
install-out.txt
29-Mar-2024 00:40
652
install-summary.dcf
29-Mar-2024 00:40
266