Back to Multiple platform build/check report for BioC 3.14
ABCDEFGH[I]JKLMNOPQRSTUVWXYZ

This page was generated on 2021-10-22 12:04:29 -0400 (Fri, 22 Oct 2021).

BUILD BIN results for icetea on riesling1

To the developers/maintainers of the icetea package:
- Please allow up to 24 hours (and sometimes 48 hours) for your latest push to git@git.bioconductor.org:packages/icetea.git to
reflect on this report. See How and When does the builder pull? When will my changes propagate? here for more information.
- Make sure to use the following settings in order to reproduce any error or warning you see on this page.

raw results

Package 900/2075HostnameOS / ArchINSTALLBUILDCHECKBUILD BIN
icetea 1.11.0  (landing page)
Vivek Bhardwaj
Snapshot Date: 2021-10-21 14:50:08 -0400 (Thu, 21 Oct 2021)
git_url: https://git.bioconductor.org/packages/icetea
git_branch: master
git_last_commit: 61ed70e
git_last_commit_date: 2021-05-19 12:36:20 -0400 (Wed, 19 May 2021)
nebbiolo2Linux (Ubuntu 20.04.2 LTS) / x86_64  OK    OK    OK  UNNEEDED, same version is already published
riesling1Windows Server 2019 Standard / x64  OK    OK    OK    OK  UNNEEDED, same version is already published
merida1macOS 10.14.6 Mojave / x86_64  OK    OK    OK    NA  

Summary

Package: icetea
Version: 1.11.0
Command: rm -rf icetea.buildbin-libdir && mkdir icetea.buildbin-libdir && D:\biocbuild\bbs-3.14-bioc\R\bin\R.exe CMD INSTALL --merge-multiarch --build --library=icetea.buildbin-libdir icetea_1.11.0.tar.gz
StartedAt: 2021-10-22 05:55:15 -0400 (Fri, 22 Oct 2021)
EndedAt: 2021-10-22 05:59:13 -0400 (Fri, 22 Oct 2021)
EllapsedTime: 238.0 seconds
RetCode: 0
Status:   OK  
PackageFile: icetea_1.11.0.zip
PackageFileSize: 1.058 MiB

Command output

##############################################################################
##############################################################################
###
### Running command:
###
###   rm -rf icetea.buildbin-libdir && mkdir icetea.buildbin-libdir && D:\biocbuild\bbs-3.14-bioc\R\bin\R.exe CMD INSTALL --merge-multiarch --build --library=icetea.buildbin-libdir icetea_1.11.0.tar.gz
###
##############################################################################
##############################################################################



install for i386

* installing *source* package 'icetea' ...
** using staged installation
** R
** inst
** byte-compile and prepare package for lazy loading
** help
*** installing help indices
  converting help for package 'icetea'
    finding HTML links ... done
    activeChrs                              html  
    annotateTSS                             html  
    check_capSet                            html  
    demultiplexFASTQ                        html  
    detectDiffTSS                           html  
    finding level-2 HTML links ... done

    detectTSS                               html  
    diffQCplots                             html  
    exampleCSobject                         html  
    exportTSS                               html  
    filterDuplicates                        html  
    filterDups                              html  
    fitDiffTSS                              html  
    getBamFlags                             html  
    getChromBins                            html  
    getChromWindows                         html  
    getGeneCounts                           html  
    getMCparams                             html  
    getNormFactors                          html  
    get_newfastq                            html  
    getranks                                html  
    mapCaps                                 html  
    newCapSet                               html  
    numReadsInBed                           html  
    plotPrecision                           html  
    plotReadStats                           html  
    plotTSSprecision                        html  
    readsTo3p                               html  
    readsTo5p                               html  
    readsToCenter                           html  
    sampleInfo                              html  
    splitBAM_byIndex                        html  
    splitBAM_byRepindex                     html  
    split_fastq                             html  
    splitranks                              html  
    strandBinCounts                         html  
** building package indices
** installing vignettes
** testing if installed package can be loaded from temporary location
** testing if installed package can be loaded from final location
** testing if installed package keeps a record of temporary installation path

install for x64

* installing *source* package 'icetea' ...
** testing if installed package can be loaded
* MD5 sums
packaged installation of 'icetea' as icetea_1.11.0.zip
* DONE (icetea)