Index of /checkResults/devel/bioc-LATEST/iSeq/raw-results/nebbiolo1

[ICO]NameLast modifiedSizeDescription

[DIR]Parent Directory  -  
[TXT]buildsrc-out.txt02-Mar-2024 01:36 824  
[   ]buildsrc-summary.dcf02-Mar-2024 01:36 408  
[TXT]checksrc-out.txt02-Mar-2024 01:36 3.5K 
[   ]checksrc-summary.dcf02-Mar-2024 01:36 401  
[TXT]install-out.txt02-Mar-2024 01:36 1.4K 
[   ]install-summary.dcf02-Mar-2024 01:36 252