![]() | Name | Last modified | Size | Description |
---|---|---|---|---|
![]() | Parent Directory | - | ||
![]() | buildsrc-out.txt | 30-Nov-2023 01:38 | 833 | |
![]() | buildsrc-summary.dcf | 30-Nov-2023 01:38 | 417 | |
![]() | checksrc-out.txt | 30-Nov-2023 01:38 | 3.6K | |
![]() | checksrc-summary.dcf | 30-Nov-2023 01:38 | 434 | |
![]() | install-out.txt | 30-Nov-2023 01:38 | 1.4K | |
![]() | install-summary.dcf | 30-Nov-2023 01:38 | 262 | |