Name | Last modified | Size | Description | |
---|---|---|---|---|
Parent Directory | - | |||
buildbin-summary.dcf | 28-Jul-2024 00:39 | 511 | ||
buildbin-out.txt | 28-Jul-2024 00:39 | 1.1K | ||
checksrc-summary.dcf | 28-Jul-2024 00:39 | 445 | ||
checksrc-out.txt | 28-Jul-2024 00:39 | 3.6K | ||
buildsrc-summary.dcf | 28-Jul-2024 00:39 | 450 | ||
buildsrc-out.txt | 28-Jul-2024 00:39 | 838 | ||
install-summary.dcf | 28-Jul-2024 00:39 | 267 | ||
install-out.txt | 28-Jul-2024 00:39 | 962 | ||