Name | Last modified | Size | Description | |
---|---|---|---|---|
Parent Directory | - | |||
install-summary.dcf | 12-Jun-2024 04:40 | 267 | ||
install-out.txt | 12-Jun-2024 04:40 | 962 | ||
checksrc-summary.dcf | 12-Jun-2024 04:40 | 445 | ||
checksrc-out.txt | 12-Jun-2024 04:40 | 3.6K | ||
buildsrc-summary.dcf | 12-Jun-2024 04:40 | 450 | ||
buildsrc-out.txt | 12-Jun-2024 04:40 | 838 | ||
buildbin-summary.dcf | 12-Jun-2024 04:40 | 512 | ||
buildbin-out.txt | 12-Jun-2024 04:40 | 1.1K | ||