![]() | Name | Last modified | Size | Description |
---|---|---|---|---|
![]() | Parent Directory | - | ||
![]() | buildbin-out.txt | 28-Sep-2023 00:37 | 1.1K | |
![]() | buildbin-summary.dcf | 28-Sep-2023 00:37 | 511 | |
![]() | buildsrc-out.txt | 28-Sep-2023 00:37 | 838 | |
![]() | buildsrc-summary.dcf | 28-Sep-2023 00:37 | 450 | |
![]() | checksrc-out.txt | 28-Sep-2023 00:37 | 3.6K | |
![]() | checksrc-summary.dcf | 28-Sep-2023 00:37 | 445 | |
![]() | install-out.txt | 28-Sep-2023 00:37 | 962 | |
![]() | install-summary.dcf | 28-Sep-2023 00:37 | 267 | |