![]() | Name | Last modified | Size | Description |
---|---|---|---|---|
![]() | Parent Directory | - | ||
![]() | buildsrc-out.txt | 28-Sep-2023 00:36 | 805 | |
![]() | buildsrc-summary.dcf | 28-Sep-2023 00:36 | 415 | |
![]() | checksrc-out.txt | 28-Sep-2023 00:36 | 3.2K | |
![]() | checksrc-summary.dcf | 28-Sep-2023 00:36 | 412 | |
![]() | install-out.txt | 28-Sep-2023 00:36 | 952 | |
![]() | install-summary.dcf | 28-Sep-2023 00:36 | 258 | |