![]() | Name | Last modified | Size | Description |
---|---|---|---|---|
![]() | Parent Directory | - | ||
![]() | buildsrc-out.txt | 30-Nov-2023 01:38 | 814 | |
![]() | buildsrc-summary.dcf | 30-Nov-2023 01:38 | 424 | |
![]() | checksrc-out.txt | 30-Nov-2023 01:38 | 3.7K | |
![]() | checksrc-summary.dcf | 30-Nov-2023 01:38 | 445 | |
![]() | install-out.txt | 30-Nov-2023 01:38 | 970 | |
![]() | install-summary.dcf | 30-Nov-2023 01:38 | 267 | |