Name | Last modified | Size | Description | |
---|---|---|---|---|
Parent Directory | - | |||
install-summary.dcf | 29-Jun-2024 00:40 | 264 | ||
install-out.txt | 29-Jun-2024 00:40 | 2.5K | ||
checksrc-summary.dcf | 29-Jun-2024 00:40 | 435 | ||
checksrc-out.txt | 29-Jun-2024 00:40 | 4.3K | ||
buildsrc-summary.dcf | 29-Jun-2024 00:40 | 421 | ||
buildsrc-out.txt | 29-Jun-2024 00:40 | 901 | ||
buildbin-summary.dcf | 29-Jun-2024 00:40 | 517 | ||
buildbin-out.txt | 29-Jun-2024 00:40 | 6.0K | ||