Back to Multiple platform build/check report for BioC 3.19: simplified long | |
This page was generated on 2024-03-28 11:36:35 -0400 (Thu, 28 Mar 2024).
Hostname | OS | Arch (*) | R version | Installed pkgs |
nebbiolo1 | Linux (Ubuntu 22.04.3 LTS) | x86_64 | R Under development (unstable) (2024-03-18 r86148) -- "Unsuffered Consequences"
| 4708 |
palomino3 | Windows Server 2022 Datacenter | x64 | R Under development (unstable) (2024-03-16 r86144 ucrt) -- "Unsuffered Consequences"
| 4446 |
lconway | macOS 12.7.1 Monterey | x86_64 | R Under development (unstable) (2024-03-18 r86148) -- "Unsuffered Consequences"
| 4471 |
kunpeng2 | Linux (openEuler 22.03 LTS-SP1) | aarch64 | R Under development (unstable) (2024-03-19 r86153) -- "Unsuffered Consequences"
| 4426 |
Click on any hostname to see more info about the system (e.g. compilers) (*) as reported by 'uname -p', except on Windows and Mac OS X |
| iChip 1.57.0 (landing page) Qianxing Mo
Snapshot Date: 2024-03-27 14:00:18 -0400 (Wed, 27 Mar 2024) |
git_url: https://git.bioconductor.org/packages/iChip |
git_branch: devel |
git_last_commit: 49c678c |
git_last_commit_date: 2023-10-24 09:43:17 -0400 (Tue, 24 Oct 2023) |
| nebbiolo1 | Linux (Ubuntu 22.04.3 LTS) / x86_64 | OK | OK | WARNINGS | | | |
| palomino3 | Windows Server 2022 Datacenter / x64 | OK | OK | WARNINGS | OK | | |
| lconway | macOS 12.7.1 Monterey / x86_64 | OK | OK | WARNINGS | OK | | |
| kunpeng2 | Linux (openEuler 22.03 LTS-SP1) / aarch64 | OK | OK | WARNINGS | | | |
INSTALL results for iChip on nebbiolo1
To the developers/maintainers of the iChip package:
- Allow up to 24 hours (and sometimes 48 hours) for your latest push to git@git.bioconductor.org:packages/iChip.git to reflect on this report. See Troubleshooting Build Report for more information.
- Use the following Renviron settings to reproduce errors and warnings.
- If 'R CMD check' started to fail recently on the Linux builder(s) over a missing dependency, add the missing dependency to 'Suggests:' in your DESCRIPTION file. See Renviron.bioc for more information.
|
raw results
Summary
Command output