Back to Multiple platform build/check report for BioC 3.19:   simplified   long
ABCDEFGH[I]JKLMNOPQRSTUVWXYZ

This page was generated on 2024-02-22 12:48:39 -0500 (Thu, 22 Feb 2024).

HostnameOSArch (*)R versionInstalled pkgs
nebbiolo1Linux (Ubuntu 22.04.3 LTS)x86_64R Under development (unstable) (2024-01-16 r85808) -- "Unsuffered Consequences" 4657
palomino3Windows Server 2022 Datacenterx64R Under development (unstable) (2024-01-14 r85805 ucrt) -- "Unsuffered Consequences" 4397
Click on any hostname to see more info about the system (e.g. compilers)      (*) as reported by 'uname -p', except on Windows and Mac OS X

Package 981/2244HostnameOS / ArchINSTALLBUILDCHECKBUILD BIN
iCARE 1.31.0  (landing page)
Bill Wheeler
Snapshot Date: 2024-02-21 14:10:10 -0500 (Wed, 21 Feb 2024)
git_url: https://git.bioconductor.org/packages/iCARE
git_branch: devel
git_last_commit: f08bf40
git_last_commit_date: 2023-10-24 10:47:11 -0500 (Tue, 24 Oct 2023)
nebbiolo1Linux (Ubuntu 22.04.3 LTS) / x86_64  OK    OK    WARNINGS  UNNEEDED, same version is already published
palomino3Windows Server 2022 Datacenter / x64  OK    OK    WARNINGS    OK  UNNEEDED, same version is already published

BUILD results for iCARE on palomino3


To the developers/maintainers of the iCARE package:
- Allow up to 24 hours (and sometimes 48 hours) for your latest push to git@git.bioconductor.org:packages/iCARE.git to reflect on this report. See Troubleshooting Build Report for more information.
- Use the following Renviron settings to reproduce errors and warnings.
- If 'R CMD check' started to fail recently on the Linux builder(s) over a missing dependency, add the missing dependency to 'Suggests:' in your DESCRIPTION file. See Renviron.bioc for more information.

raw results


Summary

Package: iCARE
Version: 1.31.0
Command: chmod a+r iCARE -R && F:\biocbuild\bbs-3.19-bioc\R\bin\R.exe CMD build --keep-empty-dirs --no-resave-data iCARE
StartedAt: 2024-02-21 20:11:31 -0500 (Wed, 21 Feb 2024)
EndedAt: 2024-02-21 20:15:06 -0500 (Wed, 21 Feb 2024)
EllapsedTime: 215.4 seconds
RetCode: 0
Status:   OK  
PackageFile: iCARE_1.31.0.tar.gz
PackageFileSize: 1.251 MiB

Command output

##############################################################################
##############################################################################
###
### Running command:
###
###   chmod a+r iCARE -R && F:\biocbuild\bbs-3.19-bioc\R\bin\R.exe CMD build --keep-empty-dirs --no-resave-data iCARE
###
##############################################################################
##############################################################################


* checking for file 'iCARE/DESCRIPTION' ... OK
* preparing 'iCARE':
* checking DESCRIPTION meta-information ... OK
* cleaning src
* installing the package to build vignettes
* creating vignettes ... OK
* cleaning src
* checking for LF line-endings in source and make files and shell scripts
* checking for empty or unneeded directories
* building 'iCARE_1.31.0.tar.gz'