Back to Multiple platform build/check report for BioC 3.19:   simplified   long
ABCDEFGH[I]JKLMNOPQRSTUVWXYZ

This page was generated on 2024-02-22 12:48:39 -0500 (Thu, 22 Feb 2024).

HostnameOSArch (*)R versionInstalled pkgs
nebbiolo1Linux (Ubuntu 22.04.3 LTS)x86_64R Under development (unstable) (2024-01-16 r85808) -- "Unsuffered Consequences" 4657
palomino3Windows Server 2022 Datacenterx64R Under development (unstable) (2024-01-14 r85805 ucrt) -- "Unsuffered Consequences" 4397
Click on any hostname to see more info about the system (e.g. compilers)      (*) as reported by 'uname -p', except on Windows and Mac OS X

Package 981/2244HostnameOS / ArchINSTALLBUILDCHECKBUILD BIN
iCARE 1.31.0  (landing page)
Bill Wheeler
Snapshot Date: 2024-02-21 14:10:10 -0500 (Wed, 21 Feb 2024)
git_url: https://git.bioconductor.org/packages/iCARE
git_branch: devel
git_last_commit: f08bf40
git_last_commit_date: 2023-10-24 10:47:11 -0500 (Tue, 24 Oct 2023)
nebbiolo1Linux (Ubuntu 22.04.3 LTS) / x86_64  OK    OK    WARNINGS  UNNEEDED, same version is already published
palomino3Windows Server 2022 Datacenter / x64  OK    OK    WARNINGS    OK  UNNEEDED, same version is already published

BUILD BIN results for iCARE on palomino3


To the developers/maintainers of the iCARE package:
- Allow up to 24 hours (and sometimes 48 hours) for your latest push to git@git.bioconductor.org:packages/iCARE.git to reflect on this report. See Troubleshooting Build Report for more information.
- Use the following Renviron settings to reproduce errors and warnings.
- If 'R CMD check' started to fail recently on the Linux builder(s) over a missing dependency, add the missing dependency to 'Suggests:' in your DESCRIPTION file. See Renviron.bioc for more information.

raw results


Summary

Package: iCARE
Version: 1.31.0
Command: rm -rf iCARE.buildbin-libdir && mkdir iCARE.buildbin-libdir && F:\biocbuild\bbs-3.19-bioc\R\bin\R.exe CMD INSTALL --build --library=iCARE.buildbin-libdir iCARE_1.31.0.tar.gz
StartedAt: 2024-02-22 10:19:03 -0500 (Thu, 22 Feb 2024)
EndedAt: 2024-02-22 10:19:25 -0500 (Thu, 22 Feb 2024)
EllapsedTime: 22.1 seconds
RetCode: 0
Status:   OK  
PackageFile: iCARE_1.31.0.zip
PackageFileSize: 1.346 MiB

Command output

##############################################################################
##############################################################################
###
### Running command:
###
###   rm -rf iCARE.buildbin-libdir && mkdir iCARE.buildbin-libdir && F:\biocbuild\bbs-3.19-bioc\R\bin\R.exe CMD INSTALL --build --library=iCARE.buildbin-libdir iCARE_1.31.0.tar.gz
###
##############################################################################
##############################################################################


* installing *source* package 'iCARE' ...
** using staged installation
** libs
using C compiler: 'gcc.exe (GCC) 12.3.0'
gcc  -I"F:/biocbuild/bbs-3.19-bioc/R/include" -DNDEBUG     -I"C:/rtools43/x86_64-w64-mingw32.static.posix/include"     -O2 -Wall  -mfpmath=sse -msse2 -mstackrealign  -c source.c -o source.o
gcc -shared -s -static-libgcc -o iCARE.dll tmp.def source.o -LC:/rtools43/x86_64-w64-mingw32.static.posix/lib/x64 -LC:/rtools43/x86_64-w64-mingw32.static.posix/lib -LF:/biocbuild/bbs-3.19-bioc/R/bin/x64 -lR
installing to F:/biocbuild/bbs-3.19-bioc/meat/iCARE.buildbin-libdir/00LOCK-iCARE/00new/iCARE/libs/x64
** R
** data
*** moving datasets to lazyload DB
** inst
** byte-compile and prepare package for lazy loading
** help
*** installing help indices
** building package indices
** installing vignettes
** testing if installed package can be loaded from temporary location
** testing if installed package can be loaded from final location
** testing if installed package keeps a record of temporary installation path
* MD5 sums
packaged installation of 'iCARE' as iCARE_1.31.0.zip
* DONE (iCARE)