Index of /checkResults/devel/bioc-LATEST/hypergraph/raw-results
Name
Last modified
Size
Description
Parent Directory
-
merida1/
07-May-2024 00:37
-
palomino4/
07-May-2024 00:36
-
nebbiolo2/
07-May-2024 00:36
-
info.dcf
07-May-2024 00:35
296