Name | Last modified | Size | Description | |
---|---|---|---|---|
Parent Directory | - | |||
buildbin-out.txt | 18-May-2024 00:37 | 1.0K | ||
buildbin-summary.dcf | 18-May-2024 00:37 | 498 | ||
buildsrc-out.txt | 18-May-2024 00:37 | 865 | ||
buildsrc-summary.dcf | 18-May-2024 00:37 | 442 | ||
checksrc-out.txt | 18-May-2024 00:37 | 7.8K | ||
checksrc-summary.dcf | 18-May-2024 00:37 | 443 | ||
install-out.txt | 18-May-2024 00:37 | 965 | ||
install-summary.dcf | 18-May-2024 00:37 | 263 | ||