Index of /checkResults/devel/bioc-LATEST/hummingbird/raw-results/palomino4

[ICO]NameLast modifiedSizeDescription

[DIR]Parent Directory  -  
[TXT]buildbin-out.txt01-Jul-2022 00:06 2.6K 
[   ]buildbin-summary.dcf01-Jul-2022 00:06 552  
[TXT]buildsrc-out.txt01-Jul-2022 00:06 890  
[   ]buildsrc-summary.dcf01-Jul-2022 00:06 466  
[TXT]checksrc-out.txt01-Jul-2022 00:06 3.9K 
[   ]checksrc-summary.dcf01-Jul-2022 00:06 464  
[TXT]install-out.txt01-Jul-2022 00:06 3.3K 
[   ]install-summary.dcf01-Jul-2022 00:06 658