Index of /checkResults/devel/bioc-LATEST/hummingbird/raw-results/nebbiolo2

[ICO]NameLast modifiedSizeDescription

[DIR]Parent Directory  -  
[   ]install-summary.dcf17-Aug-2022 00:05 266  
[TXT]install-out.txt17-Aug-2022 00:05 2.1K 
[   ]checksrc-summary.dcf17-Aug-2022 00:05 438  
[TXT]checksrc-out.txt17-Aug-2022 00:05 3.3K 
[   ]buildsrc-summary.dcf17-Aug-2022 00:05 427  
[TXT]buildsrc-out.txt17-Aug-2022 00:05 851