Back to Multiple platform build/check report for BioC 3.17: simplified long |
|
This page was generated on 2023-03-24 11:05:18 -0400 (Fri, 24 Mar 2023).
Hostname | OS | Arch (*) | R version | Installed pkgs |
---|---|---|---|---|
nebbiolo1 | Linux (Ubuntu 22.04.1 LTS) | x86_64 | R Under development (unstable) (2023-03-16 r83996) -- "Unsuffered Consequences" | 4546 |
palomino3 | Windows Server 2022 Datacenter | x64 | R Under development (unstable) (2023-03-15 r83984 ucrt) -- "Unsuffered Consequences" | 4307 |
merida1 | macOS 10.14.6 Mojave | x86_64 | R Under development (unstable) (2023-03-16 r83985) -- "Unsuffered Consequences" | 4299 |
Click on any hostname to see more info about the system (e.g. compilers) (*) as reported by 'uname -p', except on Windows and Mac OS X |
To the developers/maintainers of the hipathia package: - Please allow up to 24 hours (and sometimes 48 hours) for your latest push to git@git.bioconductor.org:packages/hipathia.git to reflect on this report. See How and When does the builder pull? When will my changes propagate? for more information. - Make sure to use the following settings in order to reproduce any error or warning you see on this page. |
Package 924/2195 | Hostname | OS / Arch | INSTALL | BUILD | CHECK | BUILD BIN | ||||||||
hipathia 2.99.3 (landing page) Marta R. Hidalgo
| nebbiolo1 | Linux (Ubuntu 22.04.1 LTS) / x86_64 | OK | OK | OK | ![]() | ||||||||
palomino3 | Windows Server 2022 Datacenter / x64 | OK | OK | OK | OK | ![]() | ||||||||
merida1 | macOS 10.14.6 Mojave / x86_64 | OK | OK | OK | OK | ![]() | ||||||||
Package: hipathia |
Version: 2.99.3 |
Command: /home/biocbuild/bbs-3.17-bioc/R/bin/R CMD check --install=check:hipathia.install-out.txt --library=/home/biocbuild/bbs-3.17-bioc/R/site-library --timings hipathia_2.99.3.tar.gz |
StartedAt: 2023-03-23 21:07:55 -0400 (Thu, 23 Mar 2023) |
EndedAt: 2023-03-23 21:26:33 -0400 (Thu, 23 Mar 2023) |
EllapsedTime: 1117.7 seconds |
RetCode: 0 |
Status: OK |
CheckDir: hipathia.Rcheck |
Warnings: 0 |
############################################################################## ############################################################################## ### ### Running command: ### ### /home/biocbuild/bbs-3.17-bioc/R/bin/R CMD check --install=check:hipathia.install-out.txt --library=/home/biocbuild/bbs-3.17-bioc/R/site-library --timings hipathia_2.99.3.tar.gz ### ############################################################################## ############################################################################## * using log directory ‘/home/biocbuild/bbs-3.17-bioc/meat/hipathia.Rcheck’ * using R Under development (unstable) (2023-03-16 r83996) * using platform: x86_64-pc-linux-gnu (64-bit) * R was compiled by gcc (Ubuntu 11.3.0-1ubuntu1~22.04) 11.3.0 GNU Fortran (Ubuntu 11.3.0-1ubuntu1~22.04) 11.3.0 * running under: Ubuntu 22.04.2 LTS * using session charset: UTF-8 * checking for file ‘hipathia/DESCRIPTION’ ... OK * this is package ‘hipathia’ version ‘2.99.3’ * package encoding: UTF-8 * checking package namespace information ... OK * checking package dependencies ... OK * checking if this is a source package ... OK * checking if there is a namespace ... OK * checking for hidden files and directories ... OK * checking for portable file names ... OK * checking for sufficient/correct file permissions ... OK * checking whether package ‘hipathia’ can be installed ... OK * checking installed package size ... NOTE installed size is 7.1Mb sub-directories of 1Mb or more: data 4.1Mb extdata 2.5Mb * checking package directory ... OK * checking ‘build’ directory ... OK * checking DESCRIPTION meta-information ... OK * checking top-level files ... OK * checking for left-over files ... OK * checking index information ... OK * checking package subdirectories ... OK * checking R files for non-ASCII characters ... OK * checking R files for syntax errors ... OK * checking whether the package can be loaded ... OK * checking whether the package can be loaded with stated dependencies ... OK * checking whether the package can be unloaded cleanly ... OK * checking whether the namespace can be loaded with stated dependencies ... OK * checking whether the namespace can be unloaded cleanly ... OK * checking loading without being on the library search path ... OK * checking dependencies in R code ... OK * checking S3 generic/method consistency ... OK * checking replacement functions ... OK * checking foreign function calls ... OK * checking R code for possible problems ... NOTE DAreport: no visible binding for global variable ‘ID’ DAreport: no visible binding for global variable ‘FDRp.value’ DAtop : <anonymous>: no visible binding for global variable ‘FDRp.value’ DAtop : <anonymous>: no visible binding for global variable ‘statistic’ DAtop : <anonymous>: no visible binding for global variable ‘p.value’ DAtop : <anonymous>: no visible binding for global variable ‘name’ DAtop : <anonymous>: no visible binding for global variable ‘logPV’ DAtop : <anonymous>: no visible binding for global variable ‘feature’ DAtop: no visible binding for global variable ‘name’ DAtop: no visible binding for global variable ‘logPV’ DAtop: no visible binding for global variable ‘direction’ get_edges_df: no visible binding for global variable ‘from’ get_edges_df: no visible binding for global variable ‘to’ nsig_plot: no visible binding for global variable ‘total’ nsig_plot: no visible binding for global variable ‘UPs’ nsig_plot: no visible binding for global variable ‘DOWNs’ nsig_plot: no visible binding for global variable ‘feature’ nsig_plot: no visible binding for global variable ‘UP’ nsig_plot: no visible binding for global variable ‘DOWN’ nsig_plot: no visible binding for global variable ‘Not’ nsig_plot: no visible binding for global variable ‘value’ nsig_plot: no visible binding for global variable ‘variable’ prepare_DAedges: no visible binding for global variable ‘to’ prepare_DAedges: no visible binding for global variable ‘functional’ prepare_DAedges: no visible binding for global variable ‘status’ prepare_DAedges: no visible binding for global variable ‘type’ prepare_DAnodes : <anonymous>: no visible binding for global variable ‘ID’ prepare_DAnodes : <anonymous>: no visible binding for global variable ‘FDRp.value’ prepare_DAnodes : <anonymous>: no visible binding for global variable ‘statistic’ prepare_DAnodes : <anonymous>: no visible binding for global variable ‘p.value’ prepare_edges: no visible binding for global variable ‘to’ prepare_edges: no visible binding for global variable ‘functional’ summary_plot: no visible binding for global variable ‘total’ summary_plot: no visible binding for global variable ‘UPs’ summary_plot: no visible binding for global variable ‘DOWNs’ summary_plot: no visible binding for global variable ‘name’ summary_plot: no visible binding for global variable ‘UP’ summary_plot: no visible binding for global variable ‘DOWN’ summary_plot: no visible binding for global variable ‘Not’ summary_plot: no visible binding for global variable ‘value’ summary_plot: no visible binding for global variable ‘variable’ summary_plot: no visible binding for global variable ‘UP.nodes’ summary_plot: no visible binding for global variable ‘DOWN.nodes’ summary_plot: no visible binding for global variable ‘nodes’ summary_plot: no visible binding for global variable ‘ratio.sigs’ summary_plot: no visible binding for global variable ‘ratio.UPs’ summary_plot: no visible binding for global variable ‘ratio.DOWNs’ Undefined global functions or variables: DOWN DOWN.nodes DOWNs FDRp.value ID Not UP UP.nodes UPs direction feature from functional logPV name nodes p.value ratio.DOWNs ratio.UPs ratio.sigs statistic status to total type value variable * checking Rd files ... OK * checking Rd metadata ... OK * checking Rd cross-references ... OK * checking for missing documentation entries ... OK * checking for code/documentation mismatches ... OK * checking Rd \usage sections ... OK * checking Rd contents ... OK * checking for unstated dependencies in examples ... OK * checking contents of ‘data’ directory ... OK * checking data for non-ASCII characters ... OK * checking LazyData ... OK * checking data for ASCII and uncompressed saves ... OK * checking files in ‘vignettes’ ... OK * checking examples ... OK Examples with CPU (user + system) or elapsed time > 5s user system elapsed quantify_terms 24.789 1.840 28.043 get_pathways_annotations 23.875 1.615 26.281 create_report 21.050 1.039 22.576 node_color_per_de 19.793 0.716 20.889 hipathia 18.861 0.682 19.945 get_node_names 18.375 0.568 19.252 node_color 18.021 0.592 18.939 load_pathways 17.904 0.680 18.965 normalize_data 16.956 1.407 18.916 get_pathways_list 17.308 0.692 18.321 visualize_report 17.111 0.588 18.592 get_path_names 17.022 0.588 18.154 get_pathways_summary 16.664 0.780 17.769 save_results 16.140 0.580 17.023 pathway_comparison_plot 16.070 0.632 17.069 normalize_paths 15.366 0.663 16.356 translate_data 14.540 0.460 15.384 get_go_names 4.335 0.492 5.269 * checking for unstated dependencies in ‘tests’ ... OK * checking tests ... Running ‘testthat.R’ OK * checking for unstated dependencies in vignettes ... OK * checking package vignettes in ‘inst/doc’ ... OK * checking running R code from vignettes ... ‘hipathia-vignette.Rmd’ using ‘UTF-8’... OK NONE * checking re-building of vignette outputs ... OK * checking PDF version of manual ... OK * DONE Status: 2 NOTEs See ‘/home/biocbuild/bbs-3.17-bioc/meat/hipathia.Rcheck/00check.log’ for details.
hipathia.Rcheck/00install.out
############################################################################## ############################################################################## ### ### Running command: ### ### /home/biocbuild/bbs-3.17-bioc/R/bin/R CMD INSTALL hipathia ### ############################################################################## ############################################################################## * installing to library ‘/home/biocbuild/bbs-3.17-bioc/R/site-library’ * installing *source* package ‘hipathia’ ... ** using staged installation ** R ** data *** moving datasets to lazyload DB ** inst ** byte-compile and prepare package for lazy loading ** help *** installing help indices ** building package indices ** installing vignettes ** testing if installed package can be loaded from temporary location ** testing if installed package can be loaded from final location ** testing if installed package keeps a record of temporary installation path * DONE (hipathia)
hipathia.Rcheck/tests/testthat.Rout
R Under development (unstable) (2023-03-16 r83996) -- "Unsuffered Consequences" Copyright (C) 2023 The R Foundation for Statistical Computing Platform: x86_64-pc-linux-gnu (64-bit) R is free software and comes with ABSOLUTELY NO WARRANTY. You are welcome to redistribute it under certain conditions. Type 'license()' or 'licence()' for distribution details. R is a collaborative project with many contributors. Type 'contributors()' for more information and 'citation()' on how to cite R or R packages in publications. Type 'demo()' for some demos, 'help()' for on-line help, or 'help.start()' for an HTML browser interface to help. Type 'q()' to quit R. > library(testthat) > library(hipathia) Loading required package: igraph Attaching package: 'igraph' The following object is masked from 'package:testthat': compare The following objects are masked from 'package:stats': decompose, spectrum The following object is masked from 'package:base': union Loading required package: AnnotationHub Loading required package: BiocGenerics Attaching package: 'BiocGenerics' The following objects are masked from 'package:igraph': normalize, path, union The following objects are masked from 'package:stats': IQR, mad, sd, var, xtabs The following objects are masked from 'package:base': Filter, Find, Map, Position, Reduce, anyDuplicated, aperm, append, as.data.frame, basename, cbind, colnames, dirname, do.call, duplicated, eval, evalq, get, grep, grepl, intersect, is.unsorted, lapply, mapply, match, mget, order, paste, pmax, pmax.int, pmin, pmin.int, rank, rbind, rownames, sapply, setdiff, sort, table, tapply, union, unique, unsplit, which.max, which.min Loading required package: BiocFileCache Loading required package: dbplyr Loading required package: MultiAssayExperiment Loading required package: SummarizedExperiment Loading required package: MatrixGenerics Loading required package: matrixStats Attaching package: 'MatrixGenerics' The following objects are masked from 'package:matrixStats': colAlls, colAnyNAs, colAnys, colAvgsPerRowSet, colCollapse, colCounts, colCummaxs, colCummins, colCumprods, colCumsums, colDiffs, colIQRDiffs, colIQRs, colLogSumExps, colMadDiffs, colMads, colMaxs, colMeans2, colMedians, colMins, colOrderStats, colProds, colQuantiles, colRanges, colRanks, colSdDiffs, colSds, colSums2, colTabulates, colVarDiffs, colVars, colWeightedMads, colWeightedMeans, colWeightedMedians, colWeightedSds, colWeightedVars, rowAlls, rowAnyNAs, rowAnys, rowAvgsPerColSet, rowCollapse, rowCounts, rowCummaxs, rowCummins, rowCumprods, rowCumsums, rowDiffs, rowIQRDiffs, rowIQRs, rowLogSumExps, rowMadDiffs, rowMads, rowMaxs, rowMeans2, rowMedians, rowMins, rowOrderStats, rowProds, rowQuantiles, rowRanges, rowRanks, rowSdDiffs, rowSds, rowSums2, rowTabulates, rowVarDiffs, rowVars, rowWeightedMads, rowWeightedMeans, rowWeightedMedians, rowWeightedSds, rowWeightedVars Loading required package: GenomicRanges Loading required package: stats4 Loading required package: S4Vectors Attaching package: 'S4Vectors' The following objects are masked from 'package:base': I, expand.grid, unname Loading required package: IRanges Loading required package: GenomeInfoDb Loading required package: Biobase Welcome to Bioconductor Vignettes contain introductory material; view with 'browseVignettes()'. To cite Bioconductor, see 'citation("Biobase")', and for packages 'citation("pkgname")'. Attaching package: 'Biobase' The following object is masked from 'package:MatrixGenerics': rowMedians The following objects are masked from 'package:matrixStats': anyMissing, rowMedians The following object is masked from 'package:AnnotationHub': cache > > test_check("hipathia") Computing pathway... hsa03320 - PPAR signaling pathway hsa04012 - ErbB signaling pathway Computing pathway... hsa03320 - PPAR signaling pathway hsa04012 - ErbB signaling pathway translated ids = 3184 (1) untranslated ids = 3 (0.00094) multihit ids = 0 (0) [ FAIL 0 | WARN 0 | SKIP 0 | PASS 119 ] > > proc.time() user system elapsed 234.653 12.597 261.624
hipathia.Rcheck/hipathia-Ex.timings
name | user | system | elapsed | |
DAcomp | 1.629 | 0.047 | 1.677 | |
DAoverview | 0.354 | 0.000 | 0.353 | |
DAreport | 0.417 | 0.020 | 0.449 | |
DAsummary | 0.755 | 0.068 | 0.823 | |
DAtop | 0.516 | 0.012 | 0.527 | |
create_report | 21.050 | 1.039 | 22.576 | |
define_colors | 0.000 | 0.000 | 0.001 | |
do_pca | 0.038 | 0.000 | 0.038 | |
do_wilcoxon | 0.061 | 0.007 | 0.067 | |
get_go_names | 4.335 | 0.492 | 5.269 | |
get_node_names | 18.375 | 0.568 | 19.252 | |
get_nodes_data | 0.000 | 0.004 | 0.004 | |
get_path_names | 17.022 | 0.588 | 18.154 | |
get_paths_data | 0.000 | 0.003 | 0.004 | |
get_pathways_annotations | 23.875 | 1.615 | 26.281 | |
get_pathways_list | 17.308 | 0.692 | 18.321 | |
get_pathways_summary | 16.664 | 0.780 | 17.769 | |
heatmap_plot | 0.337 | 0.004 | 0.340 | |
hhead | 0.000 | 0.001 | 0.002 | |
hipathia | 18.861 | 0.682 | 19.945 | |
load_pathways | 17.904 | 0.680 | 18.965 | |
multiple_pca_plot | 0.029 | 0.000 | 0.029 | |
node_color | 18.021 | 0.592 | 18.939 | |
node_color_per_de | 19.793 | 0.716 | 20.889 | |
normalize_data | 16.956 | 1.407 | 18.916 | |
normalize_paths | 15.366 | 0.663 | 16.356 | |
paths_to_go_ancestor | 1.278 | 0.100 | 1.378 | |
pathway_comparison_plot | 16.070 | 0.632 | 17.069 | |
pca_plot | 0.013 | 0.004 | 0.017 | |
plotVG | 1.057 | 0.040 | 1.097 | |
quantify_terms | 24.789 | 1.840 | 28.043 | |
save_results | 16.140 | 0.580 | 17.023 | |
top_pathways | 0.006 | 0.004 | 0.010 | |
translate_data | 14.540 | 0.460 | 15.384 | |
visualize_report | 17.111 | 0.588 | 18.592 | |