Name | Last modified | Size | Description | |
---|---|---|---|---|
Parent Directory | - | |||
install-summary.dcf | 28-Jun-2024 00:37 | 260 | ||
install-out.txt | 28-Jun-2024 00:37 | 1.0K | ||
checksrc-summary.dcf | 28-Jun-2024 00:37 | 424 | ||
checksrc-out.txt | 28-Jun-2024 00:37 | 4.5K | ||
buildsrc-summary.dcf | 28-Jun-2024 00:37 | 427 | ||
buildsrc-out.txt | 28-Jun-2024 00:37 | 834 | ||