Back to Multiple platform build/check report for BioC 3.15
ABCDEFG[H]IJKLMNOPQRSTUVWXYZ

This page was generated on 2022-01-18 11:07:29 -0500 (Tue, 18 Jan 2022).

HostnameOSArch (*)R versionInstalled pkgs
nebbiolo1Linux (Ubuntu 20.04.4 LTS)x86_64R Under development (unstable) (2022-01-05 r81451) -- "Unsuffered Consequences" 4161
riesling1Windows Server 2019 Standardx64R Under development (unstable) (2021-11-21 r81221) -- "Unsuffered Consequences" 4056
palomino3Windows Server 2022 Datacenterx64R Under development (unstable) (2021-12-21 r81400 ucrt) -- "Unsuffered Consequences" 3998
merida1macOS 10.14.6 Mojavex86_64R Under development (unstable) (2022-01-05 r81451) -- "Unsuffered Consequences" 4115
Click on any hostname to see more info about the system (e.g. compilers)      (*) as reported by 'uname -p', except on Windows and Mac OS X

BUILD BIN results for hiAnnotator on riesling1


To the developers/maintainers of the hiAnnotator package:
- Please allow up to 24 hours (and sometimes 48 hours) for your latest push to git@git.bioconductor.org:packages/hiAnnotator.git to
reflect on this report. See How and When does the builder pull? When will my changes propagate? here for more information.
- Make sure to use the following settings in order to reproduce any error or warning you see on this page.

raw results

Package 862/2074HostnameOS / ArchINSTALLBUILDCHECKBUILD BIN
hiAnnotator 1.29.0  (landing page)
Nirav V Malani
Snapshot Date: 2022-01-17 13:55:17 -0500 (Mon, 17 Jan 2022)
git_url: https://git.bioconductor.org/packages/hiAnnotator
git_branch: master
git_last_commit: 27fcdd0
git_last_commit_date: 2021-10-26 12:13:40 -0500 (Tue, 26 Oct 2021)
nebbiolo1Linux (Ubuntu 20.04.4 LTS) / x86_64  OK    OK    OK  UNNEEDED, same version is already published
riesling1Windows Server 2019 Standard / x64  OK    OK    OK    OK  
palomino3Windows Server 2022 Datacenter / x64  OK    OK    OK    OK  NO, package depends on 'GenomicRanges' which is not available
merida1macOS 10.14.6 Mojave / x86_64  OK    OK    OK    OK  UNNEEDED, same version is already published

Summary

Package: hiAnnotator
Version: 1.29.0
Command: rm -rf hiAnnotator.buildbin-libdir && mkdir hiAnnotator.buildbin-libdir && D:\biocbuild\bbs-3.15-bioc\R\bin\R.exe CMD INSTALL --build --library=hiAnnotator.buildbin-libdir hiAnnotator_1.29.0.tar.gz
StartedAt: 2022-01-17 21:02:28 -0500 (Mon, 17 Jan 2022)
EndedAt: 2022-01-17 21:03:24 -0500 (Mon, 17 Jan 2022)
EllapsedTime: 56.3 seconds
RetCode: 0
Status:   OK  
PackageFile: hiAnnotator_1.29.0.zip
PackageFileSize: 800.7 KiB

Command output

##############################################################################
##############################################################################
###
### Running command:
###
###   rm -rf hiAnnotator.buildbin-libdir && mkdir hiAnnotator.buildbin-libdir && D:\biocbuild\bbs-3.15-bioc\R\bin\R.exe CMD INSTALL --build --library=hiAnnotator.buildbin-libdir hiAnnotator_1.29.0.tar.gz
###
##############################################################################
##############################################################################


* installing *source* package 'hiAnnotator' ...
** using staged installation
** R
** data
** inst
** byte-compile and prepare package for lazy loading
** help
*** installing help indices
  converting help for package 'hiAnnotator'
    finding HTML links ... done
    cleanColname                            html  
    doAnnotation                            html  
    dot-checkArgsSetDefaults                html  
    dot-mergeAndReturn                      html  
    genes                                   html  
    get2NearestFeature                      html  
    getFeatureCounts                        html  
    getFeatureCountsBig                     html  
    getLowestDists                          html  
    getNearestFeature                       html  
    getRelevantCol                          html  
    getSitesInFeature                       html  
    getUCSCtable                            html  
    finding level-2 HTML links ... done

    getWindowLabel                          html  
    hiAnnotator                             html  
    makeChunks                              html  
    makeGRanges                             html  
    makeUCSCsession                         html  
    plotdisFeature                          html  
    sites                                   html  
    sites.ctrl                              html  
** building package indices
** installing vignettes
** testing if installed package can be loaded from temporary location
** testing if installed package can be loaded from final location
** testing if installed package keeps a record of temporary installation path
* MD5 sums
packaged installation of 'hiAnnotator' as hiAnnotator_1.29.0.zip
* DONE (hiAnnotator)