Name | Last modified | Size | Description | |
---|---|---|---|---|
Parent Directory | - | |||
install-out.txt | 01-Jun-2024 08:30 | 1.1K | ||
install-summary.dcf | 01-Jun-2024 08:30 | 265 | ||
buildsrc-out.txt | 01-Jun-2024 08:30 | 902 | ||
buildsrc-summary.dcf | 01-Jun-2024 08:30 | 447 | ||
checksrc-out.txt | 01-Jun-2024 08:30 | 3.6K | ||
checksrc-summary.dcf | 01-Jun-2024 08:30 | 441 | ||
buildbin-out.txt | 01-Jun-2024 08:30 | 1.2K | ||
buildbin-summary.dcf | 01-Jun-2024 08:30 | 506 | ||