Back to Multiple platform build/check report for BioC 3.15
ABCDEFG[H]IJKLMNOPQRSTUVWXYZ

This page was generated on 2022-01-24 11:07:31 -0500 (Mon, 24 Jan 2022).

HostnameOSArch (*)R versionInstalled pkgs
nebbiolo1Linux (Ubuntu 20.04.4 LTS)x86_64R Under development (unstable) (2022-01-05 r81451) -- "Unsuffered Consequences" 4163
riesling1Windows Server 2019 Standardx64R Under development (unstable) (2021-11-21 r81221) -- "Unsuffered Consequences" 4058
palomino3Windows Server 2022 Datacenterx64R Under development (unstable) (2021-12-21 r81400 ucrt) -- "Unsuffered Consequences" 4000
merida1macOS 10.14.6 Mojavex86_64R Under development (unstable) (2022-01-05 r81451) -- "Unsuffered Consequences" 4117
Click on any hostname to see more info about the system (e.g. compilers)      (*) as reported by 'uname -p', except on Windows and Mac OS X

BUILD BIN results for heatmaps on riesling1


To the developers/maintainers of the heatmaps package:
- Please allow up to 24 hours (and sometimes 48 hours) for your latest push to git@git.bioconductor.org:packages/heatmaps.git to
reflect on this report. See How and When does the builder pull? When will my changes propagate? here for more information.
- Make sure to use the following settings in order to reproduce any error or warning you see on this page.

raw results

Package 854/2075HostnameOS / ArchINSTALLBUILDCHECKBUILD BIN
heatmaps 1.19.1  (landing page)
Malcolm Perry
Snapshot Date: 2022-01-23 13:55:15 -0500 (Sun, 23 Jan 2022)
git_url: https://git.bioconductor.org/packages/heatmaps
git_branch: master
git_last_commit: 1fa57b6
git_last_commit_date: 2021-11-21 00:17:56 -0500 (Sun, 21 Nov 2021)
nebbiolo1Linux (Ubuntu 20.04.4 LTS) / x86_64  OK    OK    OK  UNNEEDED, same version is already published
riesling1Windows Server 2019 Standard / x64  OK    OK    OK    OK  
palomino3Windows Server 2022 Datacenter / x64  OK    OK    OK    OK  NO, package depends on 'Biostrings' which is not available
merida1macOS 10.14.6 Mojave / x86_64  OK    OK    OK    OK  UNNEEDED, same version is already published

Summary

Package: heatmaps
Version: 1.19.1
Command: rm -rf heatmaps.buildbin-libdir && mkdir heatmaps.buildbin-libdir && D:\biocbuild\bbs-3.15-bioc\R\bin\R.exe CMD INSTALL --build --library=heatmaps.buildbin-libdir heatmaps_1.19.1.tar.gz
StartedAt: 2022-01-23 21:00:09 -0500 (Sun, 23 Jan 2022)
EndedAt: 2022-01-23 21:01:14 -0500 (Sun, 23 Jan 2022)
EllapsedTime: 64.8 seconds
RetCode: 0
Status:   OK  
PackageFile: heatmaps_1.19.1.zip
PackageFileSize: 8.357 MiB

Command output

##############################################################################
##############################################################################
###
### Running command:
###
###   rm -rf heatmaps.buildbin-libdir && mkdir heatmaps.buildbin-libdir && D:\biocbuild\bbs-3.15-bioc\R\bin\R.exe CMD INSTALL --build --library=heatmaps.buildbin-libdir heatmaps_1.19.1.tar.gz
###
##############################################################################
##############################################################################


* installing *source* package 'heatmaps' ...
** using staged installation
** R
** data
** inst
** byte-compile and prepare package for lazy loading
Creating a new generic function for 'scale' in package 'heatmaps'
** help
*** installing help indices
  converting help for package 'heatmaps'
    finding HTML links ... done
    CoverageHeatmap                         html  
    Heatmap-class                           html  
    Heatmap                                 html  
    HeatmapExamples                         html  
    PWMScanHeatmap                          html  
    PatternHeatmap                          html  
    coords                                  html  
    default_color                           html  
    getScale                                html  
    heatmapOptions                          html  
    image                                   html  
    label                                   html  
    length-Heatmap-method                   html  
    metadata                                html  
    nseq                                    html  
    plotHeatmap                             html  
    plotHeatmapList                         html  
    plotHeatmapMeta                         html  
    plotPatternDensityMap                   html  
    plot_clusters                           html  
    plot_legend                             html  
    rev-Heatmap-method                      html  
    scale                                   html  
    smoothHeatmap                           html  
    width-Heatmap-method                    html  
    xm                                      html  
    ym                                      html  
** building package indices
** installing vignettes
** testing if installed package can be loaded from temporary location
** testing if installed package can be loaded from final location
** testing if installed package keeps a record of temporary installation path
* MD5 sums
packaged installation of 'heatmaps' as heatmaps_1.19.1.zip
* DONE (heatmaps)