Name | Last modified | Size | Description | |
---|---|---|---|---|
Parent Directory | - | |||
install-summary.dcf | 12-Jul-2024 01:00 | 273 | ||
install-out.txt | 12-Jul-2024 01:00 | 1.0K | ||
checksrc-summary.dcf | 12-Jul-2024 01:00 | 457 | ||
checksrc-out.txt | 12-Jul-2024 01:00 | 7.8K | ||
buildsrc-summary.dcf | 12-Jul-2024 01:00 | 457 | ||
buildsrc-out.txt | 12-Jul-2024 01:00 | 904 | ||
buildbin-summary.dcf | 12-Jul-2024 01:00 | 518 | ||
buildbin-out.txt | 12-Jul-2024 01:00 | 1.1K | ||