Back to Multiple platform build/check report for BioC 3.15
ABCDEFG[H]IJKLMNOPQRSTUVWXYZ

This page was generated on 2022-01-15 11:06:05 -0500 (Sat, 15 Jan 2022).

HostnameOSArch (*)R versionInstalled pkgs
nebbiolo1Linux (Ubuntu 20.04.4 LTS)x86_64R Under development (unstable) (2022-01-05 r81451) -- "Unsuffered Consequences" 4160
riesling1Windows Server 2019 Standardx64R Under development (unstable) (2021-11-21 r81221) -- "Unsuffered Consequences" 4055
palomino3Windows Server 2022 Datacenterx64R Under development (unstable) (2021-12-21 r81400 ucrt) -- "Unsuffered Consequences" 3997
merida1macOS 10.14.6 Mojavex86_64R Under development (unstable) (2022-01-05 r81451) -- "Unsuffered Consequences" 4114
Click on any hostname to see more info about the system (e.g. compilers)      (*) as reported by 'uname -p', except on Windows and Mac OS X

INSTALL results for h5vc on nebbiolo1


To the developers/maintainers of the h5vc package:
- Please allow up to 24 hours (and sometimes 48 hours) for your latest push to git@git.bioconductor.org:packages/h5vc.git to
reflect on this report. See How and When does the builder pull? When will my changes propagate? here for more information.
- Make sure to use the following settings in order to reproduce any error or warning you see on this page.

raw results

Package 847/2074HostnameOS / ArchINSTALLBUILDCHECKBUILD BIN
h5vc 2.29.0  (landing page)
Paul Theodor Pyl
Snapshot Date: 2022-01-14 13:55:18 -0500 (Fri, 14 Jan 2022)
git_url: https://git.bioconductor.org/packages/h5vc
git_branch: master
git_last_commit: 08307f2
git_last_commit_date: 2021-10-26 12:10:50 -0500 (Tue, 26 Oct 2021)
nebbiolo1Linux (Ubuntu 20.04.4 LTS) / x86_64  OK    OK    WARNINGS  UNNEEDED, same version is already published
riesling1Windows Server 2019 Standard / x64  OK    OK    WARNINGS    OK  
palomino3Windows Server 2022 Datacenter / x64  OK    OK    WARNINGS    OK  NO, package depends on 'S4Vectors' which is not available
merida1macOS 10.14.6 Mojave / x86_64  OK    OK    WARNINGS    OK  UNNEEDED, same version is already published

Summary

Package: h5vc
Version: 2.29.0
Command: /home/biocbuild/bbs-3.15-bioc/R/bin/R CMD INSTALL h5vc
StartedAt: 2022-01-14 15:14:32 -0500 (Fri, 14 Jan 2022)
EndedAt: 2022-01-14 15:14:52 -0500 (Fri, 14 Jan 2022)
EllapsedTime: 20.8 seconds
RetCode: 0
Status:   OK  

Command output

##############################################################################
##############################################################################
###
### Running command:
###
###   /home/biocbuild/bbs-3.15-bioc/R/bin/R CMD INSTALL h5vc
###
##############################################################################
##############################################################################


* installing to library ‘/home/biocbuild/bbs-3.15-bioc/R/library’
* installing *source* package ‘h5vc’ ...
** using staged installation
** libs
gcc -I"/home/biocbuild/bbs-3.15-bioc/R/include" -DNDEBUG -D_FILE_OFFSET_BITS=64 -I'/home/biocbuild/bbs-3.15-bioc/R/library/Rhtslib/include' -I/usr/local/include   -fpic  -g -O2  -Wall -c bam.c -o bam.o
gcc -I"/home/biocbuild/bbs-3.15-bioc/R/include" -DNDEBUG -D_FILE_OFFSET_BITS=64 -I'/home/biocbuild/bbs-3.15-bioc/R/library/Rhtslib/include' -I/usr/local/include   -fpic  -g -O2  -Wall -c bam_plbuf.c -o bam_plbuf.o
gcc -I"/home/biocbuild/bbs-3.15-bioc/R/include" -DNDEBUG -D_FILE_OFFSET_BITS=64 -I'/home/biocbuild/bbs-3.15-bioc/R/library/Rhtslib/include' -I/usr/local/include   -fpic  -g -O2  -Wall -c sam.c -o sam.o
g++ -std=gnu++14 -I"/home/biocbuild/bbs-3.15-bioc/R/include" -DNDEBUG -D_FILE_OFFSET_BITS=64 -I'/home/biocbuild/bbs-3.15-bioc/R/library/Rhtslib/include' -I/usr/local/include   -fpic  -g -O2  -Wall -c tallyBAM.cpp -o tallyBAM.o
tallyBAM.cpp: In function ‘int pileup_func_old(uint32_t, uint32_t, int, const bam_pileup1_t*, void*)’:
tallyBAM.cpp:47:7: warning: unused variable ‘len’ [-Wunused-variable]
   47 |   int len = nttable->end - nttable->beg;
      |       ^~~
tallyBAM.cpp: In function ‘int pileup_func(uint32_t, uint32_t, int, const bam_pileup1_t*, void*)’:
tallyBAM.cpp:96:7: warning: unused variable ‘len’ [-Wunused-variable]
   96 |   int len = nttable->end - nttable->beg;
      |       ^~~
tallyBAM.cpp: In function ‘int _tallyBAM(char**, char**, int*, int*, int*, int*, int*, int*, int*, int*)’:
tallyBAM.cpp:140:6: warning: unused variable ‘c’ [-Wunused-variable]
  140 |  int c = 0;
      |      ^
tallyBAM.cpp: At global scope:
tallyBAM.cpp:43:12: warning: ‘int pileup_func_old(uint32_t, uint32_t, int, const bam_pileup1_t*, void*)’ defined but not used [-Wunused-function]
   43 | static int pileup_func_old(uint32_t tid, uint32_t pos, int n, const bam_pileup1_t *pl, void *data)
      |            ^~~~~~~~~~~~~~~
g++ -std=gnu++14 -shared -L/home/biocbuild/bbs-3.15-bioc/R/lib -L/usr/local/lib -o h5vc.so bam.o bam_plbuf.o sam.o tallyBAM.o /home/biocbuild/bbs-3.15-bioc/R/library/Rhtslib/usrlib/libhts.a -lcurl -L/home/biocbuild/bbs-3.15-bioc/R/lib -lR
installing to /home/biocbuild/bbs-3.15-bioc/R/library/00LOCK-h5vc/00new/h5vc/libs
** R
** data
** inst
** byte-compile and prepare package for lazy loading
Warning: replacing previous import ‘Biostrings::pattern’ by ‘grid::pattern’ when loading ‘h5vc’
** help
*** installing help indices
** building package indices
** installing vignettes
** testing if installed package can be loaded from temporary location
Warning: replacing previous import ‘Biostrings::pattern’ by ‘grid::pattern’ when loading ‘h5vc’
** checking absolute paths in shared objects and dynamic libraries
** testing if installed package can be loaded from final location
Warning: replacing previous import ‘Biostrings::pattern’ by ‘grid::pattern’ when loading ‘h5vc’
** testing if installed package keeps a record of temporary installation path
* DONE (h5vc)