Back to Multiple platform build/check report for BioC 3.15
ABCDEF[G]HIJKLMNOPQRSTUVWXYZ

This page was generated on 2022-01-19 11:07:53 -0500 (Wed, 19 Jan 2022).

HostnameOSArch (*)R versionInstalled pkgs
nebbiolo1Linux (Ubuntu 20.04.4 LTS)x86_64R Under development (unstable) (2022-01-05 r81451) -- "Unsuffered Consequences" 4161
riesling1Windows Server 2019 Standardx64R Under development (unstable) (2021-11-21 r81221) -- "Unsuffered Consequences" 4056
palomino3Windows Server 2022 Datacenterx64R Under development (unstable) (2021-12-21 r81400 ucrt) -- "Unsuffered Consequences" 3998
merida1macOS 10.14.6 Mojavex86_64R Under development (unstable) (2022-01-05 r81451) -- "Unsuffered Consequences" 4115
Click on any hostname to see more info about the system (e.g. compilers)      (*) as reported by 'uname -p', except on Windows and Mac OS X

INSTALL results for gwascat on riesling1


To the developers/maintainers of the gwascat package:
- Please allow up to 24 hours (and sometimes 48 hours) for your latest push to git@git.bioconductor.org:packages/gwascat.git to
reflect on this report. See How and When does the builder pull? When will my changes propagate? here for more information.
- Make sure to use the following settings in order to reproduce any error or warning you see on this page.

raw results

Package 843/2074HostnameOS / ArchINSTALLBUILDCHECKBUILD BIN
gwascat 2.27.0  (landing page)
VJ Carey
Snapshot Date: 2022-01-18 13:55:18 -0500 (Tue, 18 Jan 2022)
git_url: https://git.bioconductor.org/packages/gwascat
git_branch: master
git_last_commit: 126f159
git_last_commit_date: 2021-10-26 12:02:07 -0500 (Tue, 26 Oct 2021)
nebbiolo1Linux (Ubuntu 20.04.4 LTS) / x86_64  OK    OK    OK  UNNEEDED, same version is already published
riesling1Windows Server 2019 Standard / x64  OK    OK    OK    OK  
palomino3Windows Server 2022 Datacenter / x64  OK    OK    OK    OK  NO, package depends on 'S4Vectors' which is not available
merida1macOS 10.14.6 Mojave / x86_64  OK    OK    OK    OK  UNNEEDED, same version is already published

Summary

Package: gwascat
Version: 2.27.0
Command: D:\biocbuild\bbs-3.15-bioc\R\bin\R.exe CMD INSTALL gwascat
StartedAt: 2022-01-18 16:01:52 -0500 (Tue, 18 Jan 2022)
EndedAt: 2022-01-18 16:03:50 -0500 (Tue, 18 Jan 2022)
EllapsedTime: 118.3 seconds
RetCode: 0
Status:   OK  

Command output

##############################################################################
##############################################################################
###
### Running command:
###
###   D:\biocbuild\bbs-3.15-bioc\R\bin\R.exe CMD INSTALL gwascat
###
##############################################################################
##############################################################################


* installing to library 'D:/biocbuild/bbs-3.15-bioc/R/library'
* installing *source* package 'gwascat' ...
** using staged installation
** R
** data
** inst
** byte-compile and prepare package for lazy loading
** help
*** installing help indices
  converting help for package 'gwascat'
    finding HTML links ... done
    bindcadd_snv                            html  
    chklocs                                 html  
    ebicat_2020_04_30                       html  
    g17SM                                   html  
    getRsids-gwaswloc-method                html  
    getRsids                                html  
    getTraits-gwaswloc-method               html  
    getTraits                               html  
    get_cached_gwascat                      html  
    gg17N                                   html  
    gr6.0_hg38                              html  
    gw6.rs_17                               html  
    gwascat_from_AHub                       html  
    gwastagger                              html  
    gwaswloc-class                          html  
    gwcat_snapshot                          html  
    gwcex2gviz                              html  
    ldtagr                                  html  
    locon6                                  html  
    locs4trait                              html  
    low17                                   html  
    makeCurrentGwascat                      html  
    obo2graphNEL                            html  
    process_gwas_dataframe                  html  
    riskyAlleleCount                        html  
    si.hs.37                                html  
    si.hs.38                                html  
    sub-gwaswloc-ANY-ANY-ANY-method         html  
    subsetByChromosome-gwaswloc-method      html  
    subsetByChromosome                      html  
    subsetByTraits-gwaswloc-method          html  
    subsetByTraits                          html  
    topTraits                               html  
    traitsManh                              html  
** building package indices
** installing vignettes
** testing if installed package can be loaded from temporary location
** testing if installed package can be loaded from final location
** testing if installed package keeps a record of temporary installation path
* DONE (gwascat)
Making 'packages.html' ...Warning in packageDescription(i, lib.loc = lib, fields = "Title", encoding = "UTF-8") :
  DESCRIPTION file of package 'openCyto' is missing or broken
 done