The requested URL /checkResults/devel/bioc-LATEST/gwascat/riesling1-buildsrc.html was not found on this server.