Back to Multiple platform build/check report for BioC 3.15
ABCDEF[G]HIJKLMNOPQRSTUVWXYZ

This page was generated on 2022-01-21 11:07:41 -0500 (Fri, 21 Jan 2022).

HostnameOSArch (*)R versionInstalled pkgs
nebbiolo1Linux (Ubuntu 20.04.4 LTS)x86_64R Under development (unstable) (2022-01-05 r81451) -- "Unsuffered Consequences" 4163
riesling1Windows Server 2019 Standardx64R Under development (unstable) (2021-11-21 r81221) -- "Unsuffered Consequences" 4058
palomino3Windows Server 2022 Datacenterx64R Under development (unstable) (2021-12-21 r81400 ucrt) -- "Unsuffered Consequences" 4000
merida1macOS 10.14.6 Mojavex86_64R Under development (unstable) (2022-01-05 r81451) -- "Unsuffered Consequences" 4117
Click on any hostname to see more info about the system (e.g. compilers)      (*) as reported by 'uname -p', except on Windows and Mac OS X

CHECK results for groHMM on riesling1


To the developers/maintainers of the groHMM package:
- Please allow up to 24 hours (and sometimes 48 hours) for your latest push to git@git.bioconductor.org:packages/groHMM.git to
reflect on this report. See How and When does the builder pull? When will my changes propagate? here for more information.
- Make sure to use the following settings in order to reproduce any error or warning you see on this page.

raw results

Package 823/2075HostnameOS / ArchINSTALLBUILDCHECKBUILD BIN
groHMM 1.29.1  (landing page)
Anusha Nagari , Tulip Nandu , W. Lee Kraus
Snapshot Date: 2022-01-20 13:55:17 -0500 (Thu, 20 Jan 2022)
git_url: https://git.bioconductor.org/packages/groHMM
git_branch: master
git_last_commit: 0d1e238
git_last_commit_date: 2021-11-18 17:10:38 -0500 (Thu, 18 Nov 2021)
nebbiolo1Linux (Ubuntu 20.04.4 LTS) / x86_64  OK    OK    OK  UNNEEDED, same version is already published
riesling1Windows Server 2019 Standard / x64  OK    OK    OK    OK  
palomino3Windows Server 2022 Datacenter / x64  OK    OK    OK    OK  NO, package depends on 'S4Vectors' which is not available
merida1macOS 10.14.6 Mojave / x86_64  OK    OK    OK    OK  UNNEEDED, same version is already published

Summary

Package: groHMM
Version: 1.29.1
Command: D:\biocbuild\bbs-3.15-bioc\R\bin\R.exe CMD check --no-multiarch --install=check:groHMM.install-out.txt --library=D:\biocbuild\bbs-3.15-bioc\R\library --no-vignettes --timings groHMM_1.29.1.tar.gz
StartedAt: 2022-01-20 19:03:45 -0500 (Thu, 20 Jan 2022)
EndedAt: 2022-01-20 19:07:21 -0500 (Thu, 20 Jan 2022)
EllapsedTime: 215.8 seconds
RetCode: 0
Status:   OK  
CheckDir: groHMM.Rcheck
Warnings: 0

Command output

##############################################################################
##############################################################################
###
### Running command:
###
###   D:\biocbuild\bbs-3.15-bioc\R\bin\R.exe CMD check --no-multiarch --install=check:groHMM.install-out.txt --library=D:\biocbuild\bbs-3.15-bioc\R\library --no-vignettes --timings groHMM_1.29.1.tar.gz
###
##############################################################################
##############################################################################


* using log directory 'D:/biocbuild/bbs-3.15-bioc/meat/groHMM.Rcheck'
* using R Under development (unstable) (2021-11-21 r81221)
* using platform: x86_64-w64-mingw32 (64-bit)
* using session charset: ISO8859-1
* using option '--no-vignettes'
* checking for file 'groHMM/DESCRIPTION' ... OK
* this is package 'groHMM' version '1.29.1'
* checking package namespace information ... OK
* checking package dependencies ... NOTE
Depends: includes the non-default packages:
  'MASS', 'parallel', 'S4Vectors', 'IRanges', 'GenomeInfoDb',
  'GenomicRanges', 'GenomicAlignments', 'rtracklayer'
Adding so many packages to the search path is excessive and importing
selectively is preferable.
* checking if this is a source package ... OK
* checking if there is a namespace ... OK
* checking for hidden files and directories ... OK
* checking for portable file names ... OK
* checking whether package 'groHMM' can be installed ... OK
* checking installed package size ... OK
* checking package directory ... OK
* checking 'build' directory ... OK
* checking DESCRIPTION meta-information ... OK
* checking top-level files ... OK
* checking for left-over files ... OK
* checking index information ... OK
* checking package subdirectories ... OK
* checking R files for non-ASCII characters ... OK
* checking R files for syntax errors ... OK
* checking whether the package can be loaded ... OK
* checking whether the package can be loaded with stated dependencies ... OK
* checking whether the package can be unloaded cleanly ... OK
* checking whether the namespace can be loaded with stated dependencies ... OK
* checking whether the namespace can be unloaded cleanly ... OK
* checking dependencies in R code ... OK
* checking S3 generic/method consistency ... OK
* checking replacement functions ... OK
* checking foreign function calls ... OK
* checking R code for possible problems ... OK
* checking Rd files ... OK
* checking Rd metadata ... OK
* checking Rd cross-references ... OK
* checking for missing documentation entries ... OK
* checking for code/documentation mismatches ... OK
* checking Rd \usage sections ... OK
* checking Rd contents ... OK
* checking for unstated dependencies in examples ... OK
* checking line endings in C/C++/Fortran sources/headers ... OK
* checking compiled code ... NOTE
Note: information on .o files for x64 is not available
File 'D:/biocbuild/bbs-3.15-bioc/R/library/groHMM/libs/x64/groHMM.dll':
  Found 'abort', possibly from 'abort' (C), 'runtime' (Fortran)

Compiled code should not call entry points which might terminate R nor
write to stdout/stderr instead of to the console, nor use Fortran I/O
nor system RNGs. The detected symbols are linked into the code but
might come from libraries and not actually be called.

See 'Writing portable packages' in the 'Writing R Extensions' manual.
* checking files in 'vignettes' ... OK
* checking examples ... OK
* checking for unstated dependencies in vignettes ... OK
* checking package vignettes in 'inst/doc' ... OK
* checking running R code from vignettes ... SKIPPED
* checking re-building of vignette outputs ... SKIPPED
* checking PDF version of manual ... OK
* DONE

Status: 2 NOTEs
See
  'D:/biocbuild/bbs-3.15-bioc/meat/groHMM.Rcheck/00check.log'
for details.



Installation output

groHMM.Rcheck/00install.out

##############################################################################
##############################################################################
###
### Running command:
###
###   D:\biocbuild\bbs-3.15-bioc\R\bin\R.exe CMD INSTALL groHMM
###
##############################################################################
##############################################################################


* installing to library 'D:/biocbuild/bbs-3.15-bioc/R/library'
* installing *source* package 'groHMM' ...
** using staged installation
** libs
"C:/rtools40/mingw64/bin/"gcc  -I"D:/biocbuild/bbs-3.15-bioc/R/include" -DNDEBUG     -I"C:/extsoft/include"     -O2 -Wall  -std=gnu99 -mfpmath=sse -msse2 -mstackrealign -fno-reorder-blocks-and-partition  -c AnnotateProbes.c -o AnnotateProbes.o
"C:/rtools40/mingw64/bin/"gcc  -I"D:/biocbuild/bbs-3.15-bioc/R/include" -DNDEBUG     -I"C:/extsoft/include"     -O2 -Wall  -std=gnu99 -mfpmath=sse -msse2 -mstackrealign -fno-reorder-blocks-and-partition  -c DecayAlgorithm.c -o DecayAlgorithm.o
"C:/rtools40/mingw64/bin/"gcc  -I"D:/biocbuild/bbs-3.15-bioc/R/include" -DNDEBUG     -I"C:/extsoft/include"     -O2 -Wall  -std=gnu99 -mfpmath=sse -msse2 -mstackrealign -fno-reorder-blocks-and-partition  -c MLEfit.c -o MLEfit.o
In file included from MLEfit.c:44:
hmmHeader.h:301:16: warning: 'expSum' defined but not used [-Wunused-function]
 static  double expSum(double *logValues, int length) {
                ^~~~~~
hmmHeader.h:281:16: warning: 'MargainalizeSumLogProbOver' defined but not used [-Wunused-function]
 static  double MargainalizeSumLogProbOver(int state, int position,
                ^~~~~~~~~~~~~~~~~~~~~~~~~~
"C:/rtools40/mingw64/bin/"gcc  -I"D:/biocbuild/bbs-3.15-bioc/R/include" -DNDEBUG     -I"C:/extsoft/include"     -O2 -Wall  -std=gnu99 -mfpmath=sse -msse2 -mstackrealign -fno-reorder-blocks-and-partition  -c RegisterRRoutines.c -o RegisterRRoutines.o
"C:/rtools40/mingw64/bin/"gcc  -I"D:/biocbuild/bbs-3.15-bioc/R/include" -DNDEBUG     -I"C:/extsoft/include"     -O2 -Wall  -std=gnu99 -mfpmath=sse -msse2 -mstackrealign -fno-reorder-blocks-and-partition  -c Windowing.c -o Windowing.o
Windowing.c: In function 'WindowAnalysis':
Windowing.c:147:6: warning: unused variable 'II' [-Wunused-variable]
  int II = 0;
      ^~
"C:/rtools40/mingw64/bin/"gcc  -I"D:/biocbuild/bbs-3.15-bioc/R/include" -DNDEBUG     -I"C:/extsoft/include"     -O2 -Wall  -std=gnu99 -mfpmath=sse -msse2 -mstackrealign -fno-reorder-blocks-and-partition  -c hmmEM.c -o hmmEM.o
In file included from hmmEM.c:51:
hmmHeader.h:301:16: warning: 'expSum' defined but not used [-Wunused-function]
 static  double expSum(double *logValues, int length) {
                ^~~~~~
hmmHeader.h:281:16: warning: 'MargainalizeSumLogProbOver' defined but not used [-Wunused-function]
 static  double MargainalizeSumLogProbOver(int state, int position,
                ^~~~~~~~~~~~~~~~~~~~~~~~~~
In file included from hmmHeader.h:36,
                 from hmmEM.c:51:
UsefulValues.h:39:15: warning: 'VERY_LARGE_DOUBLE_VALUE' defined but not used [-Wunused-variable]
 static double VERY_LARGE_DOUBLE_VALUE = 1e20;
               ^~~~~~~~~~~~~~~~~~~~~~~
"C:/rtools40/mingw64/bin/"gcc  -I"D:/biocbuild/bbs-3.15-bioc/R/include" -DNDEBUG     -I"C:/extsoft/include"     -O2 -Wall  -std=gnu99 -mfpmath=sse -msse2 -mstackrealign -fno-reorder-blocks-and-partition  -c hmmFwBw.c -o hmmFwBw.o
hmmFwBw.c: In function 'forward':
hmmFwBw.c:143:7: warning: this 'for' clause does not guard... [-Wmisleading-indentation]
       for(k=1; k<n; k++)
       ^~~
hmmFwBw.c:146:9: note: ...this statement, but the latter is misleadingly indented as if it were guarded by the 'for'
         for (k = 0; k<n; k++) {
         ^~~
In file included from hmmFwBw.c:46:
At top level:
hmmHeader.h:301:16: warning: 'expSum' defined but not used [-Wunused-function]
 static  double expSum(double *logValues, int length) {
                ^~~~~~
hmmHeader.h:281:16: warning: 'MargainalizeSumLogProbOver' defined but not used [-Wunused-function]
 static  double MargainalizeSumLogProbOver(int state, int position,
                ^~~~~~~~~~~~~~~~~~~~~~~~~~
In file included from hmmHeader.h:36,
                 from hmmFwBw.c:46:
UsefulValues.h:39:15: warning: 'VERY_LARGE_DOUBLE_VALUE' defined but not used [-Wunused-variable]
 static double VERY_LARGE_DOUBLE_VALUE = 1e20;
               ^~~~~~~~~~~~~~~~~~~~~~~
"C:/rtools40/mingw64/bin/"gcc  -I"D:/biocbuild/bbs-3.15-bioc/R/include" -DNDEBUG     -I"C:/extsoft/include"     -O2 -Wall  -std=gnu99 -mfpmath=sse -msse2 -mstackrealign -fno-reorder-blocks-and-partition  -c hmmMiscFunctions.c -o hmmMiscFunctions.o
hmmMiscFunctions.c: In function 'SStatsNormExp':
hmmMiscFunctions.c:385:10: warning: unused variable 'wi' [-Wunused-variable]
   double wi, *newEx;
          ^~
hmmMiscFunctions.c: In function 'UpdateNormExp':
hmmMiscFunctions.c:418:10: warning: unused variable 'epsilon' [-Wunused-variable]
   double epsilon=0.00001;
          ^~~~~~~
In file included from hmmHeader.h:36,
                 from hmmMiscFunctions.c:44:
At top level:
UsefulValues.h:39:15: warning: 'VERY_LARGE_DOUBLE_VALUE' defined but not used [-Wunused-variable]
 static double VERY_LARGE_DOUBLE_VALUE = 1e20;
               ^~~~~~~~~~~~~~~~~~~~~~~
"C:/rtools40/mingw64/bin/"gcc  -I"D:/biocbuild/bbs-3.15-bioc/R/include" -DNDEBUG     -I"C:/extsoft/include"     -O2 -Wall  -std=gnu99 -mfpmath=sse -msse2 -mstackrealign -fno-reorder-blocks-and-partition  -c hmmViterbi.c -o hmmViterbi.o
In file included from hmmViterbi.c:49:
hmmHeader.h:301:16: warning: 'expSum' defined but not used [-Wunused-function]
 static  double expSum(double *logValues, int length) {
                ^~~~~~
hmmHeader.h:281:16: warning: 'MargainalizeSumLogProbOver' defined but not used [-Wunused-function]
 static  double MargainalizeSumLogProbOver(int state, int position,
                ^~~~~~~~~~~~~~~~~~~~~~~~~~
In file included from hmmHeader.h:36,
                 from hmmViterbi.c:49:
UsefulValues.h:39:15: warning: 'VERY_LARGE_DOUBLE_VALUE' defined but not used [-Wunused-variable]
 static double VERY_LARGE_DOUBLE_VALUE = 1e20;
               ^~~~~~~~~~~~~~~~~~~~~~~
C:/rtools40/mingw64/bin/gcc -shared -s -static-libgcc -o groHMM.dll tmp.def AnnotateProbes.o DecayAlgorithm.o MLEfit.o RegisterRRoutines.o Windowing.o hmmEM.o hmmFwBw.o hmmMiscFunctions.o hmmViterbi.o -LC:/extsoft/lib/x64 -LC:/extsoft/lib -LD:/biocbuild/bbs-3.15-bioc/R/bin/x64 -lR
installing to D:/biocbuild/bbs-3.15-bioc/R/library/00LOCK-groHMM/00new/groHMM/libs/x64
** R
** inst
** byte-compile and prepare package for lazy loading
** help
*** installing help indices
  converting help for package 'groHMM'
    finding HTML links ... done
    RgammaMLE                               html  
    Rnorm                                   html  
    Rnorm.exp                               html  
    averagePlot                             html  
    breakTranscriptsOnGenes                 html  
    combineTranscripts                      html  
    countMappableReadsInInterval            html  
    detectTranscripts                       html  
    evaluateHMMInAnnotations                html  
    expressedGenes                          html  
    getCores                                html  
    getTxDensity                            html  
    groHMM-package                          html  
    limitToXkb                              html  
    makeConsensusAnnotations                html  
    metaGene                                html  
    metaGeneMatrix                          html  
    metaGene_nL                             html  
    pausingIndex                            html  
    polymeraseWave                          html  
    readBed                                 html  
    runMetaGene                             html  
    tlsDeming                               html  
    tlsLoess                                html  
    tlsSvd                                  html  
    windowAnalysis                          html  
    writeWiggle                             html  
** building package indices
** installing vignettes
** testing if installed package can be loaded from temporary location
** testing if installed package can be loaded from final location
** testing if installed package keeps a record of temporary installation path
* DONE (groHMM)
Making 'packages.html' ...Warning in packageDescription(i, lib.loc = lib, fields = "Title", encoding = "UTF-8") :
  DESCRIPTION file of package 'TitanCNA' is missing or broken
Warning in packageDescription(i, lib.loc = lib, fields = "Title", encoding = "UTF-8") :
  DESCRIPTION file of package 'VariantTools' is missing or broken
 done

Tests output


Example timings

groHMM.Rcheck/groHMM-Ex.timings

nameusersystemelapsed
breakTranscriptsOnGenes0.400.030.47
combineTranscripts0.200.000.56
detectTranscripts0.240.140.48
evaluateHMMInAnnotations0.120.000.16
getCores000
getTxDensity0.020.000.01
limitToXkb0.060.000.06
makeConsensusAnnotations000
metaGene0.060.000.07
pausingIndex0.890.010.90
polymeraseWave0.610.130.78
runMetaGene0.030.000.07
windowAnalysis0.250.030.36
writeWiggle0.280.030.37