Back to Multiple platform build/check report for BioC 3.15
ABCDEF[G]HIJKLMNOPQRSTUVWXYZ

This page was generated on 2022-01-18 11:07:26 -0500 (Tue, 18 Jan 2022).

HostnameOSArch (*)R versionInstalled pkgs
nebbiolo1Linux (Ubuntu 20.04.4 LTS)x86_64R Under development (unstable) (2022-01-05 r81451) -- "Unsuffered Consequences" 4161
riesling1Windows Server 2019 Standardx64R Under development (unstable) (2021-11-21 r81221) -- "Unsuffered Consequences" 4056
palomino3Windows Server 2022 Datacenterx64R Under development (unstable) (2021-12-21 r81400 ucrt) -- "Unsuffered Consequences" 3998
merida1macOS 10.14.6 Mojavex86_64R Under development (unstable) (2022-01-05 r81451) -- "Unsuffered Consequences" 4115
Click on any hostname to see more info about the system (e.g. compilers)      (*) as reported by 'uname -p', except on Windows and Mac OS X

BUILD BIN results for groHMM on riesling1


To the developers/maintainers of the groHMM package:
- Please allow up to 24 hours (and sometimes 48 hours) for your latest push to git@git.bioconductor.org:packages/groHMM.git to
reflect on this report. See How and When does the builder pull? When will my changes propagate? here for more information.
- Make sure to use the following settings in order to reproduce any error or warning you see on this page.

raw results

Package 823/2074HostnameOS / ArchINSTALLBUILDCHECKBUILD BIN
groHMM 1.29.1  (landing page)
Anusha Nagari , Tulip Nandu , W. Lee Kraus
Snapshot Date: 2022-01-17 13:55:17 -0500 (Mon, 17 Jan 2022)
git_url: https://git.bioconductor.org/packages/groHMM
git_branch: master
git_last_commit: 0d1e238
git_last_commit_date: 2021-11-18 17:10:38 -0500 (Thu, 18 Nov 2021)
nebbiolo1Linux (Ubuntu 20.04.4 LTS) / x86_64  OK    OK    OK  UNNEEDED, same version is already published
riesling1Windows Server 2019 Standard / x64  OK    OK    OK    OK  
palomino3Windows Server 2022 Datacenter / x64  OK    OK    OK    OK  NO, package depends on 'S4Vectors' which is not available
merida1macOS 10.14.6 Mojave / x86_64  OK    OK    OK    OK  UNNEEDED, same version is already published

Summary

Package: groHMM
Version: 1.29.1
Command: rm -rf groHMM.buildbin-libdir && mkdir groHMM.buildbin-libdir && D:\biocbuild\bbs-3.15-bioc\R\bin\R.exe CMD INSTALL --build --library=groHMM.buildbin-libdir groHMM_1.29.1.tar.gz
StartedAt: 2022-01-17 21:01:39 -0500 (Mon, 17 Jan 2022)
EndedAt: 2022-01-17 21:02:38 -0500 (Mon, 17 Jan 2022)
EllapsedTime: 58.7 seconds
RetCode: 0
Status:   OK  
PackageFile: groHMM_1.29.1.zip
PackageFileSize: 4.287 MiB

Command output

##############################################################################
##############################################################################
###
### Running command:
###
###   rm -rf groHMM.buildbin-libdir && mkdir groHMM.buildbin-libdir && D:\biocbuild\bbs-3.15-bioc\R\bin\R.exe CMD INSTALL --build --library=groHMM.buildbin-libdir groHMM_1.29.1.tar.gz
###
##############################################################################
##############################################################################


* installing *source* package 'groHMM' ...
** using staged installation
** libs
"C:/rtools40/mingw64/bin/"gcc  -I"D:/biocbuild/bbs-3.15-bioc/R/include" -DNDEBUG     -I"C:/extsoft/include"     -O2 -Wall  -std=gnu99 -mfpmath=sse -msse2 -mstackrealign -fno-reorder-blocks-and-partition  -c AnnotateProbes.c -o AnnotateProbes.o
"C:/rtools40/mingw64/bin/"gcc  -I"D:/biocbuild/bbs-3.15-bioc/R/include" -DNDEBUG     -I"C:/extsoft/include"     -O2 -Wall  -std=gnu99 -mfpmath=sse -msse2 -mstackrealign -fno-reorder-blocks-and-partition  -c DecayAlgorithm.c -o DecayAlgorithm.o
"C:/rtools40/mingw64/bin/"gcc  -I"D:/biocbuild/bbs-3.15-bioc/R/include" -DNDEBUG     -I"C:/extsoft/include"     -O2 -Wall  -std=gnu99 -mfpmath=sse -msse2 -mstackrealign -fno-reorder-blocks-and-partition  -c MLEfit.c -o MLEfit.o
In file included from MLEfit.c:44:
hmmHeader.h:301:16: warning: 'expSum' defined but not used [-Wunused-function]
 static  double expSum(double *logValues, int length) {
                ^~~~~~
hmmHeader.h:281:16: warning: 'MargainalizeSumLogProbOver' defined but not used [-Wunused-function]
 static  double MargainalizeSumLogProbOver(int state, int position,
                ^~~~~~~~~~~~~~~~~~~~~~~~~~
"C:/rtools40/mingw64/bin/"gcc  -I"D:/biocbuild/bbs-3.15-bioc/R/include" -DNDEBUG     -I"C:/extsoft/include"     -O2 -Wall  -std=gnu99 -mfpmath=sse -msse2 -mstackrealign -fno-reorder-blocks-and-partition  -c RegisterRRoutines.c -o RegisterRRoutines.o
"C:/rtools40/mingw64/bin/"gcc  -I"D:/biocbuild/bbs-3.15-bioc/R/include" -DNDEBUG     -I"C:/extsoft/include"     -O2 -Wall  -std=gnu99 -mfpmath=sse -msse2 -mstackrealign -fno-reorder-blocks-and-partition  -c Windowing.c -o Windowing.o
Windowing.c: In function 'WindowAnalysis':
Windowing.c:147:6: warning: unused variable 'II' [-Wunused-variable]
  int II = 0;
      ^~
"C:/rtools40/mingw64/bin/"gcc  -I"D:/biocbuild/bbs-3.15-bioc/R/include" -DNDEBUG     -I"C:/extsoft/include"     -O2 -Wall  -std=gnu99 -mfpmath=sse -msse2 -mstackrealign -fno-reorder-blocks-and-partition  -c hmmEM.c -o hmmEM.o
In file included from hmmEM.c:51:
hmmHeader.h:301:16: warning: 'expSum' defined but not used [-Wunused-function]
 static  double expSum(double *logValues, int length) {
                ^~~~~~
hmmHeader.h:281:16: warning: 'MargainalizeSumLogProbOver' defined but not used [-Wunused-function]
 static  double MargainalizeSumLogProbOver(int state, int position,
                ^~~~~~~~~~~~~~~~~~~~~~~~~~
In file included from hmmHeader.h:36,
                 from hmmEM.c:51:
UsefulValues.h:39:15: warning: 'VERY_LARGE_DOUBLE_VALUE' defined but not used [-Wunused-variable]
 static double VERY_LARGE_DOUBLE_VALUE = 1e20;
               ^~~~~~~~~~~~~~~~~~~~~~~
"C:/rtools40/mingw64/bin/"gcc  -I"D:/biocbuild/bbs-3.15-bioc/R/include" -DNDEBUG     -I"C:/extsoft/include"     -O2 -Wall  -std=gnu99 -mfpmath=sse -msse2 -mstackrealign -fno-reorder-blocks-and-partition  -c hmmFwBw.c -o hmmFwBw.o
hmmFwBw.c: In function 'forward':
hmmFwBw.c:143:7: warning: this 'for' clause does not guard... [-Wmisleading-indentation]
       for(k=1; k<n; k++)
       ^~~
hmmFwBw.c:146:9: note: ...this statement, but the latter is misleadingly indented as if it were guarded by the 'for'
         for (k = 0; k<n; k++) {
         ^~~
In file included from hmmFwBw.c:46:
At top level:
hmmHeader.h:301:16: warning: 'expSum' defined but not used [-Wunused-function]
 static  double expSum(double *logValues, int length) {
                ^~~~~~
hmmHeader.h:281:16: warning: 'MargainalizeSumLogProbOver' defined but not used [-Wunused-function]
 static  double MargainalizeSumLogProbOver(int state, int position,
                ^~~~~~~~~~~~~~~~~~~~~~~~~~
In file included from hmmHeader.h:36,
                 from hmmFwBw.c:46:
UsefulValues.h:39:15: warning: 'VERY_LARGE_DOUBLE_VALUE' defined but not used [-Wunused-variable]
 static double VERY_LARGE_DOUBLE_VALUE = 1e20;
               ^~~~~~~~~~~~~~~~~~~~~~~
"C:/rtools40/mingw64/bin/"gcc  -I"D:/biocbuild/bbs-3.15-bioc/R/include" -DNDEBUG     -I"C:/extsoft/include"     -O2 -Wall  -std=gnu99 -mfpmath=sse -msse2 -mstackrealign -fno-reorder-blocks-and-partition  -c hmmMiscFunctions.c -o hmmMiscFunctions.o
hmmMiscFunctions.c: In function 'SStatsNormExp':
hmmMiscFunctions.c:385:10: warning: unused variable 'wi' [-Wunused-variable]
   double wi, *newEx;
          ^~
hmmMiscFunctions.c: In function 'UpdateNormExp':
hmmMiscFunctions.c:418:10: warning: unused variable 'epsilon' [-Wunused-variable]
   double epsilon=0.00001;
          ^~~~~~~
In file included from hmmHeader.h:36,
                 from hmmMiscFunctions.c:44:
At top level:
UsefulValues.h:39:15: warning: 'VERY_LARGE_DOUBLE_VALUE' defined but not used [-Wunused-variable]
 static double VERY_LARGE_DOUBLE_VALUE = 1e20;
               ^~~~~~~~~~~~~~~~~~~~~~~
"C:/rtools40/mingw64/bin/"gcc  -I"D:/biocbuild/bbs-3.15-bioc/R/include" -DNDEBUG     -I"C:/extsoft/include"     -O2 -Wall  -std=gnu99 -mfpmath=sse -msse2 -mstackrealign -fno-reorder-blocks-and-partition  -c hmmViterbi.c -o hmmViterbi.o
In file included from hmmViterbi.c:49:
hmmHeader.h:301:16: warning: 'expSum' defined but not used [-Wunused-function]
 static  double expSum(double *logValues, int length) {
                ^~~~~~
hmmHeader.h:281:16: warning: 'MargainalizeSumLogProbOver' defined but not used [-Wunused-function]
 static  double MargainalizeSumLogProbOver(int state, int position,
                ^~~~~~~~~~~~~~~~~~~~~~~~~~
In file included from hmmHeader.h:36,
                 from hmmViterbi.c:49:
UsefulValues.h:39:15: warning: 'VERY_LARGE_DOUBLE_VALUE' defined but not used [-Wunused-variable]
 static double VERY_LARGE_DOUBLE_VALUE = 1e20;
               ^~~~~~~~~~~~~~~~~~~~~~~
C:/rtools40/mingw64/bin/gcc -shared -s -static-libgcc -o groHMM.dll tmp.def AnnotateProbes.o DecayAlgorithm.o MLEfit.o RegisterRRoutines.o Windowing.o hmmEM.o hmmFwBw.o hmmMiscFunctions.o hmmViterbi.o -LC:/extsoft/lib/x64 -LC:/extsoft/lib -LD:/biocbuild/bbs-3.15-bioc/R/bin/x64 -lR
installing to D:/biocbuild/bbs-3.15-bioc/meat/groHMM.buildbin-libdir/00LOCK-groHMM/00new/groHMM/libs/x64
** R
** inst
** byte-compile and prepare package for lazy loading
** help
*** installing help indices
  converting help for package 'groHMM'
    finding HTML links ... done
    RgammaMLE                               html  
    Rnorm                                   html  
    Rnorm.exp                               html  
    averagePlot                             html  
    breakTranscriptsOnGenes                 html  
    combineTranscripts                      html  
    countMappableReadsInInterval            html  
    detectTranscripts                       html  
    evaluateHMMInAnnotations                html  
    expressedGenes                          html  
    getCores                                html  
    getTxDensity                            html  
    groHMM-package                          html  
    limitToXkb                              html  
    makeConsensusAnnotations                html  
    metaGene                                html  
    metaGeneMatrix                          html  
    metaGene_nL                             html  
    pausingIndex                            html  
    polymeraseWave                          html  
    readBed                                 html  
    runMetaGene                             html  
    tlsDeming                               html  
    tlsLoess                                html  
    tlsSvd                                  html  
    windowAnalysis                          html  
    writeWiggle                             html  
** building package indices
** installing vignettes
** testing if installed package can be loaded from temporary location
** testing if installed package can be loaded from final location
** testing if installed package keeps a record of temporary installation path
* MD5 sums
packaged installation of 'groHMM' as groHMM_1.29.1.zip
* DONE (groHMM)