Index of /checkResults/devel/bioc-LATEST/graphite/raw-results/nebbiolo2

[ICO]NameLast modifiedSizeDescription

[DIR]Parent Directory  -  
[TXT]buildsrc-out.txt02-Jul-2022 00:05 810  
[   ]buildsrc-summary.dcf02-Jul-2022 00:05 420  
[TXT]checksrc-out.txt02-Jul-2022 00:05 3.2K 
[   ]checksrc-summary.dcf02-Jul-2022 00:05 428  
[TXT]install-out.txt02-Jul-2022 00:05 950  
[   ]install-summary.dcf02-Jul-2022 00:05 261