Index of /checkResults/devel/bioc-LATEST/granulator/raw-results
Name
Last modified
Size
Description
Parent Directory
-
info.dcf
09-May-2024 00:35
279
nebbiolo2/
09-May-2024 00:36
-
palomino4/
09-May-2024 00:37
-
merida1/
09-May-2024 00:37
-