Index of /checkResults/devel/bioc-LATEST/goseq/raw-results/palomino4
Name
Last modified
Size
Description
Parent Directory
-
install-summary.dcf
04-May-2024 00:37
264
install-out.txt
04-May-2024 00:37
965
buildsrc-out.txt
04-May-2024 00:37
2.6K
buildsrc-summary.dcf
04-May-2024 00:37
362