Name | Last modified | Size | Description | |
---|---|---|---|---|
Parent Directory | - | |||
buildsrc-out.txt | 29-Mar-2024 00:36 | 2.4K | ||
buildsrc-summary.dcf | 29-Mar-2024 00:36 | 329 | ||
checksrc-out.txt | 29-Feb-2024 01:36 | 4.7K | ||
checksrc-summary.dcf | 29-Feb-2024 01:36 | 406 | ||
install-out.txt | 29-Mar-2024 00:36 | 954 | ||
install-summary.dcf | 29-Mar-2024 00:36 | 255 | ||