Index of /checkResults/devel/bioc-LATEST/goseq/raw-results/merida1
Name
Last modified
Size
Description
Parent Directory
-
install-out.txt
04-May-2024 00:38
1.0K
install-summary.dcf
04-May-2024 00:38
265
buildsrc-out.txt
04-May-2024 00:38
2.5K
buildsrc-summary.dcf
04-May-2024 00:38
340