Index of /checkResults/devel/bioc-LATEST/goseq/raw-results/lconway

[ICO]NameLast modifiedSizeDescription

[DIR]Parent Directory  -  
[TXT]install-out.txt10-Aug-2022 00:07 1.0K 
[   ]install-summary.dcf10-Aug-2022 00:07 265  
[TXT]buildsrc-out.txt10-Aug-2022 00:07 871  
[   ]buildsrc-summary.dcf10-Aug-2022 00:07 421  
[TXT]checksrc-out.txt10-Aug-2022 00:07 4.6K 
[   ]checksrc-summary.dcf10-Aug-2022 00:07 436  
[TXT]buildbin-out.txt10-Aug-2022 00:07 1.1K 
[   ]buildbin-summary.dcf10-Aug-2022 00:07 517