Index of /checkResults/devel/bioc-LATEST/goseq/raw-results
Name
Last modified
Size
Description
Parent Directory
-
nebbiolo2/
05-Jul-2022 00:05
-
palomino4/
05-Jul-2022 00:06
-
info.dcf
05-Jul-2022 00:07
303
lconway/
05-Jul-2022 00:07
-