############################################################################## ############################################################################## ### ### Running command: ### ### C:\cygwin\bin\curl.exe -O http://155.52.207.166/BBS/3.16/bioc/src/contrib/goTools_1.71.0.tar.gz && rm -rf goTools.buildbin-libdir && mkdir goTools.buildbin-libdir && F:\biocbuild\bbs-3.16-bioc\R\bin\R.exe CMD INSTALL --merge-multiarch --build --library=goTools.buildbin-libdir goTools_1.71.0.tar.gz && F:\biocbuild\bbs-3.16-bioc\R\bin\R.exe CMD INSTALL goTools_1.71.0.zip && rm goTools_1.71.0.tar.gz goTools_1.71.0.zip ### ############################################################################## ############################################################################## % Total % Received % Xferd Average Speed Time Time Time Current Dload Upload Total Spent Left Speed 0 0 0 0 0 0 0 0 --:--:-- --:--:-- --:--:-- 0 100 16169 100 16169 0 0 373k 0 --:--:-- --:--:-- --:--:-- 385k only one architecture so ignoring '--merge-multiarch' * installing *source* package 'goTools' ... ** using staged installation ** R ** data ** byte-compile and prepare package for lazy loading ** help *** installing help indices ** building package indices ** installing vignettes ** testing if installed package can be loaded from temporary location ** testing if installed package can be loaded from final location ** testing if installed package keeps a record of temporary installation path * MD5 sums packaged installation of 'goTools' as goTools_1.71.0.zip * DONE (goTools) * installing to library 'F:/biocbuild/bbs-3.16-bioc/R/library' package 'goTools' successfully unpacked and MD5 sums checked